Back to Multiple platform build/check report for BioC 3.14
ABCDEFGH[I]JKLMNOPQRSTUVWXYZ

This page was generated on 2022-01-14 13:08:02 -0500 (Fri, 14 Jan 2022).

HostnameOSArch (*)R versionInstalled pkgs
nebbiolo2Linux (Ubuntu 20.04.4 LTS)x86_644.1.2 (2021-11-01) -- "Bird Hippie" 4327
tokay2Windows Server 2012 R2 Standardx644.1.2 (2021-11-01) -- "Bird Hippie" 4076
machv2macOS 10.14.6 Mojavex86_644.1.2 (2021-11-01) -- "Bird Hippie" 4137
Click on any hostname to see more info about the system (e.g. compilers)      (*) as reported by 'uname -p', except on Windows and Mac OS X

CHECK results for isomiRs on machv2


To the developers/maintainers of the isomiRs package:
- Please allow up to 24 hours (and sometimes 48 hours) for your latest push to git@git.bioconductor.org:packages/isomiRs.git to
reflect on this report. See How and When does the builder pull? When will my changes propagate? here for more information.
- Make sure to use the following settings in order to reproduce any error or warning you see on this page.

raw results

Package 966/2083HostnameOS / ArchINSTALLBUILDCHECKBUILD BIN
isomiRs 1.22.0  (landing page)
Lorena Pantano
Snapshot Date: 2022-01-13 01:55:04 -0500 (Thu, 13 Jan 2022)
git_url: https://git.bioconductor.org/packages/isomiRs
git_branch: RELEASE_3_14
git_last_commit: d81726b
git_last_commit_date: 2021-10-26 12:26:44 -0500 (Tue, 26 Oct 2021)
nebbiolo2Linux (Ubuntu 20.04.4 LTS) / x86_64  OK    OK    OK  UNNEEDED, same version is already published
tokay2Windows Server 2012 R2 Standard / x64  OK    OK    OK    OK  UNNEEDED, same version is already published
machv2macOS 10.14.6 Mojave / x86_64  OK    OK    OK    OK  UNNEEDED, same version is already published

Summary

Package: isomiRs
Version: 1.22.0
Command: /Library/Frameworks/R.framework/Resources/bin/R CMD check --install=check:isomiRs.install-out.txt --library=/Library/Frameworks/R.framework/Resources/library --no-vignettes --timings isomiRs_1.22.0.tar.gz
StartedAt: 2022-01-13 14:21:28 -0500 (Thu, 13 Jan 2022)
EndedAt: 2022-01-13 14:28:35 -0500 (Thu, 13 Jan 2022)
EllapsedTime: 426.6 seconds
RetCode: 0
Status:   OK  
CheckDir: isomiRs.Rcheck
Warnings: 0

Command output

##############################################################################
##############################################################################
###
### Running command:
###
###   /Library/Frameworks/R.framework/Resources/bin/R CMD check --install=check:isomiRs.install-out.txt --library=/Library/Frameworks/R.framework/Resources/library --no-vignettes --timings isomiRs_1.22.0.tar.gz
###
##############################################################################
##############################################################################


* using log directory ‘/Users/biocbuild/bbs-3.14-bioc/meat/isomiRs.Rcheck’
* using R version 4.1.2 (2021-11-01)
* using platform: x86_64-apple-darwin17.0 (64-bit)
* using session charset: UTF-8
* using option ‘--no-vignettes’
* checking for file ‘isomiRs/DESCRIPTION’ ... OK
* checking extension type ... Package
* this is package ‘isomiRs’ version ‘1.22.0’
* package encoding: UTF-8
* checking package namespace information ... OK
* checking package dependencies ... OK
* checking if this is a source package ... OK
* checking if there is a namespace ... OK
* checking for hidden files and directories ... NOTE
Found the following hidden files and directories:
  .travis.yml
These were most likely included in error. See section ‘Package
structure’ in the ‘Writing R Extensions’ manual.
* checking for portable file names ... OK
* checking for sufficient/correct file permissions ... OK
* checking whether package ‘isomiRs’ can be installed ... OK
* checking installed package size ... OK
* checking package directory ... OK
* checking ‘build’ directory ... OK
* checking DESCRIPTION meta-information ... OK
* checking top-level files ... OK
* checking for left-over files ... OK
* checking index information ... OK
* checking package subdirectories ... OK
* checking R files for non-ASCII characters ... OK
* checking R files for syntax errors ... OK
* checking whether the package can be loaded ... OK
* checking whether the package can be loaded with stated dependencies ... OK
* checking whether the package can be unloaded cleanly ... OK
* checking whether the namespace can be loaded with stated dependencies ... OK
* checking whether the namespace can be unloaded cleanly ... OK
* checking dependencies in R code ... OK
* checking S3 generic/method consistency ... OK
* checking replacement functions ... OK
* checking foreign function calls ... OK
* checking R code for possible problems ... NOTE
.clean_noise: no visible binding for global variable ‘total’
.clean_noise: no visible binding for global variable ‘hits’
.remove_gt_n_changes: no visible binding for global variable ‘changes’
isoAnnotate: no visible binding for global variable ‘pct’
isoCounts: no visible global function definition for ‘as.tibble’
isoPlot: no visible binding for global variable ‘iso_sample’
isoPlotPosition: no visible binding for global variable ‘iso_sample’
mirna2targetscan: no visible binding for global variable
  ‘targetscan.Hs.egMIRNA’
mirna2targetscan: no visible binding for global variable
  ‘targetscan.Hs.egMIRBASE2FAMILY’
mirna2targetscan: no visible binding for global variable
  ‘targetscan.Hs.egTARGETS’
mirna2targetscan: no visible binding for global variable
  ‘targetscan.Hs.egTARGETSFULL’
mirna2targetscan: no visible binding for global variable
  ‘targetscan.Mm.egMIRNA’
mirna2targetscan: no visible binding for global variable
  ‘targetscan.Mm.egMIRBASE2FAMILY’
mirna2targetscan: no visible binding for global variable
  ‘targetscan.Mm.egTARGETS’
mirna2targetscan: no visible binding for global variable
  ‘targetscan.Mm.egTARGETSFULL’
Undefined global functions or variables:
  as.tibble changes hits iso_sample pct targetscan.Hs.egMIRBASE2FAMILY
  targetscan.Hs.egMIRNA targetscan.Hs.egTARGETS
  targetscan.Hs.egTARGETSFULL targetscan.Mm.egMIRBASE2FAMILY
  targetscan.Mm.egMIRNA targetscan.Mm.egTARGETS
  targetscan.Mm.egTARGETSFULL total
* checking Rd files ... OK
* checking Rd metadata ... OK
* checking Rd cross-references ... OK
* checking for missing documentation entries ... OK
* checking for code/documentation mismatches ... OK
* checking Rd \usage sections ... OK
* checking Rd contents ... OK
* checking for unstated dependencies in examples ... OK
* checking contents of ‘data’ directory ... OK
* checking data for non-ASCII characters ... OK
* checking LazyData ... OK
* checking data for ASCII and uncompressed saves ... OK
* checking files in ‘vignettes’ ... OK
* checking examples ... OK
Examples with CPU (user + system) or elapsed time > 5s
               user system elapsed
isoDE        14.211  0.058  14.285
isoNetwork    9.295  0.078   9.382
isoAnnotate   9.040  0.272   9.319
isoPLSDAplot  5.763  0.109   5.874
* checking for unstated dependencies in ‘tests’ ... OK
* checking tests ...
  Running ‘testthat.R’
 OK
* checking for unstated dependencies in vignettes ... OK
* checking package vignettes in ‘inst/doc’ ... OK
* checking running R code from vignettes ... SKIPPED
* checking re-building of vignette outputs ... SKIPPED
* checking PDF version of manual ... OK
* DONE

Status: 2 NOTEs
See
  ‘/Users/biocbuild/bbs-3.14-bioc/meat/isomiRs.Rcheck/00check.log’
for details.



Installation output

isomiRs.Rcheck/00install.out

##############################################################################
##############################################################################
###
### Running command:
###
###   /Library/Frameworks/R.framework/Resources/bin/R CMD INSTALL isomiRs
###
##############################################################################
##############################################################################


* installing to library ‘/Library/Frameworks/R.framework/Versions/4.1/Resources/library’
* installing *source* package ‘isomiRs’ ...
** using staged installation
** R
** data
*** moving datasets to lazyload DB
Registered S3 method overwritten by 'GGally':
  method from   
  +.gg   ggplot2
** inst
** byte-compile and prepare package for lazy loading
** help
*** installing help indices
** building package indices
** installing vignettes
** testing if installed package can be loaded from temporary location
** testing if installed package can be loaded from final location
** testing if installed package keeps a record of temporary installation path
* DONE (isomiRs)

Tests output

isomiRs.Rcheck/tests/testthat.Rout


R version 4.1.2 (2021-11-01) -- "Bird Hippie"
Copyright (C) 2021 The R Foundation for Statistical Computing
Platform: x86_64-apple-darwin17.0 (64-bit)

R is free software and comes with ABSOLUTELY NO WARRANTY.
You are welcome to redistribute it under certain conditions.
Type 'license()' or 'licence()' for distribution details.

R is a collaborative project with many contributors.
Type 'contributors()' for more information and
'citation()' on how to cite R or R packages in publications.

Type 'demo()' for some demos, 'help()' for on-line help, or
'help.start()' for an HTML browser interface to help.
Type 'q()' to quit R.

> library(testthat)
> library(isomiRs)
Loading required package: DiscriMiner
Loading required package: SummarizedExperiment
Loading required package: MatrixGenerics
Loading required package: matrixStats

Attaching package: 'MatrixGenerics'

The following objects are masked from 'package:matrixStats':

    colAlls, colAnyNAs, colAnys, colAvgsPerRowSet, colCollapse,
    colCounts, colCummaxs, colCummins, colCumprods, colCumsums,
    colDiffs, colIQRDiffs, colIQRs, colLogSumExps, colMadDiffs,
    colMads, colMaxs, colMeans2, colMedians, colMins, colOrderStats,
    colProds, colQuantiles, colRanges, colRanks, colSdDiffs, colSds,
    colSums2, colTabulates, colVarDiffs, colVars, colWeightedMads,
    colWeightedMeans, colWeightedMedians, colWeightedSds,
    colWeightedVars, rowAlls, rowAnyNAs, rowAnys, rowAvgsPerColSet,
    rowCollapse, rowCounts, rowCummaxs, rowCummins, rowCumprods,
    rowCumsums, rowDiffs, rowIQRDiffs, rowIQRs, rowLogSumExps,
    rowMadDiffs, rowMads, rowMaxs, rowMeans2, rowMedians, rowMins,
    rowOrderStats, rowProds, rowQuantiles, rowRanges, rowRanks,
    rowSdDiffs, rowSds, rowSums2, rowTabulates, rowVarDiffs, rowVars,
    rowWeightedMads, rowWeightedMeans, rowWeightedMedians,
    rowWeightedSds, rowWeightedVars

Loading required package: GenomicRanges
Loading required package: stats4
Loading required package: BiocGenerics

Attaching package: 'BiocGenerics'

The following objects are masked from 'package:stats':

    IQR, mad, sd, var, xtabs

The following objects are masked from 'package:base':

    Filter, Find, Map, Position, Reduce, anyDuplicated, append,
    as.data.frame, basename, cbind, colnames, dirname, do.call,
    duplicated, eval, evalq, get, grep, grepl, intersect, is.unsorted,
    lapply, mapply, match, mget, order, paste, pmax, pmax.int, pmin,
    pmin.int, rank, rbind, rownames, sapply, setdiff, sort, table,
    tapply, union, unique, unsplit, which.max, which.min

Loading required package: S4Vectors

Attaching package: 'S4Vectors'

The following objects are masked from 'package:base':

    I, expand.grid, unname

Loading required package: IRanges
Loading required package: GenomeInfoDb
Loading required package: Biobase
Welcome to Bioconductor

    Vignettes contain introductory material; view with
    'browseVignettes()'. To cite Bioconductor, see
    'citation("Biobase")', and for packages 'citation("pkgname")'.


Attaching package: 'Biobase'

The following object is masked from 'package:MatrixGenerics':

    rowMedians

The following objects are masked from 'package:matrixStats':

    anyMissing, rowMedians

> 
> test_check("isomiRs")
Dimmension of cor matrix: 20 20 
Dimmension of cor matrix: 3 2 
Dimmension of cor matrix: 3 2 
Dimmension of cor matrix: 0 0 
[ FAIL 0 | WARN 6 | SKIP 0 | PASS 28 ]
> 
> proc.time()
   user  system elapsed 
 33.408   1.355  34.778 

Example timings

isomiRs.Rcheck/isomiRs-Ex.timings

nameusersystemelapsed
IsomirDataSeq1.7860.2031.985
IsomirDataSeqFromFiles2.0840.0912.168
IsomirDataSeqFromMirtop0.8820.0120.892
IsomirDataSeqFromRawData1.7330.0261.752
counts0.1720.0170.189
design0.3290.0200.350
findTargets0.1990.0040.203
isoAnnotate9.0400.2729.319
isoCounts0.9860.0201.007
isoDE14.211 0.05814.285
isoNetwork9.2950.0789.382
isoNorm4.8850.0414.933
isoPLSDA4.8260.1314.960
isoPLSDAplot5.7630.1095.874
isoPlot0.9510.0140.967
isoPlotPosition1.3860.0601.449
isoSelect0.2380.0060.244
isoTop0.3390.0140.354
mirna2targetscan3.1800.1283.324