Back to Multiple platform build/check report for BioC 3.14
ABCDEFGH[I]JKLMNOPQRSTUVWXYZ

This page was generated on 2022-01-21 13:06:31 -0500 (Fri, 21 Jan 2022).

HostnameOSArch (*)R versionInstalled pkgs
nebbiolo2Linux (Ubuntu 20.04.4 LTS)x86_644.1.2 (2021-11-01) -- "Bird Hippie" 4329
tokay2Windows Server 2012 R2 Standardx644.1.2 (2021-11-01) -- "Bird Hippie" 4079
machv2macOS 10.14.6 Mojavex86_644.1.2 (2021-11-01) -- "Bird Hippie" 4140
Click on any hostname to see more info about the system (e.g. compilers)      (*) as reported by 'uname -p', except on Windows and Mac OS X

BUILD BIN results for ipdDb on tokay2


To the developers/maintainers of the ipdDb package:
- Please allow up to 24 hours (and sometimes 48 hours) for your latest push to git@git.bioconductor.org:packages/ipdDb.git to
reflect on this report. See How and When does the builder pull? When will my changes propagate? here for more information.
- Make sure to use the following settings in order to reproduce any error or warning you see on this page.

raw results

Package 952/2083HostnameOS / ArchINSTALLBUILDCHECKBUILD BIN
ipdDb 1.12.0  (landing page)
Steffen Klasberg
Snapshot Date: 2022-01-20 01:55:04 -0500 (Thu, 20 Jan 2022)
git_url: https://git.bioconductor.org/packages/ipdDb
git_branch: RELEASE_3_14
git_last_commit: da8cb12
git_last_commit_date: 2021-10-26 12:45:35 -0500 (Tue, 26 Oct 2021)
nebbiolo2Linux (Ubuntu 20.04.4 LTS) / x86_64  OK    OK    OK  UNNEEDED, same version is already published
tokay2Windows Server 2012 R2 Standard / x64  OK    OK    OK    OK  UNNEEDED, same version is already published
machv2macOS 10.14.6 Mojave / x86_64  OK    OK    OK    OK  UNNEEDED, same version is already published

Summary

Package: ipdDb
Version: 1.12.0
Command: rm -rf ipdDb.buildbin-libdir && mkdir ipdDb.buildbin-libdir && C:\Users\biocbuild\bbs-3.14-bioc\R\bin\R.exe CMD INSTALL --merge-multiarch --build --library=ipdDb.buildbin-libdir ipdDb_1.12.0.tar.gz
StartedAt: 2022-01-21 06:25:15 -0500 (Fri, 21 Jan 2022)
EndedAt: 2022-01-21 06:25:46 -0500 (Fri, 21 Jan 2022)
EllapsedTime: 31.6 seconds
RetCode: 0
Status:   OK  
PackageFile: ipdDb_1.12.0.zip
PackageFileSize: 290.2 KiB

Command output

##############################################################################
##############################################################################
###
### Running command:
###
###   rm -rf ipdDb.buildbin-libdir && mkdir ipdDb.buildbin-libdir && C:\Users\biocbuild\bbs-3.14-bioc\R\bin\R.exe CMD INSTALL --merge-multiarch --build --library=ipdDb.buildbin-libdir ipdDb_1.12.0.tar.gz
###
##############################################################################
##############################################################################



install for i386

* installing *source* package 'ipdDb' ...
** using staged installation
** R
** inst
** byte-compile and prepare package for lazy loading
** help
*** installing help indices
  converting help for package 'ipdDb'
    finding HTML links ... done
    IpdDb                                   html  
    getAlleles-IpdDb-method                 html  
    getClosestComplete-IpdDb-method         html  
    getLoci-IpdDb-method                    html  
    getReference-IpdDb-method               html  
    getStructure-IpdDb-method               html  
    ipdDbPackage                            html  
    loadHlaData                             html  
    loadKirData                             html  
** building package indices
** installing vignettes
** testing if installed package can be loaded from temporary location
** testing if installed package can be loaded from final location
** testing if installed package keeps a record of temporary installation path

install for x64

* installing *source* package 'ipdDb' ...
** testing if installed package can be loaded
* MD5 sums
packaged installation of 'ipdDb' as ipdDb_1.12.0.zip
* DONE (ipdDb)