Back to Multiple platform build/check report for BioC 3.14
ABCDEFGH[I]JKLMNOPQRSTUVWXYZ

This page was generated on 2022-01-21 13:06:31 -0500 (Fri, 21 Jan 2022).

HostnameOSArch (*)R versionInstalled pkgs
nebbiolo2Linux (Ubuntu 20.04.4 LTS)x86_644.1.2 (2021-11-01) -- "Bird Hippie" 4329
tokay2Windows Server 2012 R2 Standardx644.1.2 (2021-11-01) -- "Bird Hippie" 4079
machv2macOS 10.14.6 Mojavex86_644.1.2 (2021-11-01) -- "Bird Hippie" 4140
Click on any hostname to see more info about the system (e.g. compilers)      (*) as reported by 'uname -p', except on Windows and Mac OS X

INSTALL results for interactiveDisplay on tokay2


To the developers/maintainers of the interactiveDisplay package:
- Please allow up to 24 hours (and sometimes 48 hours) for your latest push to git@git.bioconductor.org:packages/interactiveDisplay.git to
reflect on this report. See How and When does the builder pull? When will my changes propagate? here for more information.
- Make sure to use the following settings in order to reproduce any error or warning you see on this page.

raw results

Package 942/2083HostnameOS / ArchINSTALLBUILDCHECKBUILD BIN
interactiveDisplay 1.32.0  (landing page)
Bioconductor Package Maintainer
Snapshot Date: 2022-01-20 01:55:04 -0500 (Thu, 20 Jan 2022)
git_url: https://git.bioconductor.org/packages/interactiveDisplay
git_branch: RELEASE_3_14
git_last_commit: 2851932
git_last_commit_date: 2021-10-26 12:10:45 -0500 (Tue, 26 Oct 2021)
nebbiolo2Linux (Ubuntu 20.04.4 LTS) / x86_64  OK    OK    OK  UNNEEDED, same version is already published
tokay2Windows Server 2012 R2 Standard / x64  OK    OK    OK    OK  UNNEEDED, same version is already published
machv2macOS 10.14.6 Mojave / x86_64  OK    OK    OK    OK  UNNEEDED, same version is already published

Summary

Package: interactiveDisplay
Version: 1.32.0
Command: C:\cygwin\bin\curl.exe -O http://155.52.207.166/BBS/3.14/bioc/src/contrib/interactiveDisplay_1.32.0.tar.gz && rm -rf interactiveDisplay.buildbin-libdir && mkdir interactiveDisplay.buildbin-libdir && C:\Users\biocbuild\bbs-3.14-bioc\R\bin\R.exe CMD INSTALL --merge-multiarch --build --library=interactiveDisplay.buildbin-libdir interactiveDisplay_1.32.0.tar.gz && C:\Users\biocbuild\bbs-3.14-bioc\R\bin\R.exe CMD INSTALL interactiveDisplay_1.32.0.zip && rm interactiveDisplay_1.32.0.tar.gz interactiveDisplay_1.32.0.zip
StartedAt: 2022-01-20 06:09:15 -0500 (Thu, 20 Jan 2022)
EndedAt: 2022-01-20 06:10:32 -0500 (Thu, 20 Jan 2022)
EllapsedTime: 77.8 seconds
RetCode: 0
Status:   OK  

Command output

##############################################################################
##############################################################################
###
### Running command:
###
###   C:\cygwin\bin\curl.exe -O http://155.52.207.166/BBS/3.14/bioc/src/contrib/interactiveDisplay_1.32.0.tar.gz && rm -rf interactiveDisplay.buildbin-libdir && mkdir interactiveDisplay.buildbin-libdir && C:\Users\biocbuild\bbs-3.14-bioc\R\bin\R.exe CMD INSTALL --merge-multiarch --build --library=interactiveDisplay.buildbin-libdir interactiveDisplay_1.32.0.tar.gz && C:\Users\biocbuild\bbs-3.14-bioc\R\bin\R.exe CMD INSTALL interactiveDisplay_1.32.0.zip && rm interactiveDisplay_1.32.0.tar.gz interactiveDisplay_1.32.0.zip
###
##############################################################################
##############################################################################


  % Total    % Received % Xferd  Average Speed   Time    Time     Time  Current
                                 Dload  Upload   Total   Spent    Left  Speed

  0     0    0     0    0     0      0      0 --:--:-- --:--:-- --:--:--     0
  0 3188k    0 16105    0     0   136k      0  0:00:23 --:--:--  0:00:23  136k
 84 3188k   84 2680k    0     0  2413k      0  0:00:01  0:00:01 --:--:-- 2414k
100 3188k  100 3188k    0     0  2537k      0  0:00:01  0:00:01 --:--:-- 2538k

install for i386

* installing *source* package 'interactiveDisplay' ...
** using staged installation
** R
** data
** inst
** byte-compile and prepare package for lazy loading
in method for 'display' with signature 'object="GRanges"': no definition for class "GRanges"
in method for 'display' with signature 'object="GRangesList"': no definition for class "GRangesList"
in method for 'display' with signature 'object="RangedSummarizedExperiment"': no definition for class "RangedSummarizedExperiment"
in method for 'display' with signature 'object="MRexperiment"': no definition for class "MRexperiment"
** help
*** installing help indices
  converting help for package 'interactiveDisplay'
    finding HTML links ... done
    altgr                                   html  
    bicgo                                   html  
    expr                                    html  
    gridsvgjs                               html  
    gridtweak                               html  
    interactiveDisplay-methods              html  
    mmgr                                    html  
    mmgrl                                   html  
    se                                      html  
    simplenet                               html  
** building package indices
** installing vignettes
** testing if installed package can be loaded from temporary location
** testing if installed package can be loaded from final location
** testing if installed package keeps a record of temporary installation path

install for x64

* installing *source* package 'interactiveDisplay' ...
** testing if installed package can be loaded
* MD5 sums
packaged installation of 'interactiveDisplay' as interactiveDisplay_1.32.0.zip
* DONE (interactiveDisplay)
* installing to library 'C:/Users/biocbuild/bbs-3.14-bioc/R/library'
package 'interactiveDisplay' successfully unpacked and MD5 sums checked