Back to Multiple platform build/check report for BioC 3.14
ABCDEFGH[I]JKLMNOPQRSTUVWXYZ

This page was generated on 2022-01-14 13:06:34 -0500 (Fri, 14 Jan 2022).

HostnameOSArch (*)R versionInstalled pkgs
nebbiolo2Linux (Ubuntu 20.04.4 LTS)x86_644.1.2 (2021-11-01) -- "Bird Hippie" 4327
tokay2Windows Server 2012 R2 Standardx644.1.2 (2021-11-01) -- "Bird Hippie" 4076
machv2macOS 10.14.6 Mojavex86_644.1.2 (2021-11-01) -- "Bird Hippie" 4137
Click on any hostname to see more info about the system (e.g. compilers)      (*) as reported by 'uname -p', except on Windows and Mac OS X

INSTALL results for infinityFlow on tokay2


To the developers/maintainers of the infinityFlow package:
- Please allow up to 24 hours (and sometimes 48 hours) for your latest push to git@git.bioconductor.org:packages/infinityFlow.git to
reflect on this report. See How and When does the builder pull? When will my changes propagate? here for more information.
- Make sure to use the following settings in order to reproduce any error or warning you see on this page.

raw results

Package 932/2083HostnameOS / ArchINSTALLBUILDCHECKBUILD BIN
infinityFlow 1.4.0  (landing page)
Etienne Becht
Snapshot Date: 2022-01-13 01:55:04 -0500 (Thu, 13 Jan 2022)
git_url: https://git.bioconductor.org/packages/infinityFlow
git_branch: RELEASE_3_14
git_last_commit: 68a3242
git_last_commit_date: 2021-10-26 13:01:12 -0500 (Tue, 26 Oct 2021)
nebbiolo2Linux (Ubuntu 20.04.4 LTS) / x86_64  OK    OK    OK  UNNEEDED, same version is already published
tokay2Windows Server 2012 R2 Standard / x64  OK    OK    OK    OK  UNNEEDED, same version is already published
machv2macOS 10.14.6 Mojave / x86_64  OK    OK    OK    OK  UNNEEDED, same version is already published

Summary

Package: infinityFlow
Version: 1.4.0
Command: C:\cygwin\bin\curl.exe -O http://155.52.207.166/BBS/3.14/bioc/src/contrib/infinityFlow_1.4.0.tar.gz && rm -rf infinityFlow.buildbin-libdir && mkdir infinityFlow.buildbin-libdir && C:\Users\biocbuild\bbs-3.14-bioc\R\bin\R.exe CMD INSTALL --merge-multiarch --build --library=infinityFlow.buildbin-libdir infinityFlow_1.4.0.tar.gz && C:\Users\biocbuild\bbs-3.14-bioc\R\bin\R.exe CMD INSTALL infinityFlow_1.4.0.zip && rm infinityFlow_1.4.0.tar.gz infinityFlow_1.4.0.zip
StartedAt: 2022-01-13 05:04:41 -0500 (Thu, 13 Jan 2022)
EndedAt: 2022-01-13 05:17:56 -0500 (Thu, 13 Jan 2022)
EllapsedTime: 795.0 seconds
RetCode: 0
Status:   OK  

Command output

##############################################################################
##############################################################################
###
### Running command:
###
###   C:\cygwin\bin\curl.exe -O http://155.52.207.166/BBS/3.14/bioc/src/contrib/infinityFlow_1.4.0.tar.gz && rm -rf infinityFlow.buildbin-libdir && mkdir infinityFlow.buildbin-libdir && C:\Users\biocbuild\bbs-3.14-bioc\R\bin\R.exe CMD INSTALL --merge-multiarch --build --library=infinityFlow.buildbin-libdir infinityFlow_1.4.0.tar.gz && C:\Users\biocbuild\bbs-3.14-bioc\R\bin\R.exe CMD INSTALL infinityFlow_1.4.0.zip && rm infinityFlow_1.4.0.tar.gz infinityFlow_1.4.0.zip
###
##############################################################################
##############################################################################


  % Total    % Received % Xferd  Average Speed   Time    Time     Time  Current
                                 Dload  Upload   Total   Spent    Left  Speed

  0     0    0     0    0     0      0      0 --:--:-- --:--:-- --:--:--     0
 47 1719k   47  821k    0     0  2466k      0 --:--:-- --:--:-- --:--:-- 2465k
100 1719k  100 1719k    0     0  3193k      0 --:--:-- --:--:-- --:--:-- 3196k

install for i386

* installing *source* package 'infinityFlow' ...
** using staged installation
** R
** data
** inst
** byte-compile and prepare package for lazy loading
** help
*** installing help indices
  converting help for package 'infinityFlow'
    finding HTML links ... done
    fitter_glmnet                           html  
    fitter_linear                           html  
    fitter_nn                               html  
    fitter_svm                              html  
    fitter_xgboost                          html  
    infinity_flow                           html  
    select_backbone_and_exploratory_markers
                                            html  
    steady_state_lung                       html  
    steady_state_lung_annotation            html  
    steady_state_lung_backbone_specification
                                            html  
** building package indices
** installing vignettes
** testing if installed package can be loaded from temporary location
** testing if installed package can be loaded from final location
** testing if installed package keeps a record of temporary installation path

install for x64

* installing *source* package 'infinityFlow' ...
** testing if installed package can be loaded
* MD5 sums
packaged installation of 'infinityFlow' as infinityFlow_1.4.0.zip
* DONE (infinityFlow)
* installing to library 'C:/Users/biocbuild/bbs-3.14-bioc/R/library'
package 'infinityFlow' successfully unpacked and MD5 sums checked