Back to Multiple platform build/check report for BioC 3.14
ABCDEFGH[I]JKLMNOPQRSTUVWXYZ

This page was generated on 2021-12-03 13:04:51 -0500 (Fri, 03 Dec 2021).

BUILD results for imcRtools on nebbiolo2

To the developers/maintainers of the imcRtools package:
- Please allow up to 24 hours (and sometimes 48 hours) for your latest push to git@git.bioconductor.org:packages/imcRtools.git to
reflect on this report. See How and When does the builder pull? When will my changes propagate? here for more information.
- Make sure to use the following settings in order to reproduce any error or warning you see on this page.

raw results

Package 923/2083HostnameOS / ArchINSTALLBUILDCHECKBUILD BIN
imcRtools 1.0.1  (landing page)
Nils Eling
Snapshot Date: 2021-12-02 01:55:06 -0500 (Thu, 02 Dec 2021)
git_url: https://git.bioconductor.org/packages/imcRtools
git_branch: RELEASE_3_14
git_last_commit: 26845b3
git_last_commit_date: 2021-11-23 15:51:59 -0500 (Tue, 23 Nov 2021)
nebbiolo2Linux (Ubuntu 20.04.3 LTS) / x86_64  OK    OK    OK  UNNEEDED, same version is already published
tokay2Windows Server 2012 R2 Standard / x64  OK    OK    OK    OK  UNNEEDED, same version is already published
machv2macOS 10.14.6 Mojave / x86_64  OK    OK    OK    OK  UNNEEDED, same version is already published

Summary

Package: imcRtools
Version: 1.0.1
Command: /home/biocbuild/bbs-3.14-bioc/R/bin/R CMD build --keep-empty-dirs --no-resave-data imcRtools
StartedAt: 2021-12-02 04:40:10 -0500 (Thu, 02 Dec 2021)
EndedAt: 2021-12-02 04:43:46 -0500 (Thu, 02 Dec 2021)
EllapsedTime: 215.4 seconds
RetCode: 0
Status:   OK  
PackageFile: imcRtools_1.0.1.tar.gz
PackageFileSize: 3.481 MiB

Command output

##############################################################################
##############################################################################
###
### Running command:
###
###   /home/biocbuild/bbs-3.14-bioc/R/bin/R CMD build --keep-empty-dirs --no-resave-data imcRtools
###
##############################################################################
##############################################################################


* checking for file ‘imcRtools/DESCRIPTION’ ... OK
* preparing ‘imcRtools’:
* checking DESCRIPTION meta-information ... OK
* installing the package to build vignettes
* creating vignettes ... OK
* checking for LF line-endings in source and make files and shell scripts
* checking for empty or unneeded directories
* building ‘imcRtools_1.0.1.tar.gz’