Back to Multiple platform build/check report for BioC 3.14
ABCDEFGH[I]JKLMNOPQRSTUVWXYZ

This page was generated on 2022-01-19 13:06:45 -0500 (Wed, 19 Jan 2022).

HostnameOSArch (*)R versionInstalled pkgs
nebbiolo2Linux (Ubuntu 20.04.4 LTS)x86_644.1.2 (2021-11-01) -- "Bird Hippie" 4328
tokay2Windows Server 2012 R2 Standardx644.1.2 (2021-11-01) -- "Bird Hippie" 4077
machv2macOS 10.14.6 Mojavex86_644.1.2 (2021-11-01) -- "Bird Hippie" 4138
Click on any hostname to see more info about the system (e.g. compilers)      (*) as reported by 'uname -p', except on Windows and Mac OS X

BUILD BIN results for ideal on tokay2


To the developers/maintainers of the ideal package:
- Please allow up to 24 hours (and sometimes 48 hours) for your latest push to git@git.bioconductor.org:packages/ideal.git to
reflect on this report. See How and When does the builder pull? When will my changes propagate? here for more information.
- Make sure to use the following settings in order to reproduce any error or warning you see on this page.

raw results

Package 910/2083HostnameOS / ArchINSTALLBUILDCHECKBUILD BIN
ideal 1.18.1  (landing page)
Federico Marini
Snapshot Date: 2022-01-18 01:55:07 -0500 (Tue, 18 Jan 2022)
git_url: https://git.bioconductor.org/packages/ideal
git_branch: RELEASE_3_14
git_last_commit: a6dc2e0
git_last_commit_date: 2021-12-01 16:38:52 -0500 (Wed, 01 Dec 2021)
nebbiolo2Linux (Ubuntu 20.04.4 LTS) / x86_64  OK    OK    OK  UNNEEDED, same version is already published
tokay2Windows Server 2012 R2 Standard / x64  OK    OK    OK    OK  UNNEEDED, same version is already published
machv2macOS 10.14.6 Mojave / x86_64  OK    OK    OK    OK  UNNEEDED, same version is already published

Summary

Package: ideal
Version: 1.18.1
Command: rm -rf ideal.buildbin-libdir && mkdir ideal.buildbin-libdir && C:\Users\biocbuild\bbs-3.14-bioc\R\bin\R.exe CMD INSTALL --merge-multiarch --build --library=ideal.buildbin-libdir ideal_1.18.1.tar.gz
StartedAt: 2022-01-19 06:01:45 -0500 (Wed, 19 Jan 2022)
EndedAt: 2022-01-19 06:03:07 -0500 (Wed, 19 Jan 2022)
EllapsedTime: 82.3 seconds
RetCode: 0
Status:   OK  
PackageFile: ideal_1.18.1.zip
PackageFileSize: 2.922 MiB

Command output

##############################################################################
##############################################################################
###
### Running command:
###
###   rm -rf ideal.buildbin-libdir && mkdir ideal.buildbin-libdir && C:\Users\biocbuild\bbs-3.14-bioc\R\bin\R.exe CMD INSTALL --merge-multiarch --build --library=ideal.buildbin-libdir ideal_1.18.1.tar.gz
###
##############################################################################
##############################################################################



install for i386

* installing *source* package 'ideal' ...
** using staged installation
** R
** inst
** byte-compile and prepare package for lazy loading

groupGOTerms: 	GOBPTerm, GOMFTerm, GOCCTerm environments built.
** help
*** installing help indices
  converting help for package 'ideal'
    finding HTML links ... done
    deseqresult2DEgenes                     html  
    finding level-2 HTML links ... done

    deseqresult2tbl                         html  
    ggplotCounts                            html  
    goseqTable                              html  
    ideal-pkg                               html  
    ideal                                   html  
    plot_ma                                 html  
    plot_volcano                            html  
    read_gmt                                html  
    sepguesser                              html  
    sig_heatmap                             html  
    wrapup_for_iSEE                         html  
** building package indices
** installing vignettes
** testing if installed package can be loaded from temporary location

groupGOTerms: 	GOBPTerm, GOMFTerm, GOCCTerm environments built.
** testing if installed package can be loaded from final location

groupGOTerms: 	GOBPTerm, GOMFTerm, GOCCTerm environments built.
** testing if installed package keeps a record of temporary installation path

install for x64

* installing *source* package 'ideal' ...
** testing if installed package can be loaded

groupGOTerms: 	GOBPTerm, GOMFTerm, GOCCTerm environments built.
* MD5 sums
packaged installation of 'ideal' as ideal_1.18.1.zip
* DONE (ideal)