Back to Multiple platform build/check report for BioC 3.14
ABCDEFGH[I]JKLMNOPQRSTUVWXYZ

This page was generated on 2022-01-24 13:06:24 -0500 (Mon, 24 Jan 2022).

HostnameOSArch (*)R versionInstalled pkgs
nebbiolo2Linux (Ubuntu 20.04.4 LTS)x86_644.1.2 (2021-11-01) -- "Bird Hippie" 4329
tokay2Windows Server 2012 R2 Standardx644.1.2 (2021-11-01) -- "Bird Hippie" 4080
machv2macOS 10.14.6 Mojavex86_644.1.2 (2021-11-01) -- "Bird Hippie" 4141
Click on any hostname to see more info about the system (e.g. compilers)      (*) as reported by 'uname -p', except on Windows and Mac OS X

CHECK results for icetea on tokay2


To the developers/maintainers of the icetea package:
- Please allow up to 24 hours (and sometimes 48 hours) for your latest push to git@git.bioconductor.org:packages/icetea.git to
reflect on this report. See How and When does the builder pull? When will my changes propagate? here for more information.
- Make sure to use the following settings in order to reproduce any error or warning you see on this page.

raw results

Package 904/2083HostnameOS / ArchINSTALLBUILDCHECKBUILD BIN
icetea 1.12.0  (landing page)
Vivek Bhardwaj
Snapshot Date: 2022-01-23 01:55:04 -0500 (Sun, 23 Jan 2022)
git_url: https://git.bioconductor.org/packages/icetea
git_branch: RELEASE_3_14
git_last_commit: 133907b
git_last_commit_date: 2021-10-26 12:45:19 -0500 (Tue, 26 Oct 2021)
nebbiolo2Linux (Ubuntu 20.04.4 LTS) / x86_64  OK    OK    OK  UNNEEDED, same version is already published
tokay2Windows Server 2012 R2 Standard / x64  OK    OK    OK    OK  UNNEEDED, same version is already published
machv2macOS 10.14.6 Mojave / x86_64  OK    OK    OK    OK  UNNEEDED, same version is already published

Summary

Package: icetea
Version: 1.12.0
Command: set _R_CHECK_FORCE_SUGGESTS_=0&& C:\Users\biocbuild\bbs-3.14-bioc\R\bin\R.exe CMD check --force-multiarch --install=check:icetea.install-out.txt --library=C:\Users\biocbuild\bbs-3.14-bioc\R\library --no-vignettes --timings icetea_1.12.0.tar.gz
StartedAt: 2022-01-23 20:54:11 -0500 (Sun, 23 Jan 2022)
EndedAt: 2022-01-23 21:10:23 -0500 (Sun, 23 Jan 2022)
EllapsedTime: 972.0 seconds
RetCode: 0
Status:   OK  
CheckDir: icetea.Rcheck
Warnings: 0

Command output

##############################################################################
##############################################################################
###
### Running command:
###
###   set _R_CHECK_FORCE_SUGGESTS_=0&& C:\Users\biocbuild\bbs-3.14-bioc\R\bin\R.exe CMD check --force-multiarch --install=check:icetea.install-out.txt --library=C:\Users\biocbuild\bbs-3.14-bioc\R\library --no-vignettes --timings icetea_1.12.0.tar.gz
###
##############################################################################
##############################################################################


* using log directory 'C:/Users/biocbuild/bbs-3.14-bioc/meat/icetea.Rcheck'
* using R version 4.1.2 (2021-11-01)
* using platform: x86_64-w64-mingw32 (64-bit)
* using session charset: ISO8859-1
* using option '--no-vignettes'
* checking for file 'icetea/DESCRIPTION' ... OK
* checking extension type ... Package
* this is package 'icetea' version '1.12.0'
* package encoding: UTF-8
* checking package namespace information ... OK
* checking package dependencies ... OK
* checking if this is a source package ... OK
* checking if there is a namespace ... OK
* checking for hidden files and directories ... OK
* checking for portable file names ... OK
* checking whether package 'icetea' can be installed ... OK
* checking installed package size ... OK
* checking package directory ... OK
* checking 'build' directory ... OK
* checking DESCRIPTION meta-information ... OK
* checking top-level files ... OK
* checking for left-over files ... OK
* checking index information ... OK
* checking package subdirectories ... OK
* checking R files for non-ASCII characters ... OK
* checking R files for syntax errors ... OK
* loading checks for arch 'i386'
** checking whether the package can be loaded ... OK
** checking whether the package can be loaded with stated dependencies ... OK
** checking whether the package can be unloaded cleanly ... OK
** checking whether the namespace can be loaded with stated dependencies ... OK
** checking whether the namespace can be unloaded cleanly ... OK
* loading checks for arch 'x64'
** checking whether the package can be loaded ... OK
** checking whether the package can be loaded with stated dependencies ... OK
** checking whether the package can be unloaded cleanly ... OK
** checking whether the namespace can be loaded with stated dependencies ... OK
** checking whether the namespace can be unloaded cleanly ... OK
* checking dependencies in R code ... OK
* checking S3 generic/method consistency ... OK
* checking replacement functions ... OK
* checking foreign function calls ... OK
* checking R code for possible problems ... NOTE
detectTSS,CapSet : <anonymous>: no visible binding for global variable
  'logFC'
fitDiffTSS,CapSet: no visible binding for global variable 'ResizeReads'
Undefined global functions or variables:
  ResizeReads logFC
* checking Rd files ... OK
* checking Rd metadata ... OK
* checking Rd cross-references ... OK
* checking for missing documentation entries ... OK
* checking for code/documentation mismatches ... OK
* checking Rd \usage sections ... OK
* checking Rd contents ... OK
* checking for unstated dependencies in examples ... OK
* checking files in 'vignettes' ... OK
* checking examples ...
** running examples for arch 'i386' ... OK
Examples with CPU (user + system) or elapsed time > 5s
                user system elapsed
detectTSS      14.54   1.32   29.02
annotateTSS    12.51   1.00  202.84
getNormFactors  1.78   0.03   37.42
** running examples for arch 'x64' ... OK
Examples with CPU (user + system) or elapsed time > 5s
                user system elapsed
detectTSS      14.11   1.28  102.21
annotateTSS     9.88   0.24   10.16
getNormFactors  1.94   0.05   37.22
* checking for unstated dependencies in 'tests' ... OK
* checking tests ...
** running tests for arch 'i386' ...
  Running 'testthat.R'
 OK
** running tests for arch 'x64' ...
  Running 'testthat.R'
 OK
* checking for unstated dependencies in vignettes ... OK
* checking package vignettes in 'inst/doc' ... OK
* checking running R code from vignettes ... SKIPPED
* checking re-building of vignette outputs ... SKIPPED
* checking PDF version of manual ... OK
* DONE

Status: 1 NOTE
See
  'C:/Users/biocbuild/bbs-3.14-bioc/meat/icetea.Rcheck/00check.log'
for details.



Installation output

icetea.Rcheck/00install.out

##############################################################################
##############################################################################
###
### Running command:
###
###   C:\cygwin\bin\curl.exe -O http://155.52.207.166/BBS/3.14/bioc/src/contrib/icetea_1.12.0.tar.gz && rm -rf icetea.buildbin-libdir && mkdir icetea.buildbin-libdir && C:\Users\biocbuild\bbs-3.14-bioc\R\bin\R.exe CMD INSTALL --merge-multiarch --build --library=icetea.buildbin-libdir icetea_1.12.0.tar.gz && C:\Users\biocbuild\bbs-3.14-bioc\R\bin\R.exe CMD INSTALL icetea_1.12.0.zip && rm icetea_1.12.0.tar.gz icetea_1.12.0.zip
###
##############################################################################
##############################################################################


  % Total    % Received % Xferd  Average Speed   Time    Time     Time  Current
                                 Dload  Upload   Total   Spent    Left  Speed

  0     0    0     0    0     0      0      0 --:--:-- --:--:-- --:--:--     0
 49 1305k   49  651k    0     0  1751k      0 --:--:-- --:--:-- --:--:-- 1750k
100 1305k  100 1305k    0     0  2669k      0 --:--:-- --:--:-- --:--:-- 2670k

install for i386

* installing *source* package 'icetea' ...
** using staged installation
** R
** inst
** byte-compile and prepare package for lazy loading
** help
*** installing help indices
  converting help for package 'icetea'
    finding HTML links ... done
    activeChrs                              html  
    annotateTSS                             html  
    check_capSet                            html  
    demultiplexFASTQ                        html  
    detectDiffTSS                           html  
    finding level-2 HTML links ... done

    detectTSS                               html  
    diffQCplots                             html  
    exampleCSobject                         html  
    exportTSS                               html  
    filterDuplicates                        html  
    filterDups                              html  
    fitDiffTSS                              html  
    getBamFlags                             html  
    getChromBins                            html  
    getChromWindows                         html  
    getGeneCounts                           html  
    getMCparams                             html  
    getNormFactors                          html  
    get_newfastq                            html  
    getranks                                html  
    mapCaps                                 html  
    newCapSet                               html  
    numReadsInBed                           html  
    plotPrecision                           html  
    plotReadStats                           html  
    plotTSSprecision                        html  
    readsTo3p                               html  
    readsTo5p                               html  
    readsToCenter                           html  
    sampleInfo                              html  
    splitBAM_byIndex                        html  
    splitBAM_byRepindex                     html  
    split_fastq                             html  
    splitranks                              html  
    strandBinCounts                         html  
** building package indices
** installing vignettes
** testing if installed package can be loaded from temporary location
** testing if installed package can be loaded from final location
** testing if installed package keeps a record of temporary installation path

install for x64

* installing *source* package 'icetea' ...
** testing if installed package can be loaded
* MD5 sums
packaged installation of 'icetea' as icetea_1.12.0.zip
* DONE (icetea)
* installing to library 'C:/Users/biocbuild/bbs-3.14-bioc/R/library'
package 'icetea' successfully unpacked and MD5 sums checked

Tests output

icetea.Rcheck/tests_i386/testthat.Rout


R version 4.1.2 (2021-11-01) -- "Bird Hippie"
Copyright (C) 2021 The R Foundation for Statistical Computing
Platform: i386-w64-mingw32/i386 (32-bit)

R is free software and comes with ABSOLUTELY NO WARRANTY.
You are welcome to redistribute it under certain conditions.
Type 'license()' or 'licence()' for distribution details.

R is a collaborative project with many contributors.
Type 'contributors()' for more information and
'citation()' on how to cite R or R packages in publications.

Type 'demo()' for some demos, 'help()' for on-line help, or
'help.start()' for an HTML browser interface to help.
Type 'q()' to quit R.

> library(testthat)
> library(icetea)
> 
> test_check("icetea")
[ FAIL 0 | WARN 0 | SKIP 0 | PASS 17 ]
> 
> proc.time()
   user  system elapsed 
  36.09    3.10   59.26 

icetea.Rcheck/tests_x64/testthat.Rout


R version 4.1.2 (2021-11-01) -- "Bird Hippie"
Copyright (C) 2021 The R Foundation for Statistical Computing
Platform: x86_64-w64-mingw32/x64 (64-bit)

R is free software and comes with ABSOLUTELY NO WARRANTY.
You are welcome to redistribute it under certain conditions.
Type 'license()' or 'licence()' for distribution details.

R is a collaborative project with many contributors.
Type 'contributors()' for more information and
'citation()' on how to cite R or R packages in publications.

Type 'demo()' for some demos, 'help()' for on-line help, or
'help.start()' for an HTML browser interface to help.
Type 'q()' to quit R.

> library(testthat)
> library(icetea)
> 
> test_check("icetea")
[ FAIL 0 | WARN 0 | SKIP 0 | PASS 17 ]
> 
> proc.time()
   user  system elapsed 
  39.54    1.51   66.12 

Example timings

icetea.Rcheck/examples_i386/icetea-Ex.timings

nameusersystemelapsed
annotateTSS 12.51 1.00202.84
demultiplexFASTQ2.800.114.05
detectDiffTSS000
detectTSS14.54 1.3229.02
exampleCSobject0.170.000.17
exportTSS0.280.000.28
filterDuplicates1.730.071.89
fitDiffTSS000
getGeneCounts1.880.111.99
getNormFactors 1.78 0.0337.42
mapCaps000
newCapSet0.110.000.11
plotReadStats0.420.020.44
plotTSSprecision2.140.082.22
sampleInfo0.110.000.11
splitBAM_byIndex0.190.120.31
splitBAM_byRepindex0.220.100.31

icetea.Rcheck/examples_x64/icetea-Ex.timings

nameusersystemelapsed
annotateTSS 9.88 0.2410.16
demultiplexFASTQ3.030.063.94
detectDiffTSS000
detectTSS 14.11 1.28102.21
exampleCSobject0.150.000.15
exportTSS0.30.00.3
filterDuplicates1.700.143.38
fitDiffTSS000
getGeneCounts1.770.021.78
getNormFactors 1.94 0.0537.22
mapCaps000
newCapSet0.110.000.11
plotReadStats0.470.010.49
plotTSSprecision1.920.112.03
sampleInfo0.100.000.09
splitBAM_byIndex0.200.130.33
splitBAM_byRepindex0.200.120.33