Back to Multiple platform build/check report for BioC 3.14
ABCDEFG[H]IJKLMNOPQRSTUVWXYZ

This page was generated on 2021-11-29 15:05:57 -0500 (Mon, 29 Nov 2021).

BUILD results for hca on machv2

To the developers/maintainers of the hca package:
- Please allow up to 24 hours (and sometimes 48 hours) for your latest push to git@git.bioconductor.org:packages/hca.git to
reflect on this report. See How and When does the builder pull? When will my changes propagate? here for more information.
- Make sure to use the following settings in order to reproduce any error or warning you see on this page.

raw results

Package 854/2083HostnameOS / ArchINSTALLBUILDCHECKBUILD BIN
hca 1.2.0  (landing page)
Martin Morgan
Snapshot Date: 2021-11-28 04:15:06 -0500 (Sun, 28 Nov 2021)
git_url: https://git.bioconductor.org/packages/hca
git_branch: RELEASE_3_14
git_last_commit: 83b5cdb
git_last_commit_date: 2021-10-26 13:07:17 -0500 (Tue, 26 Oct 2021)
nebbiolo2Linux (Ubuntu 20.04.3 LTS) / x86_64  OK    OK    ERROR  
tokay2Windows Server 2012 R2 Standard / x64  OK    OK    OK    OK  UNNEEDED, same version is already published
machv2macOS 10.14.6 Mojave / x86_64  OK    OK    OK    OK  UNNEEDED, same version is already published

Summary

Package: hca
Version: 1.2.0
Command: /Library/Frameworks/R.framework/Resources/bin/R CMD build --keep-empty-dirs --no-resave-data hca
StartedAt: 2021-11-28 09:33:13 -0500 (Sun, 28 Nov 2021)
EndedAt: 2021-11-28 09:35:44 -0500 (Sun, 28 Nov 2021)
EllapsedTime: 150.9 seconds
RetCode: 0
Status:   OK  
PackageFile: hca_1.2.0.tar.gz
PackageFileSize: 488.3 KiB

Command output

##############################################################################
##############################################################################
###
### Running command:
###
###   /Library/Frameworks/R.framework/Resources/bin/R CMD build --keep-empty-dirs --no-resave-data hca
###
##############################################################################
##############################################################################


* checking for file ‘hca/DESCRIPTION’ ... OK
* preparing ‘hca’:
* checking DESCRIPTION meta-information ... OK
* installing the package to build vignettes
* creating vignettes ... OK
* checking for LF line-endings in source and make files and shell scripts
* checking for empty or unneeded directories
* building ‘hca_1.2.0.tar.gz’