Back to Multiple platform build/check report for BioC 3.14
ABCDEF[G]HIJKLMNOPQRSTUVWXYZ

This page was generated on 2021-12-03 13:05:49 -0500 (Fri, 03 Dec 2021).

BUILD BIN results for gwascat on machv2

To the developers/maintainers of the gwascat package:
- Please allow up to 24 hours (and sometimes 48 hours) for your latest push to git@git.bioconductor.org:packages/gwascat.git to
reflect on this report. See How and When does the builder pull? When will my changes propagate? here for more information.
- Make sure to use the following settings in order to reproduce any error or warning you see on this page.

raw results

Package 846/2083HostnameOS / ArchINSTALLBUILDCHECKBUILD BIN
gwascat 2.26.0  (landing page)
VJ Carey
Snapshot Date: 2021-12-02 01:55:06 -0500 (Thu, 02 Dec 2021)
git_url: https://git.bioconductor.org/packages/gwascat
git_branch: RELEASE_3_14
git_last_commit: 4098842
git_last_commit_date: 2021-10-26 12:02:07 -0500 (Tue, 26 Oct 2021)
nebbiolo2Linux (Ubuntu 20.04.3 LTS) / x86_64  OK    OK    OK  UNNEEDED, same version is already published
tokay2Windows Server 2012 R2 Standard / x64  OK    OK    OK    OK  UNNEEDED, same version is already published
machv2macOS 10.14.6 Mojave / x86_64  OK    OK    OK    OK  UNNEEDED, same version is already published

Summary

Package: gwascat
Version: 2.26.0
Command: rm -rf gwascat.buildbin-libdir && mkdir gwascat.buildbin-libdir && /Users/biocbuild/BBS/utils/build-universal.sh gwascat_2.26.0.tar.gz /Library/Frameworks/R.framework/Resources/bin/R gwascat.buildbin-libdir
StartedAt: 2021-12-02 22:22:10 -0500 (Thu, 02 Dec 2021)
EndedAt: 2021-12-02 22:23:19 -0500 (Thu, 02 Dec 2021)
EllapsedTime: 69.1 seconds
RetCode: 0
Status:   OK  
PackageFile: gwascat_2.26.0.tgz
PackageFileSize: 34.17 MiB

Command output

##############################################################################
##############################################################################
###
### Running command:
###
###   rm -rf gwascat.buildbin-libdir && mkdir gwascat.buildbin-libdir && /Users/biocbuild/BBS/utils/build-universal.sh gwascat_2.26.0.tar.gz /Library/Frameworks/R.framework/Resources/bin/R gwascat.buildbin-libdir
###
##############################################################################
##############################################################################


>>>>>>> 
>>>>>>> INSTALLATION WITH 'R CMD INSTALL --preclean --no-multiarch --library=gwascat.buildbin-libdir gwascat_2.26.0.tar.gz'
>>>>>>> 

* installing *source* package ‘gwascat’ ...
** using staged installation
** R
** data
** inst
** byte-compile and prepare package for lazy loading
** help
*** installing help indices
** building package indices
** installing vignettes
** testing if installed package can be loaded from temporary location
** testing if installed package can be loaded from final location
** testing if installed package keeps a record of temporary installation path
* DONE (gwascat)