Back to Multiple platform build/check report for BioC 3.14
ABCDEF[G]HIJKLMNOPQRSTUVWXYZ

This page was generated on 2021-12-06 13:05:00 -0500 (Mon, 06 Dec 2021).

BUILD results for gscreend on nebbiolo2

To the developers/maintainers of the gscreend package:
- Please allow up to 24 hours (and sometimes 48 hours) for your latest push to git@git.bioconductor.org:packages/gscreend.git to
reflect on this report. See How and When does the builder pull? When will my changes propagate? here for more information.
- Make sure to use the following settings in order to reproduce any error or warning you see on this page.

raw results

Package 831/2083HostnameOS / ArchINSTALLBUILDCHECKBUILD BIN
gscreend 1.8.0  (landing page)
Katharina Imkeller
Snapshot Date: 2021-12-05 01:55:05 -0500 (Sun, 05 Dec 2021)
git_url: https://git.bioconductor.org/packages/gscreend
git_branch: RELEASE_3_14
git_last_commit: 56f9c2a
git_last_commit_date: 2021-10-26 12:55:02 -0500 (Tue, 26 Oct 2021)
nebbiolo2Linux (Ubuntu 20.04.3 LTS) / x86_64  OK    OK    OK  UNNEEDED, same version is already published
tokay2Windows Server 2012 R2 Standard / x64  OK    OK    OK    OK  UNNEEDED, same version is already published
machv2macOS 10.14.6 Mojave / x86_64  OK    OK    OK    OK  UNNEEDED, same version is already published

Summary

Package: gscreend
Version: 1.8.0
Command: /home/biocbuild/bbs-3.14-bioc/R/bin/R CMD build --keep-empty-dirs --no-resave-data gscreend
StartedAt: 2021-12-05 04:41:12 -0500 (Sun, 05 Dec 2021)
EndedAt: 2021-12-05 04:42:49 -0500 (Sun, 05 Dec 2021)
EllapsedTime: 97.3 seconds
RetCode: 0
Status:   OK  
PackageFile: gscreend_1.8.0.tar.gz
PackageFileSize: 3.113 MiB

Command output

##############################################################################
##############################################################################
###
### Running command:
###
###   /home/biocbuild/bbs-3.14-bioc/R/bin/R CMD build --keep-empty-dirs --no-resave-data gscreend
###
##############################################################################
##############################################################################


* checking for file ‘gscreend/DESCRIPTION’ ... OK
* preparing ‘gscreend’:
* checking DESCRIPTION meta-information ... OK
* installing the package to build vignettes
* creating vignettes ... OK
* checking for LF line-endings in source and make files and shell scripts
* checking for empty or unneeded directories
Omitted ‘LazyData’ from DESCRIPTION
* building ‘gscreend_1.8.0.tar.gz’