Back to Multiple platform build/check report for BioC 3.14
ABCDEF[G]HIJKLMNOPQRSTUVWXYZ

This page was generated on 2022-01-21 13:06:26 -0500 (Fri, 21 Jan 2022).

HostnameOSArch (*)R versionInstalled pkgs
nebbiolo2Linux (Ubuntu 20.04.4 LTS)x86_644.1.2 (2021-11-01) -- "Bird Hippie" 4329
tokay2Windows Server 2012 R2 Standardx644.1.2 (2021-11-01) -- "Bird Hippie" 4079
machv2macOS 10.14.6 Mojavex86_644.1.2 (2021-11-01) -- "Bird Hippie" 4140
Click on any hostname to see more info about the system (e.g. compilers)      (*) as reported by 'uname -p', except on Windows and Mac OS X

INSTALL results for graphite on tokay2


To the developers/maintainers of the graphite package:
- Please allow up to 24 hours (and sometimes 48 hours) for your latest push to git@git.bioconductor.org:packages/graphite.git to
reflect on this report. See How and When does the builder pull? When will my changes propagate? here for more information.
- Make sure to use the following settings in order to reproduce any error or warning you see on this page.

raw results

Package 821/2083HostnameOS / ArchINSTALLBUILDCHECKBUILD BIN
graphite 1.40.0  (landing page)
Gabriele Sales
Snapshot Date: 2022-01-20 01:55:04 -0500 (Thu, 20 Jan 2022)
git_url: https://git.bioconductor.org/packages/graphite
git_branch: RELEASE_3_14
git_last_commit: 9ac9323
git_last_commit_date: 2021-10-26 12:00:06 -0500 (Tue, 26 Oct 2021)
nebbiolo2Linux (Ubuntu 20.04.4 LTS) / x86_64  OK    OK    OK  UNNEEDED, same version is already published
tokay2Windows Server 2012 R2 Standard / x64  OK    OK    OK    OK  UNNEEDED, same version is already published
machv2macOS 10.14.6 Mojave / x86_64  OK    OK    OK    OK  UNNEEDED, same version is already published

Summary

Package: graphite
Version: 1.40.0
Command: C:\cygwin\bin\curl.exe -O http://155.52.207.166/BBS/3.14/bioc/src/contrib/graphite_1.40.0.tar.gz && rm -rf graphite.buildbin-libdir && mkdir graphite.buildbin-libdir && C:\Users\biocbuild\bbs-3.14-bioc\R\bin\R.exe CMD INSTALL --merge-multiarch --build --library=graphite.buildbin-libdir graphite_1.40.0.tar.gz && C:\Users\biocbuild\bbs-3.14-bioc\R\bin\R.exe CMD INSTALL graphite_1.40.0.zip && rm graphite_1.40.0.tar.gz graphite_1.40.0.zip
StartedAt: 2022-01-20 04:44:09 -0500 (Thu, 20 Jan 2022)
EndedAt: 2022-01-20 04:45:03 -0500 (Thu, 20 Jan 2022)
EllapsedTime: 54.4 seconds
RetCode: 0
Status:   OK  

Command output

##############################################################################
##############################################################################
###
### Running command:
###
###   C:\cygwin\bin\curl.exe -O http://155.52.207.166/BBS/3.14/bioc/src/contrib/graphite_1.40.0.tar.gz && rm -rf graphite.buildbin-libdir && mkdir graphite.buildbin-libdir && C:\Users\biocbuild\bbs-3.14-bioc\R\bin\R.exe CMD INSTALL --merge-multiarch --build --library=graphite.buildbin-libdir graphite_1.40.0.tar.gz && C:\Users\biocbuild\bbs-3.14-bioc\R\bin\R.exe CMD INSTALL graphite_1.40.0.zip && rm graphite_1.40.0.tar.gz graphite_1.40.0.zip
###
##############################################################################
##############################################################################


  % Total    % Received % Xferd  Average Speed   Time    Time     Time  Current
                                 Dload  Upload   Total   Spent    Left  Speed

  0     0    0     0    0     0      0      0 --:--:-- --:--:-- --:--:--     0
100  456k  100  456k    0     0  1365k      0 --:--:-- --:--:-- --:--:-- 1371k

install for i386

* installing *source* package 'graphite' ...
** using staged installation
** R
** inst
** byte-compile and prepare package for lazy loading
** help
*** installing help indices
  converting help for package 'graphite'
    finding HTML links ... done
    Pathway-class                           html  
    PathwayList-class                       html  
    Pathways-class                          html  
    as.list.PathwayList                     html  
    buildPathway                            html  
    convertIdentifiers                      html  
    cytoscapePlot                           html  
    finding level-2 HTML links ... done

    pathwayDatabases                        html  
    pathwayGraph                            html  
    pathways                                html  
    prepareSPIA                             html  
    runClipper                              html  
    runSPIA                                 html  
    runTopologyGSA                          html  
** building package indices
** installing vignettes
** testing if installed package can be loaded from temporary location
** testing if installed package can be loaded from final location
** testing if installed package keeps a record of temporary installation path

install for x64

* installing *source* package 'graphite' ...
** testing if installed package can be loaded
* MD5 sums
packaged installation of 'graphite' as graphite_1.40.0.zip
* DONE (graphite)
* installing to library 'C:/Users/biocbuild/bbs-3.14-bioc/R/library'
package 'graphite' successfully unpacked and MD5 sums checked