Back to Multiple platform build/check report for BioC 3.14
ABCDEF[G]HIJKLMNOPQRSTUVWXYZ

This page was generated on 2022-01-21 13:07:51 -0500 (Fri, 21 Jan 2022).

HostnameOSArch (*)R versionInstalled pkgs
nebbiolo2Linux (Ubuntu 20.04.4 LTS)x86_644.1.2 (2021-11-01) -- "Bird Hippie" 4329
tokay2Windows Server 2012 R2 Standardx644.1.2 (2021-11-01) -- "Bird Hippie" 4079
machv2macOS 10.14.6 Mojavex86_644.1.2 (2021-11-01) -- "Bird Hippie" 4140
Click on any hostname to see more info about the system (e.g. compilers)      (*) as reported by 'uname -p', except on Windows and Mac OS X

CHECK results for goTools on machv2


To the developers/maintainers of the goTools package:
- Please allow up to 24 hours (and sometimes 48 hours) for your latest push to git@git.bioconductor.org:packages/goTools.git to
reflect on this report. See How and When does the builder pull? When will my changes propagate? here for more information.
- Make sure to use the following settings in order to reproduce any error or warning you see on this page.

raw results

Package 809/2083HostnameOS / ArchINSTALLBUILDCHECKBUILD BIN
goTools 1.68.0  (landing page)
Agnes Paquet
Snapshot Date: 2022-01-20 01:55:04 -0500 (Thu, 20 Jan 2022)
git_url: https://git.bioconductor.org/packages/goTools
git_branch: RELEASE_3_14
git_last_commit: 31a5f26
git_last_commit_date: 2021-10-26 11:46:48 -0500 (Tue, 26 Oct 2021)
nebbiolo2Linux (Ubuntu 20.04.4 LTS) / x86_64  OK    OK    OK  UNNEEDED, same version is already published
tokay2Windows Server 2012 R2 Standard / x64  OK    OK    OK    OK  UNNEEDED, same version is already published
machv2macOS 10.14.6 Mojave / x86_64  OK    OK    OK    OK  UNNEEDED, same version is already published

Summary

Package: goTools
Version: 1.68.0
Command: /Library/Frameworks/R.framework/Resources/bin/R CMD check --install=check:goTools.install-out.txt --library=/Library/Frameworks/R.framework/Resources/library --no-vignettes --timings goTools_1.68.0.tar.gz
StartedAt: 2022-01-20 13:40:09 -0500 (Thu, 20 Jan 2022)
EndedAt: 2022-01-20 13:42:23 -0500 (Thu, 20 Jan 2022)
EllapsedTime: 133.2 seconds
RetCode: 0
Status:   OK  
CheckDir: goTools.Rcheck
Warnings: 0

Command output

##############################################################################
##############################################################################
###
### Running command:
###
###   /Library/Frameworks/R.framework/Resources/bin/R CMD check --install=check:goTools.install-out.txt --library=/Library/Frameworks/R.framework/Resources/library --no-vignettes --timings goTools_1.68.0.tar.gz
###
##############################################################################
##############################################################################


* using log directory ‘/Users/biocbuild/bbs-3.14-bioc/meat/goTools.Rcheck’
* using R version 4.1.2 (2021-11-01)
* using platform: x86_64-apple-darwin17.0 (64-bit)
* using session charset: UTF-8
* using option ‘--no-vignettes’
* checking for file ‘goTools/DESCRIPTION’ ... OK
* this is package ‘goTools’ version ‘1.68.0’
* checking package namespace information ... OK
* checking package dependencies ... OK
* checking if this is a source package ... OK
* checking if there is a namespace ... OK
* checking for hidden files and directories ... OK
* checking for portable file names ... OK
* checking for sufficient/correct file permissions ... OK
* checking whether package ‘goTools’ can be installed ... OK
* checking installed package size ... OK
* checking package directory ... OK
* checking ‘build’ directory ... OK
* checking DESCRIPTION meta-information ... NOTE
Malformed Description field: should contain one or more complete sentences.
Package listed in more than one of Depends, Imports, Suggests, Enhances:
  ‘GO.db’
A package should be listed in only one of these fields.
* checking top-level files ... NOTE
File
  LICENSE
is not mentioned in the DESCRIPTION file.
* checking for left-over files ... OK
* checking index information ... OK
* checking package subdirectories ... OK
* checking R files for non-ASCII characters ... OK
* checking R files for syntax errors ... OK
* checking whether the package can be loaded ... OK
* checking whether the package can be loaded with stated dependencies ... OK
* checking whether the package can be unloaded cleanly ... OK
* checking whether the namespace can be loaded with stated dependencies ... OK
* checking whether the namespace can be unloaded cleanly ... OK
* checking dependencies in R code ... OK
* checking S3 generic/method consistency ... OK
* checking replacement functions ... OK
* checking foreign function calls ... OK
* checking R code for possible problems ... NOTE
EndNodeList: warning in get("GO:0003674", env = GOMFCHILDREN): partial
  argument match of 'env' to 'envir'
EndNodeList: warning in get("GO:0005575", env = GOCCCHILDREN): partial
  argument match of 'env' to 'envir'
EndNodeList: warning in get("GO:0008150", env = GOBPCHILDREN): partial
  argument match of 'env' to 'envir'
getGOID: warning in mget(x, env = GOenv): partial argument match of
  'env' to 'envir'
goChildren: warning in get(id, env = envi): partial argument match of
  'env' to 'envir'
goParents: warning in get(paste("GO", cat, "PARENTS", sep = ""), env =
  as.environment("package:GO.db")): partial argument match of 'env' to
  'envir'
goParents: warning in get(goid, env = envi): partial argument match of
  'env' to 'envir'
* checking Rd files ... OK
* checking Rd metadata ... OK
* checking Rd cross-references ... OK
* checking for missing documentation entries ... OK
* checking for code/documentation mismatches ... OK
* checking Rd \usage sections ... OK
* checking Rd contents ... OK
* checking for unstated dependencies in examples ... OK
* checking contents of ‘data’ directory ... OK
* checking data for non-ASCII characters ... OK
* checking data for ASCII and uncompressed saves ... OK
* checking sizes of PDF files under ‘inst/doc’ ... OK
* checking files in ‘vignettes’ ... OK
* checking examples ... OK
* checking for unstated dependencies in vignettes ... OK
* checking package vignettes in ‘inst/doc’ ... OK
* checking running R code from vignettes ... SKIPPED
* checking re-building of vignette outputs ... SKIPPED
* checking PDF version of manual ... OK
* DONE

Status: 3 NOTEs
See
  ‘/Users/biocbuild/bbs-3.14-bioc/meat/goTools.Rcheck/00check.log’
for details.



Installation output

goTools.Rcheck/00install.out

##############################################################################
##############################################################################
###
### Running command:
###
###   /Library/Frameworks/R.framework/Resources/bin/R CMD INSTALL goTools
###
##############################################################################
##############################################################################


* installing to library ‘/Library/Frameworks/R.framework/Versions/4.1/Resources/library’
* installing *source* package ‘goTools’ ...
** using staged installation
** R
** data
** byte-compile and prepare package for lazy loading
** help
*** installing help indices
** building package indices
** installing vignettes
** testing if installed package can be loaded from temporary location
** testing if installed package can be loaded from final location
** testing if installed package keeps a record of temporary installation path
* DONE (goTools)

Tests output


Example timings

goTools.Rcheck/goTools-Ex.timings

nameusersystemelapsed
EndNodeList0.0000.0010.001
ontoCompare0.0000.0010.001