Back to Multiple platform build/check report for BioC 3.14
ABCDEF[G]HIJKLMNOPQRSTUVWXYZ

This page was generated on 2022-01-19 13:06:41 -0500 (Wed, 19 Jan 2022).

HostnameOSArch (*)R versionInstalled pkgs
nebbiolo2Linux (Ubuntu 20.04.4 LTS)x86_644.1.2 (2021-11-01) -- "Bird Hippie" 4328
tokay2Windows Server 2012 R2 Standardx644.1.2 (2021-11-01) -- "Bird Hippie" 4077
machv2macOS 10.14.6 Mojavex86_644.1.2 (2021-11-01) -- "Bird Hippie" 4138
Click on any hostname to see more info about the system (e.g. compilers)      (*) as reported by 'uname -p', except on Windows and Mac OS X

CHECK results for goProfiles on tokay2


To the developers/maintainers of the goProfiles package:
- Please allow up to 24 hours (and sometimes 48 hours) for your latest push to git@git.bioconductor.org:packages/goProfiles.git to
reflect on this report. See How and When does the builder pull? When will my changes propagate? here for more information.
- Make sure to use the following settings in order to reproduce any error or warning you see on this page.

raw results

Package 801/2083HostnameOS / ArchINSTALLBUILDCHECKBUILD BIN
goProfiles 1.56.0  (landing page)
Alex Sanchez
Snapshot Date: 2022-01-18 01:55:07 -0500 (Tue, 18 Jan 2022)
git_url: https://git.bioconductor.org/packages/goProfiles
git_branch: RELEASE_3_14
git_last_commit: 8d389b2
git_last_commit_date: 2021-10-26 11:52:18 -0500 (Tue, 26 Oct 2021)
nebbiolo2Linux (Ubuntu 20.04.4 LTS) / x86_64  OK    OK    OK  UNNEEDED, same version is already published
tokay2Windows Server 2012 R2 Standard / x64  OK    OK    OK    OK  UNNEEDED, same version is already published
machv2macOS 10.14.6 Mojave / x86_64  OK    OK    OK    OK  UNNEEDED, same version is already published

Summary

Package: goProfiles
Version: 1.56.0
Command: C:\Users\biocbuild\bbs-3.14-bioc\R\bin\R.exe CMD check --force-multiarch --install=check:goProfiles.install-out.txt --library=C:\Users\biocbuild\bbs-3.14-bioc\R\library --no-vignettes --timings goProfiles_1.56.0.tar.gz
StartedAt: 2022-01-18 20:33:19 -0500 (Tue, 18 Jan 2022)
EndedAt: 2022-01-18 20:37:42 -0500 (Tue, 18 Jan 2022)
EllapsedTime: 263.1 seconds
RetCode: 0
Status:   OK  
CheckDir: goProfiles.Rcheck
Warnings: 0

Command output

##############################################################################
##############################################################################
###
### Running command:
###
###   C:\Users\biocbuild\bbs-3.14-bioc\R\bin\R.exe CMD check --force-multiarch --install=check:goProfiles.install-out.txt --library=C:\Users\biocbuild\bbs-3.14-bioc\R\library --no-vignettes --timings goProfiles_1.56.0.tar.gz
###
##############################################################################
##############################################################################


* using log directory 'C:/Users/biocbuild/bbs-3.14-bioc/meat/goProfiles.Rcheck'
* using R version 4.1.2 (2021-11-01)
* using platform: x86_64-w64-mingw32 (64-bit)
* using session charset: ISO8859-1
* using option '--no-vignettes'
* checking for file 'goProfiles/DESCRIPTION' ... OK
* checking extension type ... Package
* this is package 'goProfiles' version '1.56.0'
* checking package namespace information ... OK
* checking package dependencies ... OK
* checking if this is a source package ... OK
* checking if there is a namespace ... OK
* checking for hidden files and directories ... OK
* checking for portable file names ... OK
* checking whether package 'goProfiles' can be installed ... OK
* checking installed package size ... OK
* checking package directory ... OK
* checking 'build' directory ... OK
* checking DESCRIPTION meta-information ... OK
* checking top-level files ... OK
* checking for left-over files ... OK
* checking index information ... OK
* checking package subdirectories ... OK
* checking R files for non-ASCII characters ... OK
* checking R files for syntax errors ... OK
* loading checks for arch 'i386'
** checking whether the package can be loaded ... OK
** checking whether the package can be loaded with stated dependencies ... OK
** checking whether the package can be unloaded cleanly ... OK
** checking whether the namespace can be loaded with stated dependencies ... OK
** checking whether the namespace can be unloaded cleanly ... OK
* loading checks for arch 'x64'
** checking whether the package can be loaded ... OK
** checking whether the package can be loaded with stated dependencies ... OK
** checking whether the package can be unloaded cleanly ... OK
** checking whether the namespace can be loaded with stated dependencies ... OK
** checking whether the namespace can be unloaded cleanly ... OK
* checking dependencies in R code ... OK
* checking S3 generic/method consistency ... OK
* checking replacement functions ... OK
* checking foreign function calls ... OK
* checking R code for possible problems ... OK
* checking Rd files ... OK
* checking Rd metadata ... OK
* checking Rd cross-references ... OK
* checking for missing documentation entries ... OK
* checking for code/documentation mismatches ... OK
* checking Rd \usage sections ... OK
* checking Rd contents ... OK
* checking for unstated dependencies in examples ... OK
* checking contents of 'data' directory ... OK
* checking data for non-ASCII characters ... OK
* checking data for ASCII and uncompressed saves ... OK
* checking installed files from 'inst/doc' ... OK
* checking files in 'vignettes' ... OK
* checking examples ...
** running examples for arch 'i386' ... OK
Examples with CPU (user + system) or elapsed time > 5s
                      user system elapsed
compareGeneLists     16.59   0.24   16.83
equivalentGOProfiles 12.90   0.25   15.26
fisherGOProfiles      5.25   0.03    5.29
printProfiles         5.05   0.05    5.10
** running examples for arch 'x64' ... OK
Examples with CPU (user + system) or elapsed time > 5s
                      user system elapsed
compareGeneLists     15.95   0.26   16.22
equivalentGOProfiles 12.83   0.20   13.03
fisherGOProfiles      5.09   0.05    5.14
* checking for unstated dependencies in vignettes ... OK
* checking package vignettes in 'inst/doc' ... OK
* checking running R code from vignettes ... SKIPPED
* checking re-building of vignette outputs ... SKIPPED
* checking PDF version of manual ... OK
* DONE

Status: OK


Installation output

goProfiles.Rcheck/00install.out

##############################################################################
##############################################################################
###
### Running command:
###
###   C:\cygwin\bin\curl.exe -O http://155.52.207.166/BBS/3.14/bioc/src/contrib/goProfiles_1.56.0.tar.gz && rm -rf goProfiles.buildbin-libdir && mkdir goProfiles.buildbin-libdir && C:\Users\biocbuild\bbs-3.14-bioc\R\bin\R.exe CMD INSTALL --merge-multiarch --build --library=goProfiles.buildbin-libdir goProfiles_1.56.0.tar.gz && C:\Users\biocbuild\bbs-3.14-bioc\R\bin\R.exe CMD INSTALL goProfiles_1.56.0.zip && rm goProfiles_1.56.0.tar.gz goProfiles_1.56.0.zip
###
##############################################################################
##############################################################################


  % Total    % Received % Xferd  Average Speed   Time    Time     Time  Current
                                 Dload  Upload   Total   Spent    Left  Speed

  0     0    0     0    0     0      0      0 --:--:-- --:--:-- --:--:--     0
100  290k  100  290k    0     0  1818k      0 --:--:-- --:--:-- --:--:-- 1829k

install for i386

* installing *source* package 'goProfiles' ...
** using staged installation
** R
** data
** inst
** byte-compile and prepare package for lazy loading
** help
*** installing help indices
  converting help for package 'goProfiles'
    finding HTML links ... done
    CD4ids                                  html  
    GOTermsList                             html  
    basicProfile                            html  
    clustKidneyMF2                          html  
    compSummary                             html  
    compareGOProfiles                       html  
    compareGeneLists                        html  
    compareProfilesLists                    html  
    contractedProfile                       html  
    conversionFunctions                     html  
    drosophila                              html  
    equivClust                              html  
    equivClust2pdf                          html  
    equivSummary                            html  
    equivalentGOProfiles                    html  
    expandedLevel                           html  
    expandedProfile                         html  
    fisherGOProfiles                        html  
    fitGOProfile                            html  
    goProfiles-package                      html  
    hugoIds                                 html  
    iterEquivClust                          html  
    kidneyGeneLists                         html  
    mergeProfilesLists                      html  
    ngenes                                  html  
    omimIds                                 html  
    plotProfiles                            html  
    printProfiles                           html  
    prostateIds                             html  
** building package indices
** installing vignettes
** testing if installed package can be loaded from temporary location
** testing if installed package can be loaded from final location
** testing if installed package keeps a record of temporary installation path

install for x64

* installing *source* package 'goProfiles' ...
** testing if installed package can be loaded
* MD5 sums
packaged installation of 'goProfiles' as goProfiles_1.56.0.zip
* DONE (goProfiles)
* installing to library 'C:/Users/biocbuild/bbs-3.14-bioc/R/library'
package 'goProfiles' successfully unpacked and MD5 sums checked

Tests output


Example timings

goProfiles.Rcheck/examples_i386/goProfiles-Ex.timings

nameusersystemelapsed
CD4ids000
GOTermsList000
basicProfile2.720.132.84
compSummary000
compareGOProfiles3.840.093.94
compareGeneLists16.59 0.2416.83
compareProfilesLists000
contractedProfile1.740.001.73
conversionFunctions0.050.000.05
drosophila000
equivClust000
equivClust2pdf0.060.010.08
equivSummary000
equivalentGOProfiles12.90 0.2515.26
expandedLevel0.740.000.78
expandedProfile0.890.030.93
fisherGOProfiles5.250.035.29
fitGOProfile000
hugoIds0.010.000.02
iterEquivClust0.020.000.01
mergeProfilesLists4.300.024.35
ngenes1.760.011.78
omimIds0.020.000.02
plotProfiles4.340.134.46
printProfiles5.050.055.10
prostateIds0.000.010.01

goProfiles.Rcheck/examples_x64/goProfiles-Ex.timings

nameusersystemelapsed
CD4ids0.020.000.01
GOTermsList000
basicProfile3.080.043.12
compSummary000
compareGOProfiles3.660.133.78
compareGeneLists15.95 0.2616.22
compareProfilesLists000
contractedProfile1.500.051.55
conversionFunctions0.030.000.03
drosophila000
equivClust000
equivClust2pdf0.050.030.08
equivSummary000
equivalentGOProfiles12.83 0.2013.03
expandedLevel0.70.00.7
expandedProfile0.910.000.91
fisherGOProfiles5.090.055.14
fitGOProfile000
hugoIds0.020.000.02
iterEquivClust000
mergeProfilesLists4.480.064.54
ngenes1.630.031.66
omimIds0.010.000.02
plotProfiles4.600.074.65
printProfiles4.890.044.94
prostateIds000