Back to Multiple platform build/check report for BioC 3.14
ABCDEF[G]HIJKLMNOPQRSTUVWXYZ

This page was generated on 2022-01-14 13:06:29 -0500 (Fri, 14 Jan 2022).

HostnameOSArch (*)R versionInstalled pkgs
nebbiolo2Linux (Ubuntu 20.04.4 LTS)x86_644.1.2 (2021-11-01) -- "Bird Hippie" 4327
tokay2Windows Server 2012 R2 Standardx644.1.2 (2021-11-01) -- "Bird Hippie" 4076
machv2macOS 10.14.6 Mojavex86_644.1.2 (2021-11-01) -- "Bird Hippie" 4137
Click on any hostname to see more info about the system (e.g. compilers)      (*) as reported by 'uname -p', except on Windows and Mac OS X

BUILD BIN results for goProfiles on tokay2


To the developers/maintainers of the goProfiles package:
- Please allow up to 24 hours (and sometimes 48 hours) for your latest push to git@git.bioconductor.org:packages/goProfiles.git to
reflect on this report. See How and When does the builder pull? When will my changes propagate? here for more information.
- Make sure to use the following settings in order to reproduce any error or warning you see on this page.

raw results

Package 801/2083HostnameOS / ArchINSTALLBUILDCHECKBUILD BIN
goProfiles 1.56.0  (landing page)
Alex Sanchez
Snapshot Date: 2022-01-13 01:55:04 -0500 (Thu, 13 Jan 2022)
git_url: https://git.bioconductor.org/packages/goProfiles
git_branch: RELEASE_3_14
git_last_commit: 8d389b2
git_last_commit_date: 2021-10-26 11:52:18 -0500 (Tue, 26 Oct 2021)
nebbiolo2Linux (Ubuntu 20.04.4 LTS) / x86_64  OK    OK    OK  UNNEEDED, same version is already published
tokay2Windows Server 2012 R2 Standard / x64  OK    OK    OK    OK  UNNEEDED, same version is already published
machv2macOS 10.14.6 Mojave / x86_64  OK    OK    OK    OK  UNNEEDED, same version is already published

Summary

Package: goProfiles
Version: 1.56.0
Command: rm -rf goProfiles.buildbin-libdir && mkdir goProfiles.buildbin-libdir && C:\Users\biocbuild\bbs-3.14-bioc\R\bin\R.exe CMD INSTALL --merge-multiarch --build --library=goProfiles.buildbin-libdir goProfiles_1.56.0.tar.gz
StartedAt: 2022-01-14 05:49:34 -0500 (Fri, 14 Jan 2022)
EndedAt: 2022-01-14 05:50:03 -0500 (Fri, 14 Jan 2022)
EllapsedTime: 29.0 seconds
RetCode: 0
Status:   OK  
PackageFile: goProfiles_1.56.0.zip
PackageFileSize: 571.8 KiB

Command output

##############################################################################
##############################################################################
###
### Running command:
###
###   rm -rf goProfiles.buildbin-libdir && mkdir goProfiles.buildbin-libdir && C:\Users\biocbuild\bbs-3.14-bioc\R\bin\R.exe CMD INSTALL --merge-multiarch --build --library=goProfiles.buildbin-libdir goProfiles_1.56.0.tar.gz
###
##############################################################################
##############################################################################



install for i386

* installing *source* package 'goProfiles' ...
** using staged installation
** R
** data
** inst
** byte-compile and prepare package for lazy loading
** help
*** installing help indices
  converting help for package 'goProfiles'
    finding HTML links ... done
    CD4ids                                  html  
    GOTermsList                             html  
    basicProfile                            html  
    clustKidneyMF2                          html  
    compSummary                             html  
    compareGOProfiles                       html  
    compareGeneLists                        html  
    compareProfilesLists                    html  
    contractedProfile                       html  
    conversionFunctions                     html  
    drosophila                              html  
    equivClust                              html  
    equivClust2pdf                          html  
    equivSummary                            html  
    equivalentGOProfiles                    html  
    expandedLevel                           html  
    expandedProfile                         html  
    fisherGOProfiles                        html  
    fitGOProfile                            html  
    goProfiles-package                      html  
    hugoIds                                 html  
    iterEquivClust                          html  
    kidneyGeneLists                         html  
    mergeProfilesLists                      html  
    ngenes                                  html  
    omimIds                                 html  
    plotProfiles                            html  
    printProfiles                           html  
    prostateIds                             html  
** building package indices
** installing vignettes
** testing if installed package can be loaded from temporary location
** testing if installed package can be loaded from final location
** testing if installed package keeps a record of temporary installation path

install for x64

* installing *source* package 'goProfiles' ...
** testing if installed package can be loaded
* MD5 sums
packaged installation of 'goProfiles' as goProfiles_1.56.0.zip
* DONE (goProfiles)