Back to Multiple platform build/check report for BioC 3.14
ABCDEF[G]HIJKLMNOPQRSTUVWXYZ

This page was generated on 2022-01-14 13:06:28 -0500 (Fri, 14 Jan 2022).

HostnameOSArch (*)R versionInstalled pkgs
nebbiolo2Linux (Ubuntu 20.04.4 LTS)x86_644.1.2 (2021-11-01) -- "Bird Hippie" 4327
tokay2Windows Server 2012 R2 Standardx644.1.2 (2021-11-01) -- "Bird Hippie" 4076
machv2macOS 10.14.6 Mojavex86_644.1.2 (2021-11-01) -- "Bird Hippie" 4137
Click on any hostname to see more info about the system (e.g. compilers)      (*) as reported by 'uname -p', except on Windows and Mac OS X

INSTALL results for ggcyto on tokay2


To the developers/maintainers of the ggcyto package:
- Please allow up to 24 hours (and sometimes 48 hours) for your latest push to git@git.bioconductor.org:packages/ggcyto.git to
reflect on this report. See How and When does the builder pull? When will my changes propagate? here for more information.
- Make sure to use the following settings in order to reproduce any error or warning you see on this page.

raw results

Package 776/2083HostnameOS / ArchINSTALLBUILDCHECKBUILD BIN
ggcyto 1.22.0  (landing page)
Mike Jiang ,Jake Wagner
Snapshot Date: 2022-01-13 01:55:04 -0500 (Thu, 13 Jan 2022)
git_url: https://git.bioconductor.org/packages/ggcyto
git_branch: RELEASE_3_14
git_last_commit: b36d93a
git_last_commit_date: 2021-10-26 12:24:41 -0500 (Tue, 26 Oct 2021)
nebbiolo2Linux (Ubuntu 20.04.4 LTS) / x86_64  OK    OK    OK  UNNEEDED, same version is already published
tokay2Windows Server 2012 R2 Standard / x64  OK    OK    OK    OK  UNNEEDED, same version is already published
machv2macOS 10.14.6 Mojave / x86_64  OK    OK    OK    OK  UNNEEDED, same version is already published

Summary

Package: ggcyto
Version: 1.22.0
Command: C:\cygwin\bin\curl.exe -O http://155.52.207.166/BBS/3.14/bioc/src/contrib/ggcyto_1.22.0.tar.gz && rm -rf ggcyto.buildbin-libdir && mkdir ggcyto.buildbin-libdir && C:\Users\biocbuild\bbs-3.14-bioc\R\bin\R.exe CMD INSTALL --merge-multiarch --build --library=ggcyto.buildbin-libdir ggcyto_1.22.0.tar.gz && C:\Users\biocbuild\bbs-3.14-bioc\R\bin\R.exe CMD INSTALL ggcyto_1.22.0.zip && rm ggcyto_1.22.0.tar.gz ggcyto_1.22.0.zip
StartedAt: 2022-01-13 05:27:36 -0500 (Thu, 13 Jan 2022)
EndedAt: 2022-01-13 05:30:18 -0500 (Thu, 13 Jan 2022)
EllapsedTime: 162.0 seconds
RetCode: 0
Status:   OK  

Command output

##############################################################################
##############################################################################
###
### Running command:
###
###   C:\cygwin\bin\curl.exe -O http://155.52.207.166/BBS/3.14/bioc/src/contrib/ggcyto_1.22.0.tar.gz && rm -rf ggcyto.buildbin-libdir && mkdir ggcyto.buildbin-libdir && C:\Users\biocbuild\bbs-3.14-bioc\R\bin\R.exe CMD INSTALL --merge-multiarch --build --library=ggcyto.buildbin-libdir ggcyto_1.22.0.tar.gz && C:\Users\biocbuild\bbs-3.14-bioc\R\bin\R.exe CMD INSTALL ggcyto_1.22.0.zip && rm ggcyto_1.22.0.tar.gz ggcyto_1.22.0.zip
###
##############################################################################
##############################################################################


  % Total    % Received % Xferd  Average Speed   Time    Time     Time  Current
                                 Dload  Upload   Total   Spent    Left  Speed

  0     0    0     0    0     0      0      0 --:--:-- --:--:-- --:--:--     0
 36 14.1M   36 5330k    0     0  5381k      0  0:00:02 --:--:--  0:00:02 5383k
 88 14.1M   88 12.4M    0     0  6433k      0  0:00:02  0:00:01  0:00:01 6433k
100 14.1M  100 14.1M    0     0  6527k      0  0:00:02  0:00:02 --:--:-- 6529k

install for i386

* installing *source* package 'ggcyto' ...
** using staged installation
** R
** inst
** byte-compile and prepare package for lazy loading
** help
*** installing help indices
  converting help for package 'ggcyto'
    finding HTML links ... done
    as.ggplot                               html  
    autoplot                                html  
    finding level-2 HTML links ... done

    axis_x_inverse_trans                    html  
    compute_stats                           html  
    flowCore_asinht_trans                   html  
    fortify.ellipsoidGate                   html  
    fortify.filterList                      html  
    fortify.flowSet                         html  
    fortify.polygonGate                     html  
    fortify.rectangleGate                   html  
    fortify_fs                              html  
    gate_null                               html  
    geom_gate                               html  
    geom_hvline                             html  
    geom_overlay                            html  
    geom_stats                              html  
    getFlowFrame                            html  
    ggcyto                                  html  
    ggcyto_add                              html  
    ggcyto_arrange                          html  
    ggcyto_par_default                      html  
    ggcyto_par_set                          html  
    is.ggcyto                               html  
    is.ggcyto_flowSet                       html  
    is.ggcyto_par                           html  
    labs_cyto                               html  
    marginalFilter                          html  
    merge.quad.gates                        html  
    print.ggcyto                            html  
    print.ggcyto_GatingLayout               html  
    replace_data                            html  
    scale_x_flowCore_fasinh                 html  
    scale_x_logicle                         html  
    scales_flowjo_biexp                     html  
REDIRECT:topic	 Previous alias or file overwritten by alias: C:/Users/biocbuild/bbs-3.14-bioc/meat/ggcyto.buildbin-libdir/00LOCK-ggcyto/00new/ggcyto/help/scale_x_flowJo_biexp.html
REDIRECT:topic	 Previous alias or file overwritten by alias: C:/Users/biocbuild/bbs-3.14-bioc/meat/ggcyto.buildbin-libdir/00LOCK-ggcyto/00new/ggcyto/help/scale_y_flowJo_biexp.html
    scales_flowjo_fasinh                    html  
REDIRECT:topic	 Previous alias or file overwritten by alias: C:/Users/biocbuild/bbs-3.14-bioc/meat/ggcyto.buildbin-libdir/00LOCK-ggcyto/00new/ggcyto/help/scale_x_flowJo_fasinh.html
REDIRECT:topic	 Previous alias or file overwritten by alias: C:/Users/biocbuild/bbs-3.14-bioc/meat/ggcyto.buildbin-libdir/00LOCK-ggcyto/00new/ggcyto/help/scale_y_flowJo_fasinh.html
    stat_position                           html  
    stats_null                              html  
    transform-gate                          html  
*** copying figures
** building package indices
** installing vignettes
** testing if installed package can be loaded from temporary location
** testing if installed package can be loaded from final location
** testing if installed package keeps a record of temporary installation path

install for x64

* installing *source* package 'ggcyto' ...
** testing if installed package can be loaded
* MD5 sums
packaged installation of 'ggcyto' as ggcyto_1.22.0.zip
* DONE (ggcyto)
* installing to library 'C:/Users/biocbuild/bbs-3.14-bioc/R/library'
package 'ggcyto' successfully unpacked and MD5 sums checked