Back to Multiple platform build/check report for BioC 3.14
ABCDEF[G]HIJKLMNOPQRSTUVWXYZ

This page was generated on 2022-01-26 13:08:05 -0500 (Wed, 26 Jan 2022).

HostnameOSArch (*)R versionInstalled pkgs
nebbiolo2Linux (Ubuntu 20.04.4 LTS)x86_644.1.2 (2021-11-01) -- "Bird Hippie" 4329
tokay2Windows Server 2012 R2 Standardx644.1.2 (2021-11-01) -- "Bird Hippie" 4080
machv2macOS 10.14.6 Mojavex86_644.1.2 (2021-11-01) -- "Bird Hippie" 4141
Click on any hostname to see more info about the system (e.g. compilers)      (*) as reported by 'uname -p', except on Windows and Mac OS X

CHECK results for ggcyto on machv2


To the developers/maintainers of the ggcyto package:
- Please allow up to 24 hours (and sometimes 48 hours) for your latest push to git@git.bioconductor.org:packages/ggcyto.git to
reflect on this report. See How and When does the builder pull? When will my changes propagate? here for more information.
- Make sure to use the following settings in order to reproduce any error or warning you see on this page.

raw results

Package 776/2083HostnameOS / ArchINSTALLBUILDCHECKBUILD BIN
ggcyto 1.22.0  (landing page)
Mike Jiang ,Jake Wagner
Snapshot Date: 2022-01-25 01:55:07 -0500 (Tue, 25 Jan 2022)
git_url: https://git.bioconductor.org/packages/ggcyto
git_branch: RELEASE_3_14
git_last_commit: b36d93a
git_last_commit_date: 2021-10-26 12:24:41 -0500 (Tue, 26 Oct 2021)
nebbiolo2Linux (Ubuntu 20.04.4 LTS) / x86_64  OK    OK    OK  UNNEEDED, same version is already published
tokay2Windows Server 2012 R2 Standard / x64  OK    OK    OK    OK  UNNEEDED, same version is already published
machv2macOS 10.14.6 Mojave / x86_64  OK    OK    OK    OK  UNNEEDED, same version is already published

Summary

Package: ggcyto
Version: 1.22.0
Command: /Library/Frameworks/R.framework/Resources/bin/R CMD check --install=check:ggcyto.install-out.txt --library=/Library/Frameworks/R.framework/Resources/library --no-vignettes --timings ggcyto_1.22.0.tar.gz
StartedAt: 2022-01-25 13:32:52 -0500 (Tue, 25 Jan 2022)
EndedAt: 2022-01-25 13:36:47 -0500 (Tue, 25 Jan 2022)
EllapsedTime: 234.5 seconds
RetCode: 0
Status:   OK  
CheckDir: ggcyto.Rcheck
Warnings: 0

Command output

##############################################################################
##############################################################################
###
### Running command:
###
###   /Library/Frameworks/R.framework/Resources/bin/R CMD check --install=check:ggcyto.install-out.txt --library=/Library/Frameworks/R.framework/Resources/library --no-vignettes --timings ggcyto_1.22.0.tar.gz
###
##############################################################################
##############################################################################


* using log directory ‘/Users/biocbuild/bbs-3.14-bioc/meat/ggcyto.Rcheck’
* using R version 4.1.2 (2021-11-01)
* using platform: x86_64-apple-darwin17.0 (64-bit)
* using session charset: UTF-8
* using option ‘--no-vignettes’
* checking for file ‘ggcyto/DESCRIPTION’ ... OK
* checking extension type ... Package
* this is package ‘ggcyto’ version ‘1.22.0’
* checking package namespace information ... OK
* checking package dependencies ... OK
* checking if this is a source package ... OK
* checking if there is a namespace ... OK
* checking for hidden files and directories ... NOTE
Found the following hidden files and directories:
  .travis.yml
These were most likely included in error. See section ‘Package
structure’ in the ‘Writing R Extensions’ manual.
* checking for portable file names ... NOTE
Found the following non-portable file path:
  ggcyto/docs/articles/advanced/ggplot.flowSet.overlay_files/accessible-code-block-0.0.1/empty-anchor.js

Tarballs are only required to store paths of up to 100 bytes and cannot
store those of more than 256 bytes, with restrictions including to 100
bytes for the final component.
See section ‘Package structure’ in the ‘Writing R Extensions’ manual.
* checking for sufficient/correct file permissions ... OK
* checking whether package ‘ggcyto’ can be installed ... OK
* checking installed package size ... OK
* checking package directory ... OK
* checking ‘build’ directory ... OK
* checking DESCRIPTION meta-information ... OK
* checking top-level files ... OK
* checking for left-over files ... OK
* checking index information ... OK
* checking package subdirectories ... OK
* checking R files for non-ASCII characters ... OK
* checking R files for syntax errors ... OK
* checking whether the package can be loaded ... OK
* checking whether the package can be loaded with stated dependencies ... OK
* checking whether the package can be unloaded cleanly ... OK
* checking whether the namespace can be loaded with stated dependencies ... OK
* checking whether the namespace can be unloaded cleanly ... OK
* checking dependencies in R code ... NOTE
Namespace in Imports field not imported from: ‘scales’
  All declared Imports should be used.
':::' call which should be '::': ‘flowWorkspace:::gh_pop_is_negated’
  See the note in ?`:::` about the use of this operator.
Unexported objects imported by ':::' calls:
  ‘flowWorkspace:::.mergeGates’ ‘flowWorkspace:::compact’
  ‘flowWorkspace:::fix_y_axis’ ‘ggplot2:::+.gg’ ‘ggplot2:::add_group’
  ‘ggplot2:::as_gg_data_frame’ ‘ggplot2:::check_aesthetics’
  ‘ggplot2:::hex_binwidth’ ‘ggplot2:::is.waive’
  ‘ggplot2:::is_calculated_aes’ ‘ggplot2:::make_labels’
  ‘ggplot2:::make_scale’ ‘ggplot2:::plot_clone’
  ‘ggplot2:::print.ggplot’ ‘ggplot2:::scales_add_defaults’
  ‘ggplot2:::scales_list’
  See the note in ?`:::` about the use of this operator.
* checking S3 generic/method consistency ... OK
* checking replacement functions ... OK
* checking foreign function calls ... OK
* checking R code for possible problems ... NOTE
.fs2dt: no visible binding for global variable ‘name’
add_ggcyto: no visible binding for global variable ‘name’
add_ggcyto: no visible global function definition for ‘modifyList’
add_ggcyto: no visible binding for global variable ‘axis’
add_ggcyto: no visible binding for global variable ‘desc’
add_par: no visible global function definition for ‘modifyList’
as.ggplot: no visible binding for global variable ‘axis’
as.ggplot: no visible binding for global variable ‘name’
as.ggplot : <anonymous>: no visible binding for global variable ‘axis’
as.ggplot : <anonymous>: no visible binding for global variable ‘name’
as.ggplot: no visible binding for global variable ‘count’
as.ggplot: no visible global function definition for ‘densCols’
as.ggplot: no visible global function definition for ‘colorRampPalette’
as.ggplot: no visible binding for global variable ‘density’
autoplot.GatingHierarchy : <anonymous>: no visible global function
  definition for ‘gray’
autoplot.GatingSetList: no visible global function definition for
  ‘getS3method’
autoplot.ncdfFlowList: no visible global function definition for
  ‘getS3method’
density_fr_all : <anonymous>: no visible global function definition for
  ‘gray’
fortify.GatingSetList: no visible global function definition for
  ‘getS3method’
fortify.ncdfFlowList: no visible global function definition for
  ‘getS3method’
fortify_fs.GatingSetList: no visible global function definition for
  ‘getS3method’
getFlowFrame.GatingSetList: no visible global function definition for
  ‘getS3method’
getFlowFrame.ncdfFlowList: no visible global function definition for
  ‘getS3method’
ggcyto.GatingSetList: no visible global function definition for
  ‘getS3method’
ggcyto.flowSet: no visible binding for global variable ‘name’
ggcyto.flowSet: no visible binding for global variable ‘axis’
ggcyto.ncdfFlowList: no visible global function definition for
  ‘getS3method’
ggcyto_arrange: no visible binding for global variable ‘name’
stat_position.filter: no visible global function definition for
  ‘setNames’
Undefined global functions or variables:
  axis colorRampPalette count densCols density desc getS3method gray
  modifyList name setNames
Consider adding
  importFrom("grDevices", "colorRampPalette", "densCols", "gray")
  importFrom("graphics", "axis")
  importFrom("stats", "density", "setNames")
  importFrom("utils", "getS3method", "modifyList")
to your NAMESPACE file.
* checking Rd files ... OK
* checking Rd metadata ... OK
* checking Rd cross-references ... OK
* checking for missing documentation entries ... OK
* checking for code/documentation mismatches ... OK
* checking Rd \usage sections ... OK
* checking Rd contents ... OK
* checking for unstated dependencies in examples ... OK
* checking files in ‘vignettes’ ... OK
* checking examples ... OK
Examples with CPU (user + system) or elapsed time > 5s
             user system elapsed
ggcyto     14.118  0.260  14.448
autoplot   13.708  0.441  14.195
ggcyto_add 10.085  0.249  10.374
* checking for unstated dependencies in ‘tests’ ... OK
* checking tests ...
  Running ‘testthat.R’
 OK
* checking for unstated dependencies in vignettes ... OK
* checking package vignettes in ‘inst/doc’ ... OK
* checking running R code from vignettes ... SKIPPED
* checking re-building of vignette outputs ... SKIPPED
* checking PDF version of manual ... OK
* DONE

Status: 4 NOTEs
See
  ‘/Users/biocbuild/bbs-3.14-bioc/meat/ggcyto.Rcheck/00check.log’
for details.



Installation output

ggcyto.Rcheck/00install.out

##############################################################################
##############################################################################
###
### Running command:
###
###   /Library/Frameworks/R.framework/Resources/bin/R CMD INSTALL ggcyto
###
##############################################################################
##############################################################################


* installing to library ‘/Library/Frameworks/R.framework/Versions/4.1/Resources/library’
* installing *source* package ‘ggcyto’ ...
** using staged installation
** R
** inst
** byte-compile and prepare package for lazy loading
** help
*** installing help indices
*** copying figures
** building package indices
** installing vignettes
** testing if installed package can be loaded from temporary location
** testing if installed package can be loaded from final location
** testing if installed package keeps a record of temporary installation path
* DONE (ggcyto)

Tests output

ggcyto.Rcheck/tests/testthat.Rout


R version 4.1.2 (2021-11-01) -- "Bird Hippie"
Copyright (C) 2021 The R Foundation for Statistical Computing
Platform: x86_64-apple-darwin17.0 (64-bit)

R is free software and comes with ABSOLUTELY NO WARRANTY.
You are welcome to redistribute it under certain conditions.
Type 'license()' or 'licence()' for distribution details.

R is a collaborative project with many contributors.
Type 'contributors()' for more information and
'citation()' on how to cite R or R packages in publications.

Type 'demo()' for some demos, 'help()' for on-line help, or
'help.start()' for an HTML browser interface to help.
Type 'q()' to quit R.

> library(testthat)
> library(ggcyto)
Loading required package: ggplot2
Loading required package: flowCore
Loading required package: ncdfFlow
Loading required package: RcppArmadillo
Loading required package: BH
Loading required package: flowWorkspace
As part of improvements to flowWorkspace, some behavior of
GatingSet objects has changed. For details, please read the section
titled "The cytoframe and cytoset classes" in the package vignette:

  vignette("flowWorkspace-Introduction", "flowWorkspace")
> library(vdiffr)
> 
> test_check("ggcyto")
Coordinate system already present. Adding new coordinate system, which will replace the existing one.
`stat_bin()` using `bins = 30`. Pick better value with `binwidth`.
[ FAIL 0 | WARN 0 | SKIP 6 | PASS 1 ]

══ Skipped tests ═══════════════════════════════════════════════════════════════
• On CRAN (6)

[ FAIL 0 | WARN 0 | SKIP 6 | PASS 1 ]
> 
> proc.time()
   user  system elapsed 
 13.549   0.761  14.323 

Example timings

ggcyto.Rcheck/ggcyto-Ex.timings

nameusersystemelapsed
as.ggplot1.4410.0641.508
autoplot13.708 0.44114.195
axis_x_inverse_trans1.1600.0451.208
compute_stats1.3040.0251.332
flowCore_asinht_trans0.0020.0000.003
fortify.ellipsoidGate0.0120.0020.015
fortify.filterList0.0270.0040.032
fortify.flowSet0.1370.0240.162
fortify.polygonGate0.0050.0000.006
fortify.rectangleGate0.0110.0010.012
fortify_fs0.7970.0150.812
gate_null0.4970.0170.514
geom_gate3.0970.0813.182
geom_hvline0.3510.0090.362
geom_overlay1.5360.0581.600
geom_stats1.9640.0582.030
getFlowFrame4.7580.1454.909
ggcyto14.118 0.26014.448
ggcyto_add10.085 0.24910.374
ggcyto_arrange0.0000.0010.001
ggcyto_par_default0.0130.0010.014
ggcyto_par_set1.2580.0431.303
is.ggcyto0.8160.0100.827
is.ggcyto_flowSet0.8760.0190.894
is.ggcyto_par0.0030.0000.003
labs_cyto1.1750.0591.266
marginalFilter2.5300.0662.597
merge.quad.gates0.1530.0030.156
replace_data1.3180.0421.361
scale_x_flowCore_fasinh1.3430.0181.364
scale_x_logicle1.2300.0221.254
scales_flowjo_biexp1.1480.0121.162
scales_flowjo_fasinh1.6970.0351.735
stat_position0.780.010.79
stats_null0.1640.0070.171