Back to Multiple platform build/check report for BioC 3.14
ABCDEF[G]HIJKLMNOPQRSTUVWXYZ

This page was generated on 2022-01-14 13:06:28 -0500 (Fri, 14 Jan 2022).

HostnameOSArch (*)R versionInstalled pkgs
nebbiolo2Linux (Ubuntu 20.04.4 LTS)x86_644.1.2 (2021-11-01) -- "Bird Hippie" 4327
tokay2Windows Server 2012 R2 Standardx644.1.2 (2021-11-01) -- "Bird Hippie" 4076
machv2macOS 10.14.6 Mojavex86_644.1.2 (2021-11-01) -- "Bird Hippie" 4137
Click on any hostname to see more info about the system (e.g. compilers)      (*) as reported by 'uname -p', except on Windows and Mac OS X

BUILD results for ggbio on tokay2


To the developers/maintainers of the ggbio package:
- Please allow up to 24 hours (and sometimes 48 hours) for your latest push to git@git.bioconductor.org:packages/ggbio.git to
reflect on this report. See How and When does the builder pull? When will my changes propagate? here for more information.
- Make sure to use the following settings in order to reproduce any error or warning you see on this page.

raw results

Package 775/2083HostnameOS / ArchINSTALLBUILDCHECKBUILD BIN
ggbio 1.42.0  (landing page)
Michael Lawrence
Snapshot Date: 2022-01-13 01:55:04 -0500 (Thu, 13 Jan 2022)
git_url: https://git.bioconductor.org/packages/ggbio
git_branch: RELEASE_3_14
git_last_commit: 3540047
git_last_commit_date: 2021-10-27 10:07:29 -0500 (Wed, 27 Oct 2021)
nebbiolo2Linux (Ubuntu 20.04.4 LTS) / x86_64  OK    OK    WARNINGS  UNNEEDED, same version is already published
tokay2Windows Server 2012 R2 Standard / x64  OK    OK    WARNINGS    OK  UNNEEDED, same version is already published
machv2macOS 10.14.6 Mojave / x86_64  OK    OK    WARNINGS    OK  UNNEEDED, same version is already published

Summary

Package: ggbio
Version: 1.42.0
Command: chmod a+r ggbio -R && C:\Users\biocbuild\bbs-3.14-bioc\R\bin\R.exe CMD build --keep-empty-dirs --no-resave-data ggbio
StartedAt: 2022-01-13 11:09:03 -0500 (Thu, 13 Jan 2022)
EndedAt: 2022-01-13 11:16:13 -0500 (Thu, 13 Jan 2022)
EllapsedTime: 429.7 seconds
RetCode: 0
Status:   OK  
PackageFile: ggbio_1.42.0.tar.gz
PackageFileSize: 3.092 MiB

Command output

##############################################################################
##############################################################################
###
### Running command:
###
###   chmod a+r ggbio -R && C:\Users\biocbuild\bbs-3.14-bioc\R\bin\R.exe CMD build --keep-empty-dirs --no-resave-data ggbio
###
##############################################################################
##############################################################################


* checking for file 'ggbio/DESCRIPTION' ... OK
* preparing 'ggbio':
* checking DESCRIPTION meta-information ... OK
* installing the package to build vignettes
* creating vignettes ... OK
* checking for LF line-endings in source and make files and shell scripts
* checking for empty or unneeded directories
* building 'ggbio_1.42.0.tar.gz'