Back to Multiple platform build/check report for BioC 3.14
ABCDEF[G]HIJKLMNOPQRSTUVWXYZ

This page was generated on 2021-11-29 15:05:56 -0500 (Mon, 29 Nov 2021).

BUILD BIN results for ggbio on machv2

To the developers/maintainers of the ggbio package:
- Please allow up to 24 hours (and sometimes 48 hours) for your latest push to git@git.bioconductor.org:packages/ggbio.git to
reflect on this report. See How and When does the builder pull? When will my changes propagate? here for more information.
- Make sure to use the following settings in order to reproduce any error or warning you see on this page.

raw results

Package 775/2083HostnameOS / ArchINSTALLBUILDCHECKBUILD BIN
ggbio 1.42.0  (landing page)
Michael Lawrence
Snapshot Date: 2021-11-28 04:15:06 -0500 (Sun, 28 Nov 2021)
git_url: https://git.bioconductor.org/packages/ggbio
git_branch: RELEASE_3_14
git_last_commit: 3540047
git_last_commit_date: 2021-10-27 10:07:29 -0500 (Wed, 27 Oct 2021)
nebbiolo2Linux (Ubuntu 20.04.3 LTS) / x86_64  OK    OK    WARNINGS  UNNEEDED, same version is already published
tokay2Windows Server 2012 R2 Standard / x64  OK    OK    WARNINGS    OK  UNNEEDED, same version is already published
machv2macOS 10.14.6 Mojave / x86_64  OK    OK    WARNINGS    OK  UNNEEDED, same version is already published

Summary

Package: ggbio
Version: 1.42.0
Command: rm -rf ggbio.buildbin-libdir && mkdir ggbio.buildbin-libdir && /Users/biocbuild/BBS/utils/build-universal.sh ggbio_1.42.0.tar.gz /Library/Frameworks/R.framework/Resources/bin/R ggbio.buildbin-libdir
StartedAt: 2021-11-29 00:07:33 -0500 (Mon, 29 Nov 2021)
EndedAt: 2021-11-29 00:08:40 -0500 (Mon, 29 Nov 2021)
EllapsedTime: 67.7 seconds
RetCode: 0
Status:   OK  
PackageFile: ggbio_1.42.0.tgz
PackageFileSize: 3.251 MiB

Command output

##############################################################################
##############################################################################
###
### Running command:
###
###   rm -rf ggbio.buildbin-libdir && mkdir ggbio.buildbin-libdir && /Users/biocbuild/BBS/utils/build-universal.sh ggbio_1.42.0.tar.gz /Library/Frameworks/R.framework/Resources/bin/R ggbio.buildbin-libdir
###
##############################################################################
##############################################################################


>>>>>>> 
>>>>>>> INSTALLATION WITH 'R CMD INSTALL --preclean --no-multiarch --library=ggbio.buildbin-libdir ggbio_1.42.0.tar.gz'
>>>>>>> 

* installing *source* package ‘ggbio’ ...
** using staged installation
** R
** inst
** byte-compile and prepare package for lazy loading
Creating a new generic function for 'rescale' in package 'ggbio'
Creating a new generic function for 'xlim' in package 'ggbio'
Creating a new generic function for 'geom_rect' in package 'ggbio'
Creating a new generic function for 'geom_segment' in package 'ggbio'
Creating a new generic function for 'geom_bar' in package 'ggbio'
Creating a new generic function for 'stat_identity' in package 'ggbio'
Creating a new generic function for 'stat_bin' in package 'ggbio'
** help
*** installing help indices
** building package indices
** installing vignettes
** testing if installed package can be loaded from temporary location
** testing if installed package can be loaded from final location
** testing if installed package keeps a record of temporary installation path
* DONE (ggbio)