Back to Multiple platform build/check report for BioC 3.14
ABCDEF[G]HIJKLMNOPQRSTUVWXYZ

This page was generated on 2022-01-26 13:06:37 -0500 (Wed, 26 Jan 2022).

HostnameOSArch (*)R versionInstalled pkgs
nebbiolo2Linux (Ubuntu 20.04.4 LTS)x86_644.1.2 (2021-11-01) -- "Bird Hippie" 4329
tokay2Windows Server 2012 R2 Standardx644.1.2 (2021-11-01) -- "Bird Hippie" 4080
machv2macOS 10.14.6 Mojavex86_644.1.2 (2021-11-01) -- "Bird Hippie" 4141
Click on any hostname to see more info about the system (e.g. compilers)      (*) as reported by 'uname -p', except on Windows and Mac OS X

INSTALL results for geneplotter on tokay2


To the developers/maintainers of the geneplotter package:
- Please allow up to 24 hours (and sometimes 48 hours) for your latest push to git@git.bioconductor.org:packages/geneplotter.git to
reflect on this report. See How and When does the builder pull? When will my changes propagate? here for more information.
- Make sure to use the following settings in order to reproduce any error or warning you see on this page.

raw results

Package 730/2083HostnameOS / ArchINSTALLBUILDCHECKBUILD BIN
geneplotter 1.72.0  (landing page)
Bioconductor Package Maintainer
Snapshot Date: 2022-01-25 01:55:07 -0500 (Tue, 25 Jan 2022)
git_url: https://git.bioconductor.org/packages/geneplotter
git_branch: RELEASE_3_14
git_last_commit: 57a1d83
git_last_commit_date: 2021-10-26 11:45:33 -0500 (Tue, 26 Oct 2021)
nebbiolo2Linux (Ubuntu 20.04.4 LTS) / x86_64  OK    OK    OK  UNNEEDED, same version is already published
tokay2Windows Server 2012 R2 Standard / x64  OK    OK    OK    OK  UNNEEDED, same version is already published
machv2macOS 10.14.6 Mojave / x86_64  OK    OK    OK    OK  UNNEEDED, same version is already published

Summary

Package: geneplotter
Version: 1.72.0
Command: C:\cygwin\bin\curl.exe -O http://155.52.207.166/BBS/3.14/bioc/src/contrib/geneplotter_1.72.0.tar.gz && rm -rf geneplotter.buildbin-libdir && mkdir geneplotter.buildbin-libdir && C:\Users\biocbuild\bbs-3.14-bioc\R\bin\R.exe CMD INSTALL --merge-multiarch --build --library=geneplotter.buildbin-libdir geneplotter_1.72.0.tar.gz && C:\Users\biocbuild\bbs-3.14-bioc\R\bin\R.exe CMD INSTALL geneplotter_1.72.0.zip && rm geneplotter_1.72.0.tar.gz geneplotter_1.72.0.zip
StartedAt: 2022-01-25 05:43:12 -0500 (Tue, 25 Jan 2022)
EndedAt: 2022-01-25 05:44:33 -0500 (Tue, 25 Jan 2022)
EllapsedTime: 80.5 seconds
RetCode: 0
Status:   OK  

Command output

##############################################################################
##############################################################################
###
### Running command:
###
###   C:\cygwin\bin\curl.exe -O http://155.52.207.166/BBS/3.14/bioc/src/contrib/geneplotter_1.72.0.tar.gz && rm -rf geneplotter.buildbin-libdir && mkdir geneplotter.buildbin-libdir && C:\Users\biocbuild\bbs-3.14-bioc\R\bin\R.exe CMD INSTALL --merge-multiarch --build --library=geneplotter.buildbin-libdir geneplotter_1.72.0.tar.gz && C:\Users\biocbuild\bbs-3.14-bioc\R\bin\R.exe CMD INSTALL geneplotter_1.72.0.zip && rm geneplotter_1.72.0.tar.gz geneplotter_1.72.0.zip
###
##############################################################################
##############################################################################


  % Total    % Received % Xferd  Average Speed   Time    Time     Time  Current
                                 Dload  Upload   Total   Spent    Left  Speed

  0     0    0     0    0     0      0      0 --:--:-- --:--:-- --:--:--     0
100 1003k  100 1003k    0     0  2283k      0 --:--:-- --:--:-- --:--:-- 2285k

install for i386

* installing *source* package 'geneplotter' ...
** using staged installation
** R
** data
** inst
** byte-compile and prepare package for lazy loading
** help
*** installing help indices
  converting help for package 'geneplotter'
    finding HTML links ... done
    GetColor                                html  
    Makesense                               html  
    alongChrom                              html  
    amplicon.plot                           html  
    cColor                                  html  
    cPlot                                   html  
    cScale                                  html  
    eset133a                                html  
    groupedHeatmap                          html  
    histStack                               html  
    imageMap                                html  
    make.chromOrd                           html  
    multiecdf                               html  
    openHtmlPage                            html  
    plotChr                                 html  
    plotExpressionGraph                     html  
    plotMA                                  html  
    savepng                                 html  
** building package indices
** installing vignettes
** testing if installed package can be loaded from temporary location
** testing if installed package can be loaded from final location
** testing if installed package keeps a record of temporary installation path

install for x64

* installing *source* package 'geneplotter' ...
** testing if installed package can be loaded
* MD5 sums
packaged installation of 'geneplotter' as geneplotter_1.72.0.zip
* DONE (geneplotter)
* installing to library 'C:/Users/biocbuild/bbs-3.14-bioc/R/library'
package 'geneplotter' successfully unpacked and MD5 sums checked