Back to Multiple platform build/check report for BioC 3.14
ABCDEF[G]HIJKLMNOPQRSTUVWXYZ

This page was generated on 2022-01-14 13:06:26 -0500 (Fri, 14 Jan 2022).

HostnameOSArch (*)R versionInstalled pkgs
nebbiolo2Linux (Ubuntu 20.04.4 LTS)x86_644.1.2 (2021-11-01) -- "Bird Hippie" 4327
tokay2Windows Server 2012 R2 Standardx644.1.2 (2021-11-01) -- "Bird Hippie" 4076
machv2macOS 10.14.6 Mojavex86_644.1.2 (2021-11-01) -- "Bird Hippie" 4137
Click on any hostname to see more info about the system (e.g. compilers)      (*) as reported by 'uname -p', except on Windows and Mac OS X

CHECK results for geneplotter on tokay2


To the developers/maintainers of the geneplotter package:
- Please allow up to 24 hours (and sometimes 48 hours) for your latest push to git@git.bioconductor.org:packages/geneplotter.git to
reflect on this report. See How and When does the builder pull? When will my changes propagate? here for more information.
- Make sure to use the following settings in order to reproduce any error or warning you see on this page.

raw results

Package 730/2083HostnameOS / ArchINSTALLBUILDCHECKBUILD BIN
geneplotter 1.72.0  (landing page)
Bioconductor Package Maintainer
Snapshot Date: 2022-01-13 01:55:04 -0500 (Thu, 13 Jan 2022)
git_url: https://git.bioconductor.org/packages/geneplotter
git_branch: RELEASE_3_14
git_last_commit: 57a1d83
git_last_commit_date: 2021-10-26 11:45:33 -0500 (Tue, 26 Oct 2021)
nebbiolo2Linux (Ubuntu 20.04.4 LTS) / x86_64  OK    OK    OK  UNNEEDED, same version is already published
tokay2Windows Server 2012 R2 Standard / x64  OK    OK    OK    OK  UNNEEDED, same version is already published
machv2macOS 10.14.6 Mojave / x86_64  OK    OK    OK    OK  UNNEEDED, same version is already published

Summary

Package: geneplotter
Version: 1.72.0
Command: C:\Users\biocbuild\bbs-3.14-bioc\R\bin\R.exe CMD check --force-multiarch --install=check:geneplotter.install-out.txt --library=C:\Users\biocbuild\bbs-3.14-bioc\R\library --no-vignettes --timings geneplotter_1.72.0.tar.gz
StartedAt: 2022-01-13 19:54:47 -0500 (Thu, 13 Jan 2022)
EndedAt: 2022-01-13 19:57:30 -0500 (Thu, 13 Jan 2022)
EllapsedTime: 162.7 seconds
RetCode: 0
Status:   OK  
CheckDir: geneplotter.Rcheck
Warnings: 0

Command output

##############################################################################
##############################################################################
###
### Running command:
###
###   C:\Users\biocbuild\bbs-3.14-bioc\R\bin\R.exe CMD check --force-multiarch --install=check:geneplotter.install-out.txt --library=C:\Users\biocbuild\bbs-3.14-bioc\R\library --no-vignettes --timings geneplotter_1.72.0.tar.gz
###
##############################################################################
##############################################################################


* using log directory 'C:/Users/biocbuild/bbs-3.14-bioc/meat/geneplotter.Rcheck'
* using R version 4.1.2 (2021-11-01)
* using platform: x86_64-w64-mingw32 (64-bit)
* using session charset: ISO8859-1
* using option '--no-vignettes'
* checking for file 'geneplotter/DESCRIPTION' ... OK
* this is package 'geneplotter' version '1.72.0'
* checking package namespace information ... OK
* checking package dependencies ... OK
* checking if this is a source package ... OK
* checking if there is a namespace ... OK
* checking for hidden files and directories ... OK
* checking for portable file names ... OK
* checking whether package 'geneplotter' can be installed ... OK
* checking installed package size ... OK
* checking package directory ... OK
* checking 'build' directory ... OK
* checking DESCRIPTION meta-information ... NOTE
Malformed Description field: should contain one or more complete sentences.
* checking top-level files ... OK
* checking for left-over files ... OK
* checking index information ... OK
* checking package subdirectories ... OK
* checking R files for non-ASCII characters ... OK
* checking R files for syntax errors ... OK
* loading checks for arch 'i386'
** checking whether the package can be loaded ... OK
** checking whether the package can be loaded with stated dependencies ... OK
** checking whether the package can be unloaded cleanly ... OK
** checking whether the namespace can be loaded with stated dependencies ... OK
** checking whether the namespace can be unloaded cleanly ... OK
* loading checks for arch 'x64'
** checking whether the package can be loaded ... OK
** checking whether the package can be loaded with stated dependencies ... OK
** checking whether the package can be unloaded cleanly ... OK
** checking whether the namespace can be loaded with stated dependencies ... OK
** checking whether the namespace can be unloaded cleanly ... OK
* checking dependencies in R code ... NOTE
'library' or 'require' call to 'annotate' which was already attached by Depends.
  Please remove these calls from your code.
'library' or 'require' call to 'Rgraphviz' in package code.
  Please use :: or requireNamespace() instead.
  See section 'Suggested packages' in the 'Writing R Extensions' manual.
Package in Depends field not imported from: 'lattice'
  These packages need to be imported from (in the NAMESPACE file)
  for when this namespace is loaded but not attached.
* checking S3 generic/method consistency ... OK
* checking replacement functions ... OK
* checking foreign function calls ... OK
* checking R code for possible problems ... NOTE
plotExpressionGraph: no visible global function definition for
  'selectMethod'
Undefined global functions or variables:
  selectMethod
Consider adding
  importFrom("methods", "selectMethod")
to your NAMESPACE file (and ensure that your DESCRIPTION Imports field
contains 'methods').
* checking Rd files ... OK
* checking Rd metadata ... OK
* checking Rd cross-references ... NOTE
Unknown package 'prada' in Rd xrefs
* checking for missing documentation entries ... OK
* checking for code/documentation mismatches ... OK
* checking Rd \usage sections ... OK
* checking Rd contents ... OK
* checking for unstated dependencies in examples ... OK
* checking contents of 'data' directory ... OK
* checking data for non-ASCII characters ... OK
* checking data for ASCII and uncompressed saves ... OK
* checking files in 'vignettes' ... OK
* checking examples ...
** running examples for arch 'i386' ... OK
** running examples for arch 'x64' ... OK
* checking for unstated dependencies in vignettes ... OK
* checking package vignettes in 'inst/doc' ... OK
* checking running R code from vignettes ... SKIPPED
* checking re-building of vignette outputs ... SKIPPED
* checking PDF version of manual ... OK
* DONE

Status: 4 NOTEs
See
  'C:/Users/biocbuild/bbs-3.14-bioc/meat/geneplotter.Rcheck/00check.log'
for details.



Installation output

geneplotter.Rcheck/00install.out

##############################################################################
##############################################################################
###
### Running command:
###
###   C:\cygwin\bin\curl.exe -O http://155.52.207.166/BBS/3.14/bioc/src/contrib/geneplotter_1.72.0.tar.gz && rm -rf geneplotter.buildbin-libdir && mkdir geneplotter.buildbin-libdir && C:\Users\biocbuild\bbs-3.14-bioc\R\bin\R.exe CMD INSTALL --merge-multiarch --build --library=geneplotter.buildbin-libdir geneplotter_1.72.0.tar.gz && C:\Users\biocbuild\bbs-3.14-bioc\R\bin\R.exe CMD INSTALL geneplotter_1.72.0.zip && rm geneplotter_1.72.0.tar.gz geneplotter_1.72.0.zip
###
##############################################################################
##############################################################################


  % Total    % Received % Xferd  Average Speed   Time    Time     Time  Current
                                 Dload  Upload   Total   Spent    Left  Speed

  0     0    0     0    0     0      0      0 --:--:-- --:--:-- --:--:--     0
100 1003k  100 1003k    0     0  2923k      0 --:--:-- --:--:-- --:--:-- 2934k

install for i386

* installing *source* package 'geneplotter' ...
** using staged installation
** R
** data
** inst
** byte-compile and prepare package for lazy loading
** help
*** installing help indices
  converting help for package 'geneplotter'
    finding HTML links ... done
    GetColor                                html  
    Makesense                               html  
    alongChrom                              html  
    amplicon.plot                           html  
    cColor                                  html  
    cPlot                                   html  
    cScale                                  html  
    eset133a                                html  
    groupedHeatmap                          html  
    histStack                               html  
    imageMap                                html  
    make.chromOrd                           html  
    multiecdf                               html  
    openHtmlPage                            html  
    plotChr                                 html  
    plotExpressionGraph                     html  
    plotMA                                  html  
    savepng                                 html  
** building package indices
** installing vignettes
** testing if installed package can be loaded from temporary location
** testing if installed package can be loaded from final location
** testing if installed package keeps a record of temporary installation path

install for x64

* installing *source* package 'geneplotter' ...
** testing if installed package can be loaded
* MD5 sums
packaged installation of 'geneplotter' as geneplotter_1.72.0.zip
* DONE (geneplotter)
* installing to library 'C:/Users/biocbuild/bbs-3.14-bioc/R/library'
package 'geneplotter' successfully unpacked and MD5 sums checked

Tests output


Example timings

geneplotter.Rcheck/examples_i386/geneplotter-Ex.timings

nameusersystemelapsed
GetColor000
Makesense1.910.052.14
alongChrom0.910.080.98
amplicon.plot000
cColor0.970.000.97
cPlot0.690.000.68
cScale0.610.000.61
eset133a0.130.030.16
groupedHeatmap0.010.000.02
histStack0.020.000.01
imageMap0.010.000.03
make.chromOrd0.240.030.49
multiecdf0.090.000.09
openHtmlPage000
plotChr1.430.031.48
plotExpressionGraph0.850.111.92
plotMA0.120.000.13
savepng0.250.000.98

geneplotter.Rcheck/examples_x64/geneplotter-Ex.timings

nameusersystemelapsed
GetColor000
Makesense1.190.081.27
alongChrom1.250.001.25
amplicon.plot000
cColor0.770.000.76
cPlot0.680.000.69
cScale1.020.021.03
eset133a0.200.010.22
groupedHeatmap0.030.020.05
histStack0.020.000.01
imageMap0.030.010.05
make.chromOrd0.160.030.18
multiecdf0.060.000.06
openHtmlPage000
plotChr0.990.011.00
plotExpressionGraph0.640.040.67
plotMA0.050.000.05
savepng0.140.000.30