Back to Multiple platform build/check report for BioC 3.14
ABCDEF[G]HIJKLMNOPQRSTUVWXYZ

This page was generated on 2022-01-24 13:05:07 -0500 (Mon, 24 Jan 2022).

HostnameOSArch (*)R versionInstalled pkgs
nebbiolo2Linux (Ubuntu 20.04.4 LTS)x86_644.1.2 (2021-11-01) -- "Bird Hippie" 4329
tokay2Windows Server 2012 R2 Standardx644.1.2 (2021-11-01) -- "Bird Hippie" 4080
machv2macOS 10.14.6 Mojavex86_644.1.2 (2021-11-01) -- "Bird Hippie" 4141
Click on any hostname to see more info about the system (e.g. compilers)      (*) as reported by 'uname -p', except on Windows and Mac OS X

CHECK results for geneplotter on nebbiolo2


To the developers/maintainers of the geneplotter package:
- Please allow up to 24 hours (and sometimes 48 hours) for your latest push to git@git.bioconductor.org:packages/geneplotter.git to
reflect on this report. See How and When does the builder pull? When will my changes propagate? here for more information.
- Make sure to use the following settings in order to reproduce any error or warning you see on this page.

raw results

Package 730/2083HostnameOS / ArchINSTALLBUILDCHECKBUILD BIN
geneplotter 1.72.0  (landing page)
Bioconductor Package Maintainer
Snapshot Date: 2022-01-23 01:55:04 -0500 (Sun, 23 Jan 2022)
git_url: https://git.bioconductor.org/packages/geneplotter
git_branch: RELEASE_3_14
git_last_commit: 57a1d83
git_last_commit_date: 2021-10-26 11:45:33 -0500 (Tue, 26 Oct 2021)
nebbiolo2Linux (Ubuntu 20.04.4 LTS) / x86_64  OK    OK    OK  UNNEEDED, same version is already published
tokay2Windows Server 2012 R2 Standard / x64  OK    OK    OK    OK  UNNEEDED, same version is already published
machv2macOS 10.14.6 Mojave / x86_64  OK    OK    OK    OK  UNNEEDED, same version is already published

Summary

Package: geneplotter
Version: 1.72.0
Command: /home/biocbuild/bbs-3.14-bioc/R/bin/R CMD check --install=check:geneplotter.install-out.txt --library=/home/biocbuild/bbs-3.14-bioc/R/library --no-vignettes --timings geneplotter_1.72.0.tar.gz
StartedAt: 2022-01-23 07:50:19 -0500 (Sun, 23 Jan 2022)
EndedAt: 2022-01-23 07:52:20 -0500 (Sun, 23 Jan 2022)
EllapsedTime: 120.9 seconds
RetCode: 0
Status:   OK  
CheckDir: geneplotter.Rcheck
Warnings: 0

Command output

##############################################################################
##############################################################################
###
### Running command:
###
###   /home/biocbuild/bbs-3.14-bioc/R/bin/R CMD check --install=check:geneplotter.install-out.txt --library=/home/biocbuild/bbs-3.14-bioc/R/library --no-vignettes --timings geneplotter_1.72.0.tar.gz
###
##############################################################################
##############################################################################


* using log directory ‘/home/biocbuild/bbs-3.14-bioc/meat/geneplotter.Rcheck’
* using R version 4.1.2 (2021-11-01)
* using platform: x86_64-pc-linux-gnu (64-bit)
* using session charset: UTF-8
* using option ‘--no-vignettes’
* checking for file ‘geneplotter/DESCRIPTION’ ... OK
* this is package ‘geneplotter’ version ‘1.72.0’
* checking package namespace information ... OK
* checking package dependencies ... OK
* checking if this is a source package ... OK
* checking if there is a namespace ... OK
* checking for hidden files and directories ... OK
* checking for portable file names ... OK
* checking for sufficient/correct file permissions ... OK
* checking whether package ‘geneplotter’ can be installed ... OK
* checking installed package size ... OK
* checking package directory ... OK
* checking ‘build’ directory ... OK
* checking DESCRIPTION meta-information ... NOTE
Malformed Description field: should contain one or more complete sentences.
* checking top-level files ... OK
* checking for left-over files ... OK
* checking index information ... OK
* checking package subdirectories ... OK
* checking R files for non-ASCII characters ... OK
* checking R files for syntax errors ... OK
* checking whether the package can be loaded ... OK
* checking whether the package can be loaded with stated dependencies ... OK
* checking whether the package can be unloaded cleanly ... OK
* checking whether the namespace can be loaded with stated dependencies ... OK
* checking whether the namespace can be unloaded cleanly ... OK
* checking dependencies in R code ... NOTE
'library' or 'require' call to ‘annotate’ which was already attached by Depends.
  Please remove these calls from your code.
'library' or 'require' call to ‘Rgraphviz’ in package code.
  Please use :: or requireNamespace() instead.
  See section 'Suggested packages' in the 'Writing R Extensions' manual.
Package in Depends field not imported from: ‘lattice’
  These packages need to be imported from (in the NAMESPACE file)
  for when this namespace is loaded but not attached.
* checking S3 generic/method consistency ... OK
* checking replacement functions ... OK
* checking foreign function calls ... OK
* checking R code for possible problems ... NOTE
plotExpressionGraph: no visible global function definition for
  ‘selectMethod’
Undefined global functions or variables:
  selectMethod
Consider adding
  importFrom("methods", "selectMethod")
to your NAMESPACE file (and ensure that your DESCRIPTION Imports field
contains 'methods').
* checking Rd files ... OK
* checking Rd metadata ... OK
* checking Rd cross-references ... NOTE
Unknown package ‘prada’ in Rd xrefs
* checking for missing documentation entries ... OK
* checking for code/documentation mismatches ... OK
* checking Rd \usage sections ... OK
* checking Rd contents ... OK
* checking for unstated dependencies in examples ... OK
* checking contents of ‘data’ directory ... OK
* checking data for non-ASCII characters ... OK
* checking data for ASCII and uncompressed saves ... OK
* checking files in ‘vignettes’ ... OK
* checking examples ... OK
* checking for unstated dependencies in vignettes ... OK
* checking package vignettes in ‘inst/doc’ ... OK
* checking running R code from vignettes ... SKIPPED
* checking re-building of vignette outputs ... SKIPPED
* checking PDF version of manual ... OK
* DONE

Status: 4 NOTEs
See
  ‘/home/biocbuild/bbs-3.14-bioc/meat/geneplotter.Rcheck/00check.log’
for details.



Installation output

geneplotter.Rcheck/00install.out

##############################################################################
##############################################################################
###
### Running command:
###
###   /home/biocbuild/bbs-3.14-bioc/R/bin/R CMD INSTALL geneplotter
###
##############################################################################
##############################################################################


* installing to library ‘/home/biocbuild/bbs-3.14-bioc/R/library’
* installing *source* package ‘geneplotter’ ...
** using staged installation
** R
** data
** inst
** byte-compile and prepare package for lazy loading
** help
*** installing help indices
** building package indices
** installing vignettes
** testing if installed package can be loaded from temporary location
** testing if installed package can be loaded from final location
** testing if installed package keeps a record of temporary installation path
* DONE (geneplotter)

Tests output


Example timings

geneplotter.Rcheck/geneplotter-Ex.timings

nameusersystemelapsed
GetColor0.0010.0000.001
Makesense1.3570.0641.426
alongChrom1.3440.0361.380
amplicon.plot000
cColor0.8300.0000.829
cPlot1.5040.0021.507
cScale0.6290.0080.637
eset133a0.1300.0000.131
groupedHeatmap0.0170.0000.017
histStack0.0130.0000.014
imageMap0.0730.0040.077
make.chromOrd0.130.000.13
multiecdf0.0450.0000.045
openHtmlPage0.0010.0000.001
plotChr0.9390.0240.963
plotExpressionGraph0.8110.0120.825
plotMA0.0230.0000.024
savepng0.0950.0000.095