Back to Multiple platform build/check report for BioC 3.14
ABCDEF[G]HIJKLMNOPQRSTUVWXYZ

This page was generated on 2021-12-06 13:05:57 -0500 (Mon, 06 Dec 2021).

CHECK results for genefu on machv2

To the developers/maintainers of the genefu package:
- Please allow up to 24 hours (and sometimes 48 hours) for your latest push to git@git.bioconductor.org:packages/genefu.git to
reflect on this report. See How and When does the builder pull? When will my changes propagate? here for more information.
- Make sure to use the following settings in order to reproduce any error or warning you see on this page.

raw results

Package 723/2083HostnameOS / ArchINSTALLBUILDCHECKBUILD BIN
genefu 2.26.0  (landing page)
Benjamin Haibe-Kains
Snapshot Date: 2021-12-05 01:55:05 -0500 (Sun, 05 Dec 2021)
git_url: https://git.bioconductor.org/packages/genefu
git_branch: RELEASE_3_14
git_last_commit: a884b26
git_last_commit_date: 2021-10-26 11:58:39 -0500 (Tue, 26 Oct 2021)
nebbiolo2Linux (Ubuntu 20.04.3 LTS) / x86_64  OK    OK    OK  UNNEEDED, same version is already published
tokay2Windows Server 2012 R2 Standard / x64  OK    OK    OK    OK  UNNEEDED, same version is already published
machv2macOS 10.14.6 Mojave / x86_64  OK    OK    OK    OK  UNNEEDED, same version is already published

Summary

Package: genefu
Version: 2.26.0
Command: /Library/Frameworks/R.framework/Resources/bin/R CMD check --install=check:genefu.install-out.txt --library=/Library/Frameworks/R.framework/Resources/library --no-vignettes --timings genefu_2.26.0.tar.gz
StartedAt: 2021-12-05 14:50:52 -0500 (Sun, 05 Dec 2021)
EndedAt: 2021-12-05 14:54:43 -0500 (Sun, 05 Dec 2021)
EllapsedTime: 231.2 seconds
RetCode: 0
Status:   OK  
CheckDir: genefu.Rcheck
Warnings: 0

Command output

##############################################################################
##############################################################################
###
### Running command:
###
###   /Library/Frameworks/R.framework/Resources/bin/R CMD check --install=check:genefu.install-out.txt --library=/Library/Frameworks/R.framework/Resources/library --no-vignettes --timings genefu_2.26.0.tar.gz
###
##############################################################################
##############################################################################


* using log directory ‘/Users/biocbuild/bbs-3.14-bioc/meat/genefu.Rcheck’
* using R version 4.1.2 (2021-11-01)
* using platform: x86_64-apple-darwin17.0 (64-bit)
* using session charset: UTF-8
* using option ‘--no-vignettes’
* checking for file ‘genefu/DESCRIPTION’ ... OK
* checking extension type ... Package
* this is package ‘genefu’ version ‘2.26.0’
* package encoding: UTF-8
* checking package namespace information ... OK
* checking package dependencies ... OK
* checking if this is a source package ... OK
* checking if there is a namespace ... OK
* checking for hidden files and directories ... OK
* checking for portable file names ... OK
* checking for sufficient/correct file permissions ... OK
* checking whether package ‘genefu’ can be installed ... OK
* checking installed package size ... NOTE
  installed size is  5.2Mb
  sub-directories of 1Mb or more:
    data   4.0Mb
* checking package directory ... OK
* checking ‘build’ directory ... OK
* checking DESCRIPTION meta-information ... OK
* checking top-level files ... OK
* checking for left-over files ... OK
* checking index information ... OK
* checking package subdirectories ... OK
* checking R files for non-ASCII characters ... OK
* checking R files for syntax errors ... OK
* checking whether the package can be loaded ... OK
* checking whether the package can be loaded with stated dependencies ... OK
* checking whether the package can be unloaded cleanly ... OK
* checking whether the namespace can be loaded with stated dependencies ... OK
* checking whether the namespace can be unloaded cleanly ... OK
* checking dependencies in R code ... NOTE
Packages in Depends field not imported from:
  ‘AIMS’ ‘biomaRt’ ‘iC10’
  These packages need to be imported from (in the NAMESPACE file)
  for when this namespace is loaded but not attached.
Unexported objects imported by ':::' calls:
  ‘mclust:::grid1’ ‘mclust:::grid2’
  See the note in ?`:::` about the use of this operator.
* checking S3 generic/method consistency ... OK
* checking replacement functions ... OK
* checking foreign function calls ... OK
* checking R code for possible problems ... OK
* checking Rd files ... OK
* checking Rd metadata ... OK
* checking Rd cross-references ... OK
* checking for missing documentation entries ... OK
* checking for code/documentation mismatches ... OK
* checking Rd \usage sections ... OK
* checking Rd contents ... OK
* checking for unstated dependencies in examples ... OK
* checking contents of ‘data’ directory ... OK
* checking data for non-ASCII characters ... OK
* checking data for ASCII and uncompressed saves ... OK
* checking files in ‘vignettes’ ... OK
* checking examples ... OK
* checking for unstated dependencies in vignettes ... OK
* checking package vignettes in ‘inst/doc’ ... OK
* checking running R code from vignettes ... SKIPPED
* checking re-building of vignette outputs ... SKIPPED
* checking PDF version of manual ... OK
* DONE

Status: 2 NOTEs
See
  ‘/Users/biocbuild/bbs-3.14-bioc/meat/genefu.Rcheck/00check.log’
for details.



Installation output

genefu.Rcheck/00install.out

##############################################################################
##############################################################################
###
### Running command:
###
###   /Library/Frameworks/R.framework/Resources/bin/R CMD INSTALL genefu
###
##############################################################################
##############################################################################


* installing to library ‘/Library/Frameworks/R.framework/Versions/4.1/Resources/library’
* installing *source* package ‘genefu’ ...
** using staged installation
** R
** data
** inst
** byte-compile and prepare package for lazy loading
** help
*** installing help indices
** building package indices
** installing vignettes
** testing if installed package can be loaded from temporary location
** testing if installed package can be loaded from final location
** testing if installed package keeps a record of temporary installation path
* DONE (genefu)

Tests output


Example timings

genefu.Rcheck/genefu-Ex.timings

nameusersystemelapsed
bimod0.3490.0110.360
boxplotplus20.0120.0010.014
claudinLow1.3910.0291.423
compareProtoCor1.3680.0241.397
compute.pairw.cor.meta1.7760.0261.803
compute.proto.cor.meta1.2500.0161.267
cordiff.dep0.1600.0050.165
endoPredict0.1620.0050.166
fuzzy.ttest0.2320.0210.253
gene700.3910.0160.409
gene760.1850.0080.194
geneid.map0.1580.0080.167
genius0.2870.0180.305
ggi0.1550.0070.162
ihc40.1480.0100.158
intrinsic.cluster0.5450.0140.538
intrinsic.cluster.predict0.2020.0100.211
map.datasets1.2150.0181.233
molecular.subtyping3.6300.1263.762
npi0.1490.0070.157
oncotypedx0.1500.0080.159
ovcAngiogenic0.1890.0170.206
ovcCrijns0.1700.0070.177
ovcTCGA0.4010.0090.411
ovcYoshihara0.1600.0050.166
pik3cags0.1410.0050.146
power.cor0.0010.0000.001
ps.cluster0.5640.0130.552
read.m.file0.0290.0030.033
rename.duplicate0.0020.0010.003
rescale0.3400.0090.348
rorS0.2530.0050.258
setcolclass.df0.0020.0010.002
sig.score0.1600.0080.167
spearmanCI0.0010.0000.001
st.gallen0.1430.0070.150
stab.fs0.1190.0020.121
stab.fs.ranking0.8900.0410.932
strescR0.0010.0000.002
subtype.cluster0.9090.0340.943
subtype.cluster.predict0.3830.0190.402
tamr130.1970.0070.204
tbrm000
weighted.meanvar0.0000.0000.001
write.m.file0.0050.0030.008