Back to Multiple platform build/check report for BioC 3.14
ABCDEF[G]HIJKLMNOPQRSTUVWXYZ

This page was generated on 2021-12-01 17:18:18 -0500 (Wed, 01 Dec 2021).

BUILD BIN results for genefu on machv2

To the developers/maintainers of the genefu package:
- Please allow up to 24 hours (and sometimes 48 hours) for your latest push to git@git.bioconductor.org:packages/genefu.git to
reflect on this report. See How and When does the builder pull? When will my changes propagate? here for more information.
- Make sure to use the following settings in order to reproduce any error or warning you see on this page.

raw results

Package 723/2083HostnameOS / ArchINSTALLBUILDCHECKBUILD BIN
genefu 2.26.0  (landing page)
Benjamin Haibe-Kains
Snapshot Date: 2021-11-30 04:15:05 -0500 (Tue, 30 Nov 2021)
git_url: https://git.bioconductor.org/packages/genefu
git_branch: RELEASE_3_14
git_last_commit: a884b26
git_last_commit_date: 2021-10-26 11:58:39 -0500 (Tue, 26 Oct 2021)
nebbiolo2Linux (Ubuntu 20.04.3 LTS) / x86_64  OK    OK    OK  UNNEEDED, same version is already published
tokay2Windows Server 2012 R2 Standard / x64  OK    OK    OK    OK  UNNEEDED, same version is already published
machv2macOS 10.14.6 Mojave / x86_64  OK    OK    OK    OK  UNNEEDED, same version is already published

Summary

Package: genefu
Version: 2.26.0
Command: rm -rf genefu.buildbin-libdir && mkdir genefu.buildbin-libdir && /Users/biocbuild/BBS/utils/build-universal.sh genefu_2.26.0.tar.gz /Library/Frameworks/R.framework/Resources/bin/R genefu.buildbin-libdir
StartedAt: 2021-12-01 00:14:23 -0500 (Wed, 01 Dec 2021)
EndedAt: 2021-12-01 00:15:33 -0500 (Wed, 01 Dec 2021)
EllapsedTime: 70.3 seconds
RetCode: 0
Status:   OK  
PackageFile: genefu_2.26.0.tgz
PackageFileSize: 5.127 MiB

Command output

##############################################################################
##############################################################################
###
### Running command:
###
###   rm -rf genefu.buildbin-libdir && mkdir genefu.buildbin-libdir && /Users/biocbuild/BBS/utils/build-universal.sh genefu_2.26.0.tar.gz /Library/Frameworks/R.framework/Resources/bin/R genefu.buildbin-libdir
###
##############################################################################
##############################################################################


>>>>>>> 
>>>>>>> INSTALLATION WITH 'R CMD INSTALL --preclean --no-multiarch --library=genefu.buildbin-libdir genefu_2.26.0.tar.gz'
>>>>>>> 

* installing *source* package ‘genefu’ ...
** using staged installation
** R
** data
** inst
** byte-compile and prepare package for lazy loading
** help
*** installing help indices
** building package indices
** installing vignettes
** testing if installed package can be loaded from temporary location
** testing if installed package can be loaded from final location
** testing if installed package keeps a record of temporary installation path
* DONE (genefu)