Index of /checkResults/3.14/bioc-LATEST/gcrma/raw-results/tokay2

[ICO]NameLast modifiedSizeDescription

[DIR]Parent Directory  -  
[   ]buildsrc-summary.dcf14-Apr-2022 01:06 450  
[   ]checksrc-summary.dcf14-Apr-2022 01:06 454  
[   ]buildbin-summary.dcf14-Apr-2022 01:06 527  
[   ]install-summary.dcf14-Apr-2022 01:06 622  
[TXT]buildsrc-out.txt14-Apr-2022 01:06 927  
[TXT]buildbin-out.txt14-Apr-2022 01:06 3.7K 
[TXT]install-out.txt14-Apr-2022 01:06 4.3K 
[TXT]checksrc-out.txt14-Apr-2022 01:06 5.4K