Back to Multiple platform build/check report for BioC 3.14
ABCDEF[G]HIJKLMNOPQRSTUVWXYZ

This page was generated on 2021-12-06 13:05:57 -0500 (Mon, 06 Dec 2021).

BUILD BIN results for gcrma on machv2

To the developers/maintainers of the gcrma package:
- Please allow up to 24 hours (and sometimes 48 hours) for your latest push to git@git.bioconductor.org:packages/gcrma.git to
reflect on this report. See How and When does the builder pull? When will my changes propagate? here for more information.
- Make sure to use the following settings in order to reproduce any error or warning you see on this page.

raw results

Package 705/2083HostnameOS / ArchINSTALLBUILDCHECKBUILD BIN
gcrma 2.66.0  (landing page)
Z. Wu
Snapshot Date: 2021-12-05 01:55:05 -0500 (Sun, 05 Dec 2021)
git_url: https://git.bioconductor.org/packages/gcrma
git_branch: RELEASE_3_14
git_last_commit: ba134b3
git_last_commit_date: 2021-10-26 11:46:04 -0500 (Tue, 26 Oct 2021)
nebbiolo2Linux (Ubuntu 20.04.3 LTS) / x86_64  OK    OK    OK  UNNEEDED, same version is already published
tokay2Windows Server 2012 R2 Standard / x64  OK    OK    OK    OK  UNNEEDED, same version is already published
machv2macOS 10.14.6 Mojave / x86_64  OK    OK    OK    OK  UNNEEDED, same version is already published

Summary

Package: gcrma
Version: 2.66.0
Command: rm -rf gcrma.buildbin-libdir && mkdir gcrma.buildbin-libdir && /Users/biocbuild/BBS/utils/build-universal.sh gcrma_2.66.0.tar.gz /Library/Frameworks/R.framework/Resources/bin/R gcrma.buildbin-libdir
StartedAt: 2021-12-05 22:15:07 -0500 (Sun, 05 Dec 2021)
EndedAt: 2021-12-05 22:16:16 -0500 (Sun, 05 Dec 2021)
EllapsedTime: 69.4 seconds
RetCode: 0
Status:   OK  
PackageFile: gcrma_2.66.0.tgz
PackageFileSize: 285.1 KiB

Command output

##############################################################################
##############################################################################
###
### Running command:
###
###   rm -rf gcrma.buildbin-libdir && mkdir gcrma.buildbin-libdir && /Users/biocbuild/BBS/utils/build-universal.sh gcrma_2.66.0.tar.gz /Library/Frameworks/R.framework/Resources/bin/R gcrma.buildbin-libdir
###
##############################################################################
##############################################################################


>>>>>>> 
>>>>>>> INSTALLATION WITH 'R CMD INSTALL --preclean --no-multiarch --library=gcrma.buildbin-libdir gcrma_2.66.0.tar.gz'
>>>>>>> 

* installing *source* package ‘gcrma’ ...
** using staged installation
** libs
clang -mmacosx-version-min=10.13 -I"/Library/Frameworks/R.framework/Resources/include" -DNDEBUG   -I/usr/local/include   -fPIC  -Wall -g -O2  -c baseProfile.c -o baseProfile.o
clang -mmacosx-version-min=10.13 -I"/Library/Frameworks/R.framework/Resources/include" -DNDEBUG   -I/usr/local/include   -fPIC  -Wall -g -O2  -c computeAffinities.c -o computeAffinities.o
clang -mmacosx-version-min=10.13 -I"/Library/Frameworks/R.framework/Resources/include" -DNDEBUG   -I/usr/local/include   -fPIC  -Wall -g -O2  -c postmean.c -o postmean.o
clang -mmacosx-version-min=10.13 -dynamiclib -Wl,-headerpad_max_install_names -undefined dynamic_lookup -single_module -multiply_defined suppress -L/Library/Frameworks/R.framework/Resources/lib -L/usr/local/lib -o gcrma.so baseProfile.o computeAffinities.o postmean.o -F/Library/Frameworks/R.framework/.. -framework R -Wl,-framework -Wl,CoreFoundation
installing to /Users/biocbuild/bbs-3.14-bioc/meat/gcrma.buildbin-libdir/00LOCK-gcrma/00new/gcrma/libs
** R
** data
** inst
** byte-compile and prepare package for lazy loading
** help
*** installing help indices
** building package indices
** installing vignettes
** testing if installed package can be loaded from temporary location
** checking absolute paths in shared objects and dynamic libraries
** testing if installed package can be loaded from final location
** testing if installed package keeps a record of temporary installation path
* DONE (gcrma)


>>>>>>> 
>>>>>>> FIXING LINKS FOR gcrma.buildbin-libdir/gcrma/libs/gcrma.so
>>>>>>> 

install_name_tool -change "/usr/local/lib/libgcc_s.1.dylib" "/Library/Frameworks/R.framework/Versions/4.1/Resources/lib/libgcc_s.1.dylib" "gcrma.buildbin-libdir/gcrma/libs/gcrma.so"
install_name_tool -change "/usr/local/lib/libgfortran.5.dylib" "/Library/Frameworks/R.framework/Versions/4.1/Resources/lib/libgfortran.5.dylib" "gcrma.buildbin-libdir/gcrma/libs/gcrma.so"
install_name_tool -change "/usr/local/lib/libquadmath.0.dylib" "/Library/Frameworks/R.framework/Versions/4.1/Resources/lib/libquadmath.0.dylib" "gcrma.buildbin-libdir/gcrma/libs/gcrma.so"