Back to Multiple platform build/check report for BioC 3.14
ABCDEF[G]HIJKLMNOPQRSTUVWXYZ

This page was generated on 2021-12-06 13:05:57 -0500 (Mon, 06 Dec 2021).

INSTALL results for gaga on machv2

To the developers/maintainers of the gaga package:
- Please allow up to 24 hours (and sometimes 48 hours) for your latest push to git@git.bioconductor.org:packages/gaga.git to
reflect on this report. See How and When does the builder pull? When will my changes propagate? here for more information.
- Make sure to use the following settings in order to reproduce any error or warning you see on this page.

raw results

Package 693/2083HostnameOS / ArchINSTALLBUILDCHECKBUILD BIN
gaga 2.40.0  (landing page)
David Rossell
Snapshot Date: 2021-12-05 01:55:05 -0500 (Sun, 05 Dec 2021)
git_url: https://git.bioconductor.org/packages/gaga
git_branch: RELEASE_3_14
git_last_commit: 8821347
git_last_commit_date: 2021-10-26 11:51:47 -0500 (Tue, 26 Oct 2021)
nebbiolo2Linux (Ubuntu 20.04.3 LTS) / x86_64  OK    OK    OK  UNNEEDED, same version is already published
tokay2Windows Server 2012 R2 Standard / x64  OK    OK    OK    OK  UNNEEDED, same version is already published
machv2macOS 10.14.6 Mojave / x86_64  OK    OK    WARNINGS    OK  UNNEEDED, same version is already published

Summary

Package: gaga
Version: 2.40.0
Command: /Library/Frameworks/R.framework/Resources/bin/R CMD INSTALL gaga
StartedAt: 2021-12-05 03:35:09 -0500 (Sun, 05 Dec 2021)
EndedAt: 2021-12-05 03:35:53 -0500 (Sun, 05 Dec 2021)
EllapsedTime: 44.3 seconds
RetCode: 0
Status:   OK  

Command output

##############################################################################
##############################################################################
###
### Running command:
###
###   /Library/Frameworks/R.framework/Resources/bin/R CMD INSTALL gaga
###
##############################################################################
##############################################################################


* installing to library ‘/Library/Frameworks/R.framework/Versions/4.1/Resources/library’
* installing *source* package ‘gaga’ ...
** using staged installation
** libs
clang -mmacosx-version-min=10.13 -I"/Library/Frameworks/R.framework/Resources/include" -DNDEBUG   -I/usr/local/include   -fPIC  -Wall -g -O2  -c cseqdesma.c -o cseqdesma.o
cseqdesma.c:4524:14: warning: equality comparison with extraneous parentheses [-Wparentheses-equality]
if ((*usesumx==0)) {                                               //if suff stat not pre-computed
     ~~~~~~~~^~~
cseqdesma.c:4524:14: note: remove extraneous parentheses around the comparison to silence this warning
if ((*usesumx==0)) {                                               //if suff stat not pre-computed
    ~        ^  ~
cseqdesma.c:4524:14: note: use '=' to turn this equality comparison into an assignment
if ((*usesumx==0)) {                                               //if suff stat not pre-computed
             ^~
             =
cseqdesma.c:5836:13: warning: equality comparison with extraneous parentheses [-Wparentheses-equality]
  if ((*usel==0)) {
       ~~~~~^~~
cseqdesma.c:5836:13: note: remove extraneous parentheses around the comparison to silence this warning
  if ((*usel==0)) {
      ~     ^  ~
cseqdesma.c:5836:13: note: use '=' to turn this equality comparison into an assignment
  if ((*usel==0)) {
            ^~
            =
cseqdesma.c:6070:13: warning: equality comparison with extraneous parentheses [-Wparentheses-equality]
  if ((*usel==0)) {
       ~~~~~^~~
cseqdesma.c:6070:13: note: remove extraneous parentheses around the comparison to silence this warning
  if ((*usel==0)) {
      ~     ^  ~
cseqdesma.c:6070:13: note: use '=' to turn this equality comparison into an assignment
  if ((*usel==0)) {
            ^~
            =
cseqdesma.c:6340:13: warning: equality comparison with extraneous parentheses [-Wparentheses-equality]
  if ((*usel==0)) {                                           //If l values have to be generated
       ~~~~~^~~
cseqdesma.c:6340:13: note: remove extraneous parentheses around the comparison to silence this warning
  if ((*usel==0)) {                                           //If l values have to be generated
      ~     ^  ~
cseqdesma.c:6340:13: note: use '=' to turn this equality comparison into an assignment
  if ((*usel==0)) {                                           //If l values have to be generated
            ^~
            =
4 warnings generated.
clang -mmacosx-version-min=10.13 -I"/Library/Frameworks/R.framework/Resources/include" -DNDEBUG   -I/usr/local/include   -fPIC  -Wall -g -O2  -c cstat.c -o cstat.o
cstat.c:1838:6: warning: using integer absolute value function 'abs' when argument is of floating point type [-Wabsolute-value]
  if(abs(ndf - 2.0) < eps) {   /* df ~= 2 */
     ^
cstat.c:1838:6: note: use function 'fabs' instead
  if(abs(ndf - 2.0) < eps) {   /* df ~= 2 */
     ^~~
     fabs
cstat.c:18:19: warning: unused variable 'interface_c_sccs_id' [-Wunused-const-variable]
static const char interface_c_sccs_id[] = "%W%";
                  ^
cstat.c:19:19: warning: unused variable 'mess_c_sccs_id' [-Wunused-const-variable]
static const char mess_c_sccs_id[] = "%W%";
                  ^
cstat.c:20:19: warning: unused variable 'nrutil_c_sccs_id' [-Wunused-const-variable]
static const char nrutil_c_sccs_id[] = "%W%"; 
                  ^
cstat.c:21:19: warning: unused variable 'vector_c_sccs_id' [-Wunused-const-variable]
static const char vector_c_sccs_id[] = "%W%";
                  ^
cstat.c:22:19: warning: unused variable 'css_c_sccs_id' [-Wunused-const-variable]
static const char css_c_sccs_id[] = "@(#)$Workfile: rand.c$ $Revision: 5$";
                  ^
6 warnings generated.
clang -mmacosx-version-min=10.13 -dynamiclib -Wl,-headerpad_max_install_names -undefined dynamic_lookup -single_module -multiply_defined suppress -L/Library/Frameworks/R.framework/Resources/lib -L/usr/local/lib -o gaga.so cseqdesma.o cstat.o -F/Library/Frameworks/R.framework/.. -framework R -Wl,-framework -Wl,CoreFoundation
installing to /Library/Frameworks/R.framework/Versions/4.1/Resources/library/00LOCK-gaga/00new/gaga/libs
** R
** inst
** byte-compile and prepare package for lazy loading
** help
*** installing help indices
** building package indices
** installing vignettes
** testing if installed package can be loaded from temporary location
** checking absolute paths in shared objects and dynamic libraries
** testing if installed package can be loaded from final location
** testing if installed package keeps a record of temporary installation path
* DONE (gaga)