Back to Multiple platform build/check report for BioC 3.14
ABCDE[F]GHIJKLMNOPQRSTUVWXYZ

This page was generated on 2021-11-26 15:05:49 -0500 (Fri, 26 Nov 2021).

CHECK results for frmaTools on machv2

To the developers/maintainers of the frmaTools package:
- Please allow up to 24 hours (and sometimes 48 hours) for your latest push to git@git.bioconductor.org:packages/frmaTools.git to
reflect on this report. See How and When does the builder pull? When will my changes propagate? here for more information.
- Make sure to use the following settings in order to reproduce any error or warning you see on this page.

raw results

Package 687/2083HostnameOS / ArchINSTALLBUILDCHECKBUILD BIN
frmaTools 1.46.0  (landing page)
Matthew N. McCall
Snapshot Date: 2021-11-25 04:15:05 -0500 (Thu, 25 Nov 2021)
git_url: https://git.bioconductor.org/packages/frmaTools
git_branch: RELEASE_3_14
git_last_commit: a4a868c
git_last_commit_date: 2021-10-26 11:55:14 -0500 (Tue, 26 Oct 2021)
nebbiolo2Linux (Ubuntu 20.04.3 LTS) / x86_64  OK    OK    OK  UNNEEDED, same version is already published
tokay2Windows Server 2012 R2 Standard / x64  OK    OK    OK    OK  UNNEEDED, same version is already published
machv2macOS 10.14.6 Mojave / x86_64  OK    OK    OK    OK  UNNEEDED, same version is already published

Summary

Package: frmaTools
Version: 1.46.0
Command: /Library/Frameworks/R.framework/Resources/bin/R CMD check --install=check:frmaTools.install-out.txt --library=/Library/Frameworks/R.framework/Resources/library --no-vignettes --timings frmaTools_1.46.0.tar.gz
StartedAt: 2021-11-25 16:45:10 -0500 (Thu, 25 Nov 2021)
EndedAt: 2021-11-25 16:46:08 -0500 (Thu, 25 Nov 2021)
EllapsedTime: 57.8 seconds
RetCode: 0
Status:   OK  
CheckDir: frmaTools.Rcheck
Warnings: 0

Command output

##############################################################################
##############################################################################
###
### Running command:
###
###   /Library/Frameworks/R.framework/Resources/bin/R CMD check --install=check:frmaTools.install-out.txt --library=/Library/Frameworks/R.framework/Resources/library --no-vignettes --timings frmaTools_1.46.0.tar.gz
###
##############################################################################
##############################################################################


* using log directory ‘/Users/biocbuild/bbs-3.14-bioc/meat/frmaTools.Rcheck’
* using R version 4.1.2 (2021-11-01)
* using platform: x86_64-apple-darwin17.0 (64-bit)
* using session charset: UTF-8
* using option ‘--no-vignettes’
* checking for file ‘frmaTools/DESCRIPTION’ ... OK
* this is package ‘frmaTools’ version ‘1.46.0’
* checking package namespace information ... OK
* checking package dependencies ... OK
* checking if this is a source package ... OK
* checking if there is a namespace ... OK
* checking for hidden files and directories ... NOTE
Found the following hidden files and directories:
  inst/VectorPkg-template/data/.dummy.txt
These were most likely included in error. See section ‘Package
structure’ in the ‘Writing R Extensions’ manual.
* checking for portable file names ... OK
* checking for sufficient/correct file permissions ... OK
* checking whether package ‘frmaTools’ can be installed ... OK
* checking installed package size ... OK
* checking package directory ... OK
* checking ‘build’ directory ... OK
* checking DESCRIPTION meta-information ... OK
* checking top-level files ... OK
* checking for left-over files ... OK
* checking index information ... OK
* checking package subdirectories ... OK
* checking R files for non-ASCII characters ... OK
* checking R files for syntax errors ... OK
* checking whether the package can be loaded ... OK
* checking whether the package can be loaded with stated dependencies ... OK
* checking whether the package can be unloaded cleanly ... OK
* checking whether the namespace can be loaded with stated dependencies ... OK
* checking whether the namespace can be unloaded cleanly ... OK
* checking dependencies in R code ... NOTE
'library' or 'require' call to ‘oligo’ in package code.
  Please use :: or requireNamespace() instead.
  See section 'Suggested packages' in the 'Writing R Extensions' manual.
Package in Depends field not imported from: ‘affy’
  These packages need to be imported from (in the NAMESPACE file)
  for when this namespace is loaded but not attached.
* checking S3 generic/method consistency ... OK
* checking replacement functions ... OK
* checking foreign function calls ... OK
* checking R code for possible problems ... NOTE
convertPlatform: no visible global function definition for
  ‘cleancdfname’
convertPlatform: no visible global function definition for ‘cdfName’
convertPlatform: no visible global function definition for ‘probeNames’
convertPlatform: no visible global function definition for ‘pmindex’
getFidMetaProbesetCore: no visible global function definition for ‘db’
getFidMetaProbesetExtended: no visible global function definition for
  ‘db’
getFidMetaProbesetFull: no visible global function definition for ‘db’
getFidProbeset: no visible global function definition for ‘db’
makeMaps: no visible global function definition for ‘xy2indices’
makeVectorsAffyBatch: no visible global function definition for
  ‘ReadAffy’
makeVectorsAffyBatch: no visible global function definition for
  ‘bg.correct.rma’
makeVectorsAffyBatch: no visible global function definition for ‘pm’
makeVectorsAffyBatch: no visible global function definition for
  ‘probeNames’
makeVectorsAffyBatch: no visible global function definition for
  ‘pmindex’
makeVectorsAffyBatch: no visible global function definition for
  ‘packageVersion’
makeVectorsFeatureSet: no visible global function definition for
  ‘read.celfiles’
makeVectorsFeatureSet: no visible global function definition for
  ‘backgroundCorrect’
Undefined global functions or variables:
  ReadAffy backgroundCorrect bg.correct.rma cdfName cleancdfname db
  packageVersion pm pmindex probeNames read.celfiles xy2indices
Consider adding
  importFrom("utils", "packageVersion")
to your NAMESPACE file.
* checking Rd files ... OK
* checking Rd metadata ... OK
* checking Rd cross-references ... OK
* checking for missing documentation entries ... OK
* checking for code/documentation mismatches ... OK
* checking Rd \usage sections ... OK
* checking Rd contents ... OK
* checking for unstated dependencies in examples ... OK
* checking sizes of PDF files under ‘inst/doc’ ... OK
* checking files in ‘vignettes’ ... OK
* checking examples ... OK
Examples with CPU (user + system) or elapsed time > 5s
                  user system elapsed
convertPlatform 11.312  0.361  11.711
* checking for unstated dependencies in vignettes ... OK
* checking package vignettes in ‘inst/doc’ ... OK
* checking running R code from vignettes ... SKIPPED
* checking re-building of vignette outputs ... SKIPPED
* checking PDF version of manual ... OK
* DONE

Status: 3 NOTEs
See
  ‘/Users/biocbuild/bbs-3.14-bioc/meat/frmaTools.Rcheck/00check.log’
for details.



Installation output

frmaTools.Rcheck/00install.out

##############################################################################
##############################################################################
###
### Running command:
###
###   /Library/Frameworks/R.framework/Resources/bin/R CMD INSTALL frmaTools
###
##############################################################################
##############################################################################


* installing to library ‘/Library/Frameworks/R.framework/Versions/4.1/Resources/library’
* installing *source* package ‘frmaTools’ ...
** using staged installation
** R
** inst
** byte-compile and prepare package for lazy loading
** help
*** installing help indices
** building package indices
** installing vignettes
** testing if installed package can be loaded from temporary location
** testing if installed package can be loaded from final location
** testing if installed package keeps a record of temporary installation path
* DONE (frmaTools)

Tests output


Example timings

frmaTools.Rcheck/frmaTools-Ex.timings

nameusersystemelapsed
convertPlatform11.312 0.36111.711
makeVectorPackage000