Back to Multiple platform build/check report for BioC 3.14
ABCDE[F]GHIJKLMNOPQRSTUVWXYZ

This page was generated on 2021-11-26 15:05:49 -0500 (Fri, 26 Nov 2021).

BUILD results for frmaTools on machv2

To the developers/maintainers of the frmaTools package:
- Please allow up to 24 hours (and sometimes 48 hours) for your latest push to git@git.bioconductor.org:packages/frmaTools.git to
reflect on this report. See How and When does the builder pull? When will my changes propagate? here for more information.
- Make sure to use the following settings in order to reproduce any error or warning you see on this page.

raw results

Package 687/2083HostnameOS / ArchINSTALLBUILDCHECKBUILD BIN
frmaTools 1.46.0  (landing page)
Matthew N. McCall
Snapshot Date: 2021-11-25 04:15:05 -0500 (Thu, 25 Nov 2021)
git_url: https://git.bioconductor.org/packages/frmaTools
git_branch: RELEASE_3_14
git_last_commit: a4a868c
git_last_commit_date: 2021-10-26 11:55:14 -0500 (Tue, 26 Oct 2021)
nebbiolo2Linux (Ubuntu 20.04.3 LTS) / x86_64  OK    OK    OK  UNNEEDED, same version is already published
tokay2Windows Server 2012 R2 Standard / x64  OK    OK    OK    OK  UNNEEDED, same version is already published
machv2macOS 10.14.6 Mojave / x86_64  OK    OK    OK    OK  UNNEEDED, same version is already published

Summary

Package: frmaTools
Version: 1.46.0
Command: /Library/Frameworks/R.framework/Resources/bin/R CMD build --keep-empty-dirs --no-resave-data frmaTools
StartedAt: 2021-11-25 09:20:50 -0500 (Thu, 25 Nov 2021)
EndedAt: 2021-11-25 09:21:13 -0500 (Thu, 25 Nov 2021)
EllapsedTime: 23.5 seconds
RetCode: 0
Status:   OK  
PackageFile: frmaTools_1.46.0.tar.gz
PackageFileSize: 102.2 KiB

Command output

##############################################################################
##############################################################################
###
### Running command:
###
###   /Library/Frameworks/R.framework/Resources/bin/R CMD build --keep-empty-dirs --no-resave-data frmaTools
###
##############################################################################
##############################################################################


* checking for file ‘frmaTools/DESCRIPTION’ ... OK
* preparing ‘frmaTools’:
* checking DESCRIPTION meta-information ... OK
* installing the package to build vignettes
* creating vignettes ... OK
* checking for LF line-endings in source and make files and shell scripts
* checking for empty or unneeded directories
* building ‘frmaTools_1.46.0.tar.gz’