Back to Multiple platform build/check report for BioC 3.14
ABCDE[F]GHIJKLMNOPQRSTUVWXYZ

This page was generated on 2021-12-06 13:05:57 -0500 (Mon, 06 Dec 2021).

BUILD BIN results for frmaTools on machv2

To the developers/maintainers of the frmaTools package:
- Please allow up to 24 hours (and sometimes 48 hours) for your latest push to git@git.bioconductor.org:packages/frmaTools.git to
reflect on this report. See How and When does the builder pull? When will my changes propagate? here for more information.
- Make sure to use the following settings in order to reproduce any error or warning you see on this page.

raw results

Package 687/2083HostnameOS / ArchINSTALLBUILDCHECKBUILD BIN
frmaTools 1.46.0  (landing page)
Matthew N. McCall
Snapshot Date: 2021-12-05 01:55:05 -0500 (Sun, 05 Dec 2021)
git_url: https://git.bioconductor.org/packages/frmaTools
git_branch: RELEASE_3_14
git_last_commit: a4a868c
git_last_commit_date: 2021-10-26 11:55:14 -0500 (Tue, 26 Oct 2021)
nebbiolo2Linux (Ubuntu 20.04.3 LTS) / x86_64  OK    OK    OK  UNNEEDED, same version is already published
tokay2Windows Server 2012 R2 Standard / x64  OK    OK    OK    OK  UNNEEDED, same version is already published
machv2macOS 10.14.6 Mojave / x86_64  OK    OK    OK    OK  UNNEEDED, same version is already published

Summary

Package: frmaTools
Version: 1.46.0
Command: rm -rf frmaTools.buildbin-libdir && mkdir frmaTools.buildbin-libdir && /Users/biocbuild/BBS/utils/build-universal.sh frmaTools_1.46.0.tar.gz /Library/Frameworks/R.framework/Resources/bin/R frmaTools.buildbin-libdir
StartedAt: 2021-12-05 22:13:32 -0500 (Sun, 05 Dec 2021)
EndedAt: 2021-12-05 22:14:33 -0500 (Sun, 05 Dec 2021)
EllapsedTime: 61.5 seconds
RetCode: 0
Status:   OK  
PackageFile: frmaTools_1.46.0.tgz
PackageFileSize: 129.4 KiB

Command output

##############################################################################
##############################################################################
###
### Running command:
###
###   rm -rf frmaTools.buildbin-libdir && mkdir frmaTools.buildbin-libdir && /Users/biocbuild/BBS/utils/build-universal.sh frmaTools_1.46.0.tar.gz /Library/Frameworks/R.framework/Resources/bin/R frmaTools.buildbin-libdir
###
##############################################################################
##############################################################################


>>>>>>> 
>>>>>>> INSTALLATION WITH 'R CMD INSTALL --preclean --no-multiarch --library=frmaTools.buildbin-libdir frmaTools_1.46.0.tar.gz'
>>>>>>> 

* installing *source* package ‘frmaTools’ ...
** using staged installation
** R
** inst
** byte-compile and prepare package for lazy loading
** help
*** installing help indices
** building package indices
** installing vignettes
** testing if installed package can be loaded from temporary location
** testing if installed package can be loaded from final location
** testing if installed package keeps a record of temporary installation path
* DONE (frmaTools)