Back to Multiple platform build/check report for BioC 3.14
ABCDE[F]GHIJKLMNOPQRSTUVWXYZ

This page was generated on 2021-11-26 15:05:49 -0500 (Fri, 26 Nov 2021).

CHECK results for frma on machv2

To the developers/maintainers of the frma package:
- Please allow up to 24 hours (and sometimes 48 hours) for your latest push to git@git.bioconductor.org:packages/frma.git to
reflect on this report. See How and When does the builder pull? When will my changes propagate? here for more information.
- Make sure to use the following settings in order to reproduce any error or warning you see on this page.

raw results

Package 686/2083HostnameOS / ArchINSTALLBUILDCHECKBUILD BIN
frma 1.46.0  (landing page)
Matthew N. McCall
Snapshot Date: 2021-11-25 04:15:05 -0500 (Thu, 25 Nov 2021)
git_url: https://git.bioconductor.org/packages/frma
git_branch: RELEASE_3_14
git_last_commit: c00c4df
git_last_commit_date: 2021-10-26 11:55:11 -0500 (Tue, 26 Oct 2021)
nebbiolo2Linux (Ubuntu 20.04.3 LTS) / x86_64  OK    OK    OK  UNNEEDED, same version is already published
tokay2Windows Server 2012 R2 Standard / x64  OK    OK    OK    OK  UNNEEDED, same version is already published
machv2macOS 10.14.6 Mojave / x86_64  OK    OK    OK    OK  UNNEEDED, same version is already published

Summary

Package: frma
Version: 1.46.0
Command: /Library/Frameworks/R.framework/Resources/bin/R CMD check --install=check:frma.install-out.txt --library=/Library/Frameworks/R.framework/Resources/library --no-vignettes --timings frma_1.46.0.tar.gz
StartedAt: 2021-11-25 16:45:04 -0500 (Thu, 25 Nov 2021)
EndedAt: 2021-11-25 16:49:38 -0500 (Thu, 25 Nov 2021)
EllapsedTime: 274.1 seconds
RetCode: 0
Status:   OK  
CheckDir: frma.Rcheck
Warnings: 0

Command output

##############################################################################
##############################################################################
###
### Running command:
###
###   /Library/Frameworks/R.framework/Resources/bin/R CMD check --install=check:frma.install-out.txt --library=/Library/Frameworks/R.framework/Resources/library --no-vignettes --timings frma_1.46.0.tar.gz
###
##############################################################################
##############################################################################


* using log directory ‘/Users/biocbuild/bbs-3.14-bioc/meat/frma.Rcheck’
* using R version 4.1.2 (2021-11-01)
* using platform: x86_64-apple-darwin17.0 (64-bit)
* using session charset: UTF-8
* using option ‘--no-vignettes’
* checking for file ‘frma/DESCRIPTION’ ... OK
* this is package ‘frma’ version ‘1.46.0’
* checking package namespace information ... OK
* checking package dependencies ... OK
* checking if this is a source package ... OK
* checking if there is a namespace ... OK
* checking for hidden files and directories ... OK
* checking for portable file names ... OK
* checking for sufficient/correct file permissions ... OK
* checking whether package ‘frma’ can be installed ... OK
* checking installed package size ... OK
* checking package directory ... OK
* checking ‘build’ directory ... OK
* checking DESCRIPTION meta-information ... NOTE
Package listed in more than one of Depends, Imports, Suggests, Enhances:
  ‘Biobase’
A package should be listed in only one of these fields.
* checking top-level files ... OK
* checking for left-over files ... OK
* checking index information ... OK
* checking package subdirectories ... OK
* checking R files for non-ASCII characters ... OK
* checking R files for syntax errors ... OK
* checking whether the package can be loaded ... OK
* checking whether the package can be loaded with stated dependencies ... OK
* checking whether the package can be unloaded cleanly ... OK
* checking whether the namespace can be loaded with stated dependencies ... OK
* checking whether the namespace can be unloaded cleanly ... OK
* checking dependencies in R code ... OK
* checking S3 generic/method consistency ... OK
* checking replacement functions ... OK
* checking foreign function calls ... OK
* checking R code for possible problems ... NOTE
GNUSE: no visible binding for global variable ‘median’
GNUSE: no visible binding for global variable ‘quantile’
GNUSE: no visible global function definition for ‘boxplot’
barcode: no visible global function definition for ‘pnorm’
batchFit: no visible global function definition for ‘median’
coerce<-,frmaExpressionSet-ExpressionSet: no visible global function
  definition for ‘slot<-’
coerce<-,frmaExpressionSet-ExpressionSet: no visible global function
  definition for ‘slot’
randomeffects<-,frmaExpressionSet: no visible global function
  definition for ‘validObject’
residuals<-,frmaExpressionSet: no visible global function definition
  for ‘validObject’
se.exprs<-,ExpressionSet: no visible global function definition for
  ‘validObject’
se.exprs<-,frmaExpressionSet: no visible global function definition for
  ‘validObject’
weights<-,frmaExpressionSet: no visible global function definition for
  ‘validObject’
Undefined global functions or variables:
  boxplot median pnorm quantile slot slot<- validObject
Consider adding
  importFrom("graphics", "boxplot")
  importFrom("methods", "slot", "slot<-", "validObject")
  importFrom("stats", "median", "pnorm", "quantile")
to your NAMESPACE file (and ensure that your DESCRIPTION Imports field
contains 'methods').
* checking Rd files ... OK
* checking Rd metadata ... OK
* checking Rd cross-references ... OK
* checking for missing documentation entries ... OK
* checking for code/documentation mismatches ... OK
* checking Rd \usage sections ... OK
* checking Rd contents ... OK
* checking for unstated dependencies in examples ... OK
* checking sizes of PDF files under ‘inst/doc’ ... OK
* checking files in ‘vignettes’ ... OK
* checking examples ... OK
Examples with CPU (user + system) or elapsed time > 5s
          user system elapsed
GNUSE   17.608  2.614  20.248
barcode 11.522  2.140  13.675
frma    11.346  1.953  13.323
* checking for unstated dependencies in vignettes ... OK
* checking package vignettes in ‘inst/doc’ ... OK
* checking running R code from vignettes ... SKIPPED
* checking re-building of vignette outputs ... SKIPPED
* checking PDF version of manual ... OK
* DONE

Status: 2 NOTEs
See
  ‘/Users/biocbuild/bbs-3.14-bioc/meat/frma.Rcheck/00check.log’
for details.



Installation output

frma.Rcheck/00install.out

##############################################################################
##############################################################################
###
### Running command:
###
###   /Library/Frameworks/R.framework/Resources/bin/R CMD INSTALL frma
###
##############################################################################
##############################################################################


* installing to library ‘/Library/Frameworks/R.framework/Versions/4.1/Resources/library’
* installing *source* package ‘frma’ ...
** using staged installation
** R
** inst
** byte-compile and prepare package for lazy loading
** help
*** installing help indices
** building package indices
** installing vignettes
** testing if installed package can be loaded from temporary location
** testing if installed package can be loaded from final location
** testing if installed package keeps a record of temporary installation path
* DONE (frma)

Tests output


Example timings

frma.Rcheck/frma-Ex.timings

nameusersystemelapsed
GNUSE17.608 2.61420.248
barcode11.522 2.14013.675
frma11.346 1.95313.323
frmaExpressionSet-class0.1720.0020.174