Back to Multiple platform build/check report for BioC 3.14
ABCDE[F]GHIJKLMNOPQRSTUVWXYZ

This page was generated on 2021-12-06 13:04:58 -0500 (Mon, 06 Dec 2021).

INSTALL results for flowcatchR on nebbiolo2

To the developers/maintainers of the flowcatchR package:
- Please allow up to 24 hours (and sometimes 48 hours) for your latest push to git@git.bioconductor.org:packages/flowcatchR.git to
reflect on this report. See How and When does the builder pull? When will my changes propagate? here for more information.
- Make sure to use the following settings in order to reproduce any error or warning you see on this page.

raw results

Package 652/2083HostnameOS / ArchINSTALLBUILDCHECKBUILD BIN
flowcatchR 1.28.0  (landing page)
Federico Marini
Snapshot Date: 2021-12-05 01:55:05 -0500 (Sun, 05 Dec 2021)
git_url: https://git.bioconductor.org/packages/flowcatchR
git_branch: RELEASE_3_14
git_last_commit: 4d658d4
git_last_commit_date: 2021-10-26 12:16:46 -0500 (Tue, 26 Oct 2021)
nebbiolo2Linux (Ubuntu 20.04.3 LTS) / x86_64  OK    OK    OK  UNNEEDED, same version is already published
tokay2Windows Server 2012 R2 Standard / x64  OK    OK    OK    OK  UNNEEDED, same version is already published
machv2macOS 10.14.6 Mojave / x86_64  OK    OK    OK    OK  UNNEEDED, same version is already published

Summary

Package: flowcatchR
Version: 1.28.0
Command: /home/biocbuild/bbs-3.14-bioc/R/bin/R CMD INSTALL flowcatchR
StartedAt: 2021-12-05 03:32:22 -0500 (Sun, 05 Dec 2021)
EndedAt: 2021-12-05 03:32:31 -0500 (Sun, 05 Dec 2021)
EllapsedTime: 8.5 seconds
RetCode: 0
Status:   OK  

Command output

##############################################################################
##############################################################################
###
### Running command:
###
###   /home/biocbuild/bbs-3.14-bioc/R/bin/R CMD INSTALL flowcatchR
###
##############################################################################
##############################################################################


* installing to library ‘/home/biocbuild/bbs-3.14-bioc/R/library’
* installing *source* package ‘flowcatchR’ ...
** using staged installation
** R
** data
*** moving datasets to lazyload DB
** inst
** byte-compile and prepare package for lazy loading
** help
*** installing help indices
** building package indices
** installing vignettes
** testing if installed package can be loaded from temporary location
** testing if installed package can be loaded from final location
** testing if installed package keeps a record of temporary installation path
* DONE (flowcatchR)