Back to Multiple platform build/check report for BioC 3.14
ABCDE[F]GHIJKLMNOPQRSTUVWXYZ

This page was generated on 2022-01-19 13:05:24 -0500 (Wed, 19 Jan 2022).

HostnameOSArch (*)R versionInstalled pkgs
nebbiolo2Linux (Ubuntu 20.04.4 LTS)x86_644.1.2 (2021-11-01) -- "Bird Hippie" 4328
tokay2Windows Server 2012 R2 Standardx644.1.2 (2021-11-01) -- "Bird Hippie" 4077
machv2macOS 10.14.6 Mojavex86_644.1.2 (2021-11-01) -- "Bird Hippie" 4138
Click on any hostname to see more info about the system (e.g. compilers)      (*) as reported by 'uname -p', except on Windows and Mac OS X

CHECK results for flowViz on nebbiolo2


To the developers/maintainers of the flowViz package:
- Please allow up to 24 hours (and sometimes 48 hours) for your latest push to git@git.bioconductor.org:packages/flowViz.git to
reflect on this report. See How and When does the builder pull? When will my changes propagate? here for more information.
- Make sure to use the following settings in order to reproduce any error or warning you see on this page.

raw results

Package 676/2083HostnameOS / ArchINSTALLBUILDCHECKBUILD BIN
flowViz 1.58.0  (landing page)
Mike Jiang , Jake Wagner
Snapshot Date: 2022-01-18 01:55:07 -0500 (Tue, 18 Jan 2022)
git_url: https://git.bioconductor.org/packages/flowViz
git_branch: RELEASE_3_14
git_last_commit: c9fba2a
git_last_commit_date: 2021-10-26 11:50:34 -0500 (Tue, 26 Oct 2021)
nebbiolo2Linux (Ubuntu 20.04.4 LTS) / x86_64  OK    OK    OK  UNNEEDED, same version is already published
tokay2Windows Server 2012 R2 Standard / x64  OK    OK    OK    OK  UNNEEDED, same version is already published
machv2macOS 10.14.6 Mojave / x86_64  OK    OK    OK    OK  UNNEEDED, same version is already published

Summary

Package: flowViz
Version: 1.58.0
Command: /home/biocbuild/bbs-3.14-bioc/R/bin/R CMD check --install=check:flowViz.install-out.txt --library=/home/biocbuild/bbs-3.14-bioc/R/library --no-vignettes --timings flowViz_1.58.0.tar.gz
StartedAt: 2022-01-18 07:32:08 -0500 (Tue, 18 Jan 2022)
EndedAt: 2022-01-18 07:34:11 -0500 (Tue, 18 Jan 2022)
EllapsedTime: 122.7 seconds
RetCode: 0
Status:   OK  
CheckDir: flowViz.Rcheck
Warnings: 0

Command output

##############################################################################
##############################################################################
###
### Running command:
###
###   /home/biocbuild/bbs-3.14-bioc/R/bin/R CMD check --install=check:flowViz.install-out.txt --library=/home/biocbuild/bbs-3.14-bioc/R/library --no-vignettes --timings flowViz_1.58.0.tar.gz
###
##############################################################################
##############################################################################


* using log directory ‘/home/biocbuild/bbs-3.14-bioc/meat/flowViz.Rcheck’
* using R version 4.1.2 (2021-11-01)
* using platform: x86_64-pc-linux-gnu (64-bit)
* using session charset: UTF-8
* using option ‘--no-vignettes’
* checking for file ‘flowViz/DESCRIPTION’ ... OK
* checking extension type ... Package
* this is package ‘flowViz’ version ‘1.58.0’
* checking package namespace information ... OK
* checking package dependencies ... OK
* checking if this is a source package ... OK
* checking if there is a namespace ... OK
* checking for hidden files and directories ... OK
* checking for portable file names ... OK
* checking for sufficient/correct file permissions ... OK
* checking whether package ‘flowViz’ can be installed ... OK
* checking installed package size ... OK
* checking package directory ... OK
* checking ‘build’ directory ... OK
* checking DESCRIPTION meta-information ... NOTE
Packages listed in more than one of Depends, Imports, Suggests, Enhances:
  ‘flowCore’ ‘lattice’
A package should be listed in only one of these fields.
* checking top-level files ... OK
* checking for left-over files ... OK
* checking index information ... OK
* checking package subdirectories ... OK
* checking R files for non-ASCII characters ... OK
* checking R files for syntax errors ... OK
* checking whether the package can be loaded ... OK
* checking whether the package can be loaded with stated dependencies ... OK
* checking whether the package can be unloaded cleanly ... OK
* checking whether the namespace can be loaded with stated dependencies ... OK
* checking whether the namespace can be unloaded cleanly ... OK
* checking dependencies in R code ... NOTE
Unexported objects imported by ':::' calls:
  ‘flowCore:::findTimeChannel’ ‘flowCore:::prepareSet’
  ‘lattice:::hist.constructor’ ‘lattice:::updateList’
  See the note in ?`:::` about the use of this operator.
* checking S3 generic/method consistency ... OK
* checking replacement functions ... OK
* checking foreign function calls ... OK
* checking R code for possible problems ... NOTE
.process_overlay_flowSet : <anonymous>: no visible global function
  definition for ‘extends’
.xyplot.flowSet: no visible global function definition for ‘as.formula’
panel.densityplot.flowset.stack: no visible binding for global variable
  ‘rl’
panel.xyplot.flowframe: no visible global function definition for
  ‘densCols’
panel.xyplot.flowframe.old: no visible global function definition for
  ‘densCols’
prepanel.densityplot.flowset.stack: no visible global function
  definition for ‘extends’
contour,flowFrame: no visible global function definition for
  ‘contourLines’
densityplot,formula-ncdfFlowList: no visible global function definition
  for ‘selectMethod’
densityplot,formula-view: no visible global function definition for
  ‘Data’
flowPlot,flowFrame: no visible global function definition for ‘rainbow’
glpoints,filter-flowFrame-missing: no visible binding for global
  variable ‘parms’
glpoints,filter-flowFrame-missing: no visible binding for global
  variable ‘strict’
gpoints,quadGate-flowFrame-character: no visible binding for global
  variable ‘filterResult’
gpolygon,ellipsoidGate-character: no visible binding for global
  variable ‘fd’
histogram,formula-ncdfFlowList: no visible global function definition
  for ‘selectMethod’
xyplot,formula-gateView: no visible global function definition for
  ‘action’
xyplot,formula-gateView: no visible global function definition for
  ‘Data’
xyplot,formula-gateView: no visible global function definition for
  ‘parent’
xyplot,formula-ncdfFlowList: no visible global function definition for
  ‘selectMethod’
xyplot,formula-view: no visible global function definition for ‘Data’
xyplot,view-missing: no visible global function definition for ‘Data’
Undefined global functions or variables:
  Data action as.formula contourLines densCols extends fd filterResult
  parent parms rainbow rl selectMethod strict
Consider adding
  importFrom("grDevices", "contourLines", "densCols", "rainbow")
  importFrom("methods", "extends", "selectMethod")
  importFrom("stats", "as.formula")
to your NAMESPACE file (and ensure that your DESCRIPTION Imports field
contains 'methods').
* checking Rd files ... NOTE
prepare_Rd: glines-methods.Rd:150-152: Dropping empty section ‘Methods’
prepare_Rd: timeLinePlot.Rd:72-74: Dropping empty section ‘Methods’
* checking Rd metadata ... OK
* checking Rd cross-references ... OK
* checking for missing documentation entries ... OK
* checking for code/documentation mismatches ... OK
* checking Rd \usage sections ... OK
* checking Rd contents ... OK
* checking for unstated dependencies in examples ... OK
* checking installed files from ‘inst/doc’ ... OK
* checking files in ‘vignettes’ ... NOTE
Files named as vignettes but with no recognized vignette engine:
   ‘vignettes/densityplot_vs_histogram.Rmd’
(Is a VignetteBuilder field missing?)
* checking examples ... OK
Examples with CPU (user + system) or elapsed time > 5s
                 user system elapsed
densityplot     9.606  0.656  10.262
splom           9.739  0.163   9.904
xyplot          8.762  0.092   8.854
lattice-methods 6.146  0.208   6.353
timeLinePlot    4.988  0.044   5.033
* checking for unstated dependencies in ‘tests’ ... OK
* checking tests ...
  Running ‘testthat.R’
 OK
* checking for unstated dependencies in vignettes ... NOTE
'::' or ':::' import not declared from: ‘data.table’
* checking package vignettes in ‘inst/doc’ ... OK
* checking running R code from vignettes ... SKIPPED
* checking re-building of vignette outputs ... SKIPPED
* checking PDF version of manual ... OK
* DONE

Status: 6 NOTEs
See
  ‘/home/biocbuild/bbs-3.14-bioc/meat/flowViz.Rcheck/00check.log’
for details.



Installation output

flowViz.Rcheck/00install.out

##############################################################################
##############################################################################
###
### Running command:
###
###   /home/biocbuild/bbs-3.14-bioc/R/bin/R CMD INSTALL flowViz
###
##############################################################################
##############################################################################


* installing to library ‘/home/biocbuild/bbs-3.14-bioc/R/library’
* installing *source* package ‘flowViz’ ...
** using staged installation
** R
** inst
** byte-compile and prepare package for lazy loading
in method for ‘densityplot’ with signature ‘x="formula",data="view"’: no definition for class “view”
in method for ‘densityplot’ with signature ‘x="formula",data="ncdfFlowSet"’: no definition for class “ncdfFlowSet”
in method for ‘densityplot’ with signature ‘x="formula",data="ncdfFlowList"’: no definition for class “ncdfFlowList”
in method for ‘histogram’ with signature ‘x="formula",data="ncdfFlowSet"’: no definition for class “ncdfFlowSet”
in method for ‘histogram’ with signature ‘x="formula",data="ncdfFlowList"’: no definition for class “ncdfFlowList”
in method for ‘glines’ with signature ‘x="norm2Filter",data="ANY"’: no definition for class “norm2Filter”
in method for ‘glines’ with signature ‘x="norm2Filter",data="logicalFilterResult"’: no definition for class “norm2Filter”
in method for ‘glines’ with signature ‘x="norm2Filter",data="flowFrame"’: no definition for class “norm2Filter”
in method for ‘glpoints’ with signature ‘x="norm2Filter",data="flowFrame",channels="character"’: no definition for class “norm2Filter”
in method for ‘glpolygon’ with signature ‘x="norm2Filter",data="ANY"’: no definition for class “norm2Filter”
in method for ‘glpolygon’ with signature ‘x="norm2Filter",data="logicalFilterResult"’: no definition for class “norm2Filter”
in method for ‘glpolygon’ with signature ‘x="norm2Filter",data="flowFrame"’: no definition for class “norm2Filter”
in method for ‘gpoints’ with signature ‘x="norm2Filter",data="flowFrame",channels="character"’: no definition for class “norm2Filter”
in method for ‘gpolygon’ with signature ‘x="norm2Filter",data="ANY"’: no definition for class “norm2Filter”
in method for ‘gpolygon’ with signature ‘x="norm2Filter",data="logicalFilterResult"’: no definition for class “norm2Filter”
in method for ‘gpolygon’ with signature ‘x="norm2Filter",data="flowFrame"’: no definition for class “norm2Filter”
in method for ‘xyplot’ with signature ‘x="formula",data="view"’: no definition for class “view”
in method for ‘xyplot’ with signature ‘x="view",data="missing"’: no definition for class “view”
in method for ‘xyplot’ with signature ‘x="formula",data="gateView"’: no definition for class “gateView”
in method for ‘xyplot’ with signature ‘x="formula",data="ncdfFlowSet"’: no definition for class “ncdfFlowSet”
in method for ‘xyplot’ with signature ‘x="formula",data="ncdfFlowList"’: no definition for class “ncdfFlowList”
** help
*** installing help indices
** building package indices
** installing vignettes
   ‘filters.Rmd’ 
** testing if installed package can be loaded from temporary location
** testing if installed package can be loaded from final location
** testing if installed package keeps a record of temporary installation path
* DONE (flowViz)

Tests output

flowViz.Rcheck/tests/testthat.Rout


R version 4.1.2 (2021-11-01) -- "Bird Hippie"
Copyright (C) 2021 The R Foundation for Statistical Computing
Platform: x86_64-pc-linux-gnu (64-bit)

R is free software and comes with ABSOLUTELY NO WARRANTY.
You are welcome to redistribute it under certain conditions.
Type 'license()' or 'licence()' for distribution details.

R is a collaborative project with many contributors.
Type 'contributors()' for more information and
'citation()' on how to cite R or R packages in publications.

Type 'demo()' for some demos, 'help()' for on-line help, or
'help.start()' for an HTML browser interface to help.
Type 'q()' to quit R.

> library(testthat)
> library(flowViz)
Loading required package: flowCore
Loading required package: lattice
> 
> test_check("flowViz")
[ FAIL 0 | WARN 0 | SKIP 0 | PASS 9 ]
> 
> proc.time()
   user  system elapsed 
  8.542   0.423   8.951 

Example timings

flowViz.Rcheck/flowViz-Ex.timings

nameusersystemelapsed
contour-methods1.2890.0321.321
densityplot 9.606 0.65610.262
ecdfplot3.6570.1363.793
flowPlot0.7020.0520.754
flowViz-package000
flowViz.par.get1.1820.0481.229
lattice-methods6.1460.2086.353
splom9.7390.1639.904
timeLinePlot4.9880.0445.033
xyplot8.7620.0928.854