Back to Multiple platform build/check report for BioC 3.14
ABCDE[F]GHIJKLMNOPQRSTUVWXYZ

This page was generated on 2021-12-06 13:05:57 -0500 (Mon, 06 Dec 2021).

INSTALL results for flowViz on machv2

To the developers/maintainers of the flowViz package:
- Please allow up to 24 hours (and sometimes 48 hours) for your latest push to git@git.bioconductor.org:packages/flowViz.git to
reflect on this report. See How and When does the builder pull? When will my changes propagate? here for more information.
- Make sure to use the following settings in order to reproduce any error or warning you see on this page.

raw results

Package 676/2083HostnameOS / ArchINSTALLBUILDCHECKBUILD BIN
flowViz 1.58.0  (landing page)
Mike Jiang , Jake Wagner
Snapshot Date: 2021-12-05 01:55:05 -0500 (Sun, 05 Dec 2021)
git_url: https://git.bioconductor.org/packages/flowViz
git_branch: RELEASE_3_14
git_last_commit: c9fba2a
git_last_commit_date: 2021-10-26 11:50:34 -0500 (Tue, 26 Oct 2021)
nebbiolo2Linux (Ubuntu 20.04.3 LTS) / x86_64  OK    OK    OK  UNNEEDED, same version is already published
tokay2Windows Server 2012 R2 Standard / x64  OK    OK    OK    OK  UNNEEDED, same version is already published
machv2macOS 10.14.6 Mojave / x86_64  OK    OK    OK    OK  UNNEEDED, same version is already published

Summary

Package: flowViz
Version: 1.58.0
Command: /Library/Frameworks/R.framework/Resources/bin/R CMD INSTALL flowViz
StartedAt: 2021-12-05 03:35:46 -0500 (Sun, 05 Dec 2021)
EndedAt: 2021-12-05 03:36:30 -0500 (Sun, 05 Dec 2021)
EllapsedTime: 44.0 seconds
RetCode: 0
Status:   OK  

Command output

##############################################################################
##############################################################################
###
### Running command:
###
###   /Library/Frameworks/R.framework/Resources/bin/R CMD INSTALL flowViz
###
##############################################################################
##############################################################################


* installing to library ‘/Library/Frameworks/R.framework/Versions/4.1/Resources/library’
* installing *source* package ‘flowViz’ ...
** using staged installation
** R
** inst
** byte-compile and prepare package for lazy loading
in method for ‘densityplot’ with signature ‘x="formula",data="view"’: no definition for class “view”
in method for ‘densityplot’ with signature ‘x="formula",data="ncdfFlowSet"’: no definition for class “ncdfFlowSet”
in method for ‘densityplot’ with signature ‘x="formula",data="ncdfFlowList"’: no definition for class “ncdfFlowList”
in method for ‘histogram’ with signature ‘x="formula",data="ncdfFlowSet"’: no definition for class “ncdfFlowSet”
in method for ‘histogram’ with signature ‘x="formula",data="ncdfFlowList"’: no definition for class “ncdfFlowList”
in method for ‘glines’ with signature ‘x="norm2Filter",data="ANY"’: no definition for class “norm2Filter”
in method for ‘glines’ with signature ‘x="norm2Filter",data="logicalFilterResult"’: no definition for class “norm2Filter”
in method for ‘glines’ with signature ‘x="norm2Filter",data="flowFrame"’: no definition for class “norm2Filter”
in method for ‘glpoints’ with signature ‘x="norm2Filter",data="flowFrame",channels="character"’: no definition for class “norm2Filter”
in method for ‘glpolygon’ with signature ‘x="norm2Filter",data="ANY"’: no definition for class “norm2Filter”
in method for ‘glpolygon’ with signature ‘x="norm2Filter",data="logicalFilterResult"’: no definition for class “norm2Filter”
in method for ‘glpolygon’ with signature ‘x="norm2Filter",data="flowFrame"’: no definition for class “norm2Filter”
in method for ‘gpoints’ with signature ‘x="norm2Filter",data="flowFrame",channels="character"’: no definition for class “norm2Filter”
in method for ‘gpolygon’ with signature ‘x="norm2Filter",data="ANY"’: no definition for class “norm2Filter”
in method for ‘gpolygon’ with signature ‘x="norm2Filter",data="logicalFilterResult"’: no definition for class “norm2Filter”
in method for ‘gpolygon’ with signature ‘x="norm2Filter",data="flowFrame"’: no definition for class “norm2Filter”
in method for ‘xyplot’ with signature ‘x="formula",data="view"’: no definition for class “view”
in method for ‘xyplot’ with signature ‘x="view",data="missing"’: no definition for class “view”
in method for ‘xyplot’ with signature ‘x="formula",data="gateView"’: no definition for class “gateView”
in method for ‘xyplot’ with signature ‘x="formula",data="ncdfFlowSet"’: no definition for class “ncdfFlowSet”
in method for ‘xyplot’ with signature ‘x="formula",data="ncdfFlowList"’: no definition for class “ncdfFlowList”
** help
*** installing help indices
** building package indices
** installing vignettes
   ‘filters.Rmd’ 
** testing if installed package can be loaded from temporary location
** testing if installed package can be loaded from final location
** testing if installed package keeps a record of temporary installation path
* DONE (flowViz)