Back to Multiple platform build/check report for BioC 3.14
ABCDE[F]GHIJKLMNOPQRSTUVWXYZ

This page was generated on 2022-01-24 13:06:15 -0500 (Mon, 24 Jan 2022).

HostnameOSArch (*)R versionInstalled pkgs
nebbiolo2Linux (Ubuntu 20.04.4 LTS)x86_644.1.2 (2021-11-01) -- "Bird Hippie" 4329
tokay2Windows Server 2012 R2 Standardx644.1.2 (2021-11-01) -- "Bird Hippie" 4080
machv2macOS 10.14.6 Mojavex86_644.1.2 (2021-11-01) -- "Bird Hippie" 4141
Click on any hostname to see more info about the system (e.g. compilers)      (*) as reported by 'uname -p', except on Windows and Mac OS X

BUILD BIN results for flowUtils on tokay2


To the developers/maintainers of the flowUtils package:
- Please allow up to 24 hours (and sometimes 48 hours) for your latest push to git@git.bioconductor.org:packages/flowUtils.git to
reflect on this report. See How and When does the builder pull? When will my changes propagate? here for more information.
- Make sure to use the following settings in order to reproduce any error or warning you see on this page.

raw results

Package 675/2083HostnameOS / ArchINSTALLBUILDCHECKBUILD BIN
flowUtils 1.58.0  (landing page)
Josef Spidlen
Snapshot Date: 2022-01-23 01:55:04 -0500 (Sun, 23 Jan 2022)
git_url: https://git.bioconductor.org/packages/flowUtils
git_branch: RELEASE_3_14
git_last_commit: 87aa66e
git_last_commit_date: 2021-10-26 11:50:32 -0500 (Tue, 26 Oct 2021)
nebbiolo2Linux (Ubuntu 20.04.4 LTS) / x86_64  OK    OK    WARNINGS  UNNEEDED, same version is already published
tokay2Windows Server 2012 R2 Standard / x64  OK    OK    WARNINGS    OK  UNNEEDED, same version is already published
machv2macOS 10.14.6 Mojave / x86_64  OK    OK    WARNINGS    OK  UNNEEDED, same version is already published

Summary

Package: flowUtils
Version: 1.58.0
Command: rm -rf flowUtils.buildbin-libdir && mkdir flowUtils.buildbin-libdir && C:\Users\biocbuild\bbs-3.14-bioc\R\bin\R.exe CMD INSTALL --merge-multiarch --build --library=flowUtils.buildbin-libdir flowUtils_1.58.0.tar.gz
StartedAt: 2022-01-24 05:49:25 -0500 (Mon, 24 Jan 2022)
EndedAt: 2022-01-24 05:49:47 -0500 (Mon, 24 Jan 2022)
EllapsedTime: 22.7 seconds
RetCode: 0
Status:   OK  
PackageFile: flowUtils_1.58.0.zip
PackageFileSize: 521.5 KiB

Command output

##############################################################################
##############################################################################
###
### Running command:
###
###   rm -rf flowUtils.buildbin-libdir && mkdir flowUtils.buildbin-libdir && C:\Users\biocbuild\bbs-3.14-bioc\R\bin\R.exe CMD INSTALL --merge-multiarch --build --library=flowUtils.buildbin-libdir flowUtils_1.58.0.tar.gz
###
##############################################################################
##############################################################################



install for i386

* installing *source* package 'flowUtils' ...
** using staged installation
** R
** inst
** byte-compile and prepare package for lazy loading
No methods found in package 'flowCore' for requests: 'action', 'assign', 'Data', 'gate', 'tree' when loading 'flowUtils'
** help
*** installing help indices
  converting help for package 'flowUtils'
    finding HTML links ... done
    flowUtil-package                        html  
    read.gatingML                           html  
    testGatingMLCompliance                  html  
    write.gatingML                          html  
** building package indices
** installing vignettes
** testing if installed package can be loaded from temporary location
No methods found in package 'flowCore' for requests: 'action', 'assign', 'Data', 'gate', 'tree' when loading 'flowUtils'
** testing if installed package can be loaded from final location
No methods found in package 'flowCore' for requests: 'action', 'assign', 'Data', 'gate', 'tree' when loading 'flowUtils'
** testing if installed package keeps a record of temporary installation path

install for x64

* installing *source* package 'flowUtils' ...
** testing if installed package can be loaded
No methods found in package 'flowCore' for requests: 'action', 'assign', 'Data', 'gate', 'tree' when loading 'flowUtils'
* MD5 sums
packaged installation of 'flowUtils' as flowUtils_1.58.0.zip
* DONE (flowUtils)