Back to Multiple platform build/check report for BioC 3.14
ABCDE[F]GHIJKLMNOPQRSTUVWXYZ

This page was generated on 2022-01-19 13:06:36 -0500 (Wed, 19 Jan 2022).

HostnameOSArch (*)R versionInstalled pkgs
nebbiolo2Linux (Ubuntu 20.04.4 LTS)x86_644.1.2 (2021-11-01) -- "Bird Hippie" 4328
tokay2Windows Server 2012 R2 Standardx644.1.2 (2021-11-01) -- "Bird Hippie" 4077
machv2macOS 10.14.6 Mojavex86_644.1.2 (2021-11-01) -- "Bird Hippie" 4138
Click on any hostname to see more info about the system (e.g. compilers)      (*) as reported by 'uname -p', except on Windows and Mac OS X

BUILD BIN results for flowTime on tokay2


To the developers/maintainers of the flowTime package:
- Please allow up to 24 hours (and sometimes 48 hours) for your latest push to git@git.bioconductor.org:packages/flowTime.git to
reflect on this report. See How and When does the builder pull? When will my changes propagate? here for more information.
- Make sure to use the following settings in order to reproduce any error or warning you see on this page.

raw results

Package 673/2083HostnameOS / ArchINSTALLBUILDCHECKBUILD BIN
flowTime 1.18.0  (landing page)
R. Clay Wright
Snapshot Date: 2022-01-18 01:55:07 -0500 (Tue, 18 Jan 2022)
git_url: https://git.bioconductor.org/packages/flowTime
git_branch: RELEASE_3_14
git_last_commit: ea5611b
git_last_commit_date: 2021-11-04 09:52:00 -0500 (Thu, 04 Nov 2021)
nebbiolo2Linux (Ubuntu 20.04.4 LTS) / x86_64  OK    OK    OK  UNNEEDED, same version is already published
tokay2Windows Server 2012 R2 Standard / x64  OK    OK    OK    OK  UNNEEDED, same version is already published
machv2macOS 10.14.6 Mojave / x86_64  OK    OK    OK    OK  UNNEEDED, same version is already published

Summary

Package: flowTime
Version: 1.18.0
Command: rm -rf flowTime.buildbin-libdir && mkdir flowTime.buildbin-libdir && C:\Users\biocbuild\bbs-3.14-bioc\R\bin\R.exe CMD INSTALL --merge-multiarch --build --library=flowTime.buildbin-libdir flowTime_1.18.0.tar.gz
StartedAt: 2022-01-19 05:51:18 -0500 (Wed, 19 Jan 2022)
EndedAt: 2022-01-19 05:51:39 -0500 (Wed, 19 Jan 2022)
EllapsedTime: 21.0 seconds
RetCode: 0
Status:   OK  
PackageFile: flowTime_1.18.0.zip
PackageFileSize: 2.324 MiB

Command output

##############################################################################
##############################################################################
###
### Running command:
###
###   rm -rf flowTime.buildbin-libdir && mkdir flowTime.buildbin-libdir && C:\Users\biocbuild\bbs-3.14-bioc\R\bin\R.exe CMD INSTALL --merge-multiarch --build --library=flowTime.buildbin-libdir flowTime_1.18.0.tar.gz
###
##############################################################################
##############################################################################



install for i386

* installing *source* package 'flowTime' ...
** using staged installation
** R
** data
*** moving datasets to lazyload DB
** inst
** byte-compile and prepare package for lazy loading
** help
*** installing help indices
  converting help for package 'flowTime'
    finding HTML links ... done
    addbs                                   html  
    addnorm                                 html  
    annotateFlowSet                         html  
    createAnnotation                        html  
    dipdoubletGate                          html  
    dipsingletGate                          html  
    flsummary                               html  
    getTime                                 html  
    hapdoubletGate                          html  
    hapsingletGate                          html  
    loadGates                               html  
    meanMedianSD                            html  
    ploidy                                  html  
    polygate                                html  
    qaGating                                html  
    read.plateSet                           html  
    saveGates                               html  
    steadyState                             html  
    summarizeFlow                           html  
    tidyFlow                                html  
    yeastGate                               html  
** building package indices
** installing vignettes
** testing if installed package can be loaded from temporary location
** testing if installed package can be loaded from final location
** testing if installed package keeps a record of temporary installation path

install for x64

* installing *source* package 'flowTime' ...
** testing if installed package can be loaded
* MD5 sums
packaged installation of 'flowTime' as flowTime_1.18.0.zip
* DONE (flowTime)