Back to Multiple platform build/check report for BioC 3.14
ABCDE[F]GHIJKLMNOPQRSTUVWXYZ

This page was generated on 2021-08-04 12:04:06 -0400 (Wed, 04 Aug 2021).

All results for package flowTime

To the developers/maintainers of the flowTime package:
- Please allow up to 24 hours (and sometimes 48 hours) for your latest push to git@git.bioconductor.org:packages/flowTime.git to
reflect on this report. See How and When does the builder pull? When will my changes propagate? here for more information.
- Make sure to use the following settings in order to reproduce any error or warning you see on this page.

raw results

Package 653/2015HostnameOS / ArchINSTALLBUILDCHECKBUILD BIN
flowTime 1.15.1  (landing page)
R. Clay Wright
Snapshot Date: 2021-08-03 14:50:07 -0400 (Tue, 03 Aug 2021)
URL: https://git.bioconductor.org/packages/flowTime
Branch: master
Last Commit: cdb675e
Last Changed Date: 2021-07-27 22:49:57 -0400 (Tue, 27 Jul 2021)
nebbiolo2Linux (Ubuntu 20.04.2 LTS) / x86_64  OK    OK    OK  NO, version to propagate (1.15.1) is lower than published version (1.17.0)
riesling1Windows Server 2019 Standard / x64  OK    OK    OK    OK  NO, version to propagate (1.15.1) is lower than published version (1.17.0)
merida1macOS 10.14.6 Mojave / x86_64  OK    OK    OK    OK  NO, version to propagate (1.15.1) is lower than published version (1.17.0)