Back to Multiple platform build/check report for BioC 3.14
ABCDE[F]GHIJKLMNOPQRSTUVWXYZ

This page was generated on 2021-11-26 15:05:49 -0500 (Fri, 26 Nov 2021).

BUILD results for flowStats on machv2

To the developers/maintainers of the flowStats package:
- Please allow up to 24 hours (and sometimes 48 hours) for your latest push to git@git.bioconductor.org:packages/flowStats.git to
reflect on this report. See How and When does the builder pull? When will my changes propagate? here for more information.
- Make sure to use the following settings in order to reproduce any error or warning you see on this page.

raw results

Package 672/2083HostnameOS / ArchINSTALLBUILDCHECKBUILD BIN
flowStats 4.6.0  (landing page)
Greg Finak , Mike Jiang , Jake Wagner
Snapshot Date: 2021-11-25 04:15:05 -0500 (Thu, 25 Nov 2021)
git_url: https://git.bioconductor.org/packages/flowStats
git_branch: RELEASE_3_14
git_last_commit: afc7826
git_last_commit_date: 2021-10-26 11:53:51 -0500 (Tue, 26 Oct 2021)
nebbiolo2Linux (Ubuntu 20.04.3 LTS) / x86_64  OK    OK    OK  UNNEEDED, same version is already published
tokay2Windows Server 2012 R2 Standard / x64  OK    OK    OK    OK  UNNEEDED, same version is already published
machv2macOS 10.14.6 Mojave / x86_64  OK    OK    OK    OK  UNNEEDED, same version is already published

Summary

Package: flowStats
Version: 4.6.0
Command: /Library/Frameworks/R.framework/Resources/bin/R CMD build --keep-empty-dirs --no-resave-data flowStats
StartedAt: 2021-11-25 09:19:19 -0500 (Thu, 25 Nov 2021)
EndedAt: 2021-11-25 09:21:02 -0500 (Thu, 25 Nov 2021)
EllapsedTime: 102.9 seconds
RetCode: 0
Status:   OK  
PackageFile: flowStats_4.6.0.tar.gz
PackageFileSize: 11.03 MiB

Command output

##############################################################################
##############################################################################
###
### Running command:
###
###   /Library/Frameworks/R.framework/Resources/bin/R CMD build --keep-empty-dirs --no-resave-data flowStats
###
##############################################################################
##############################################################################


* checking for file ‘flowStats/DESCRIPTION’ ... OK
* preparing ‘flowStats’:
* checking DESCRIPTION meta-information ... OK
* installing the package to build vignettes
* creating vignettes ... OK
* checking for LF line-endings in source and make files and shell scripts
* checking for empty or unneeded directories
* looking to see if a ‘data/datalist’ file should be added
* building ‘flowStats_4.6.0.tar.gz’