Back to Multiple platform build/check report for BioC 3.14
ABCDE[F]GHIJKLMNOPQRSTUVWXYZ

This page was generated on 2022-01-19 13:06:36 -0500 (Wed, 19 Jan 2022).

HostnameOSArch (*)R versionInstalled pkgs
nebbiolo2Linux (Ubuntu 20.04.4 LTS)x86_644.1.2 (2021-11-01) -- "Bird Hippie" 4328
tokay2Windows Server 2012 R2 Standardx644.1.2 (2021-11-01) -- "Bird Hippie" 4077
machv2macOS 10.14.6 Mojavex86_644.1.2 (2021-11-01) -- "Bird Hippie" 4138
Click on any hostname to see more info about the system (e.g. compilers)      (*) as reported by 'uname -p', except on Windows and Mac OS X

INSTALL results for flowPloidy on tokay2


To the developers/maintainers of the flowPloidy package:
- Please allow up to 24 hours (and sometimes 48 hours) for your latest push to git@git.bioconductor.org:packages/flowPloidy.git to
reflect on this report. See How and When does the builder pull? When will my changes propagate? here for more information.
- Make sure to use the following settings in order to reproduce any error or warning you see on this page.

raw results

Package 668/2083HostnameOS / ArchINSTALLBUILDCHECKBUILD BIN
flowPloidy 1.20.0  (landing page)
Tyler Smith
Snapshot Date: 2022-01-18 01:55:07 -0500 (Tue, 18 Jan 2022)
git_url: https://git.bioconductor.org/packages/flowPloidy
git_branch: RELEASE_3_14
git_last_commit: 74d74f3
git_last_commit_date: 2021-10-26 12:30:35 -0500 (Tue, 26 Oct 2021)
nebbiolo2Linux (Ubuntu 20.04.4 LTS) / x86_64  OK    OK    OK  UNNEEDED, same version is already published
tokay2Windows Server 2012 R2 Standard / x64  OK    OK    OK    OK  UNNEEDED, same version is already published
machv2macOS 10.14.6 Mojave / x86_64  OK    OK    OK    OK  UNNEEDED, same version is already published

Summary

Package: flowPloidy
Version: 1.20.0
Command: C:\cygwin\bin\curl.exe -O http://155.52.207.166/BBS/3.14/bioc/src/contrib/flowPloidy_1.20.0.tar.gz && rm -rf flowPloidy.buildbin-libdir && mkdir flowPloidy.buildbin-libdir && C:\Users\biocbuild\bbs-3.14-bioc\R\bin\R.exe CMD INSTALL --merge-multiarch --build --library=flowPloidy.buildbin-libdir flowPloidy_1.20.0.tar.gz && C:\Users\biocbuild\bbs-3.14-bioc\R\bin\R.exe CMD INSTALL flowPloidy_1.20.0.zip && rm flowPloidy_1.20.0.tar.gz flowPloidy_1.20.0.zip
StartedAt: 2022-01-18 06:19:37 -0500 (Tue, 18 Jan 2022)
EndedAt: 2022-01-18 06:20:34 -0500 (Tue, 18 Jan 2022)
EllapsedTime: 57.6 seconds
RetCode: 0
Status:   OK  

Command output

##############################################################################
##############################################################################
###
### Running command:
###
###   C:\cygwin\bin\curl.exe -O http://155.52.207.166/BBS/3.14/bioc/src/contrib/flowPloidy_1.20.0.tar.gz && rm -rf flowPloidy.buildbin-libdir && mkdir flowPloidy.buildbin-libdir && C:\Users\biocbuild\bbs-3.14-bioc\R\bin\R.exe CMD INSTALL --merge-multiarch --build --library=flowPloidy.buildbin-libdir flowPloidy_1.20.0.tar.gz && C:\Users\biocbuild\bbs-3.14-bioc\R\bin\R.exe CMD INSTALL flowPloidy_1.20.0.zip && rm flowPloidy_1.20.0.tar.gz flowPloidy_1.20.0.zip
###
##############################################################################
##############################################################################


  % Total    % Received % Xferd  Average Speed   Time    Time     Time  Current
                                 Dload  Upload   Total   Spent    Left  Speed

  0     0    0     0    0     0      0      0 --:--:-- --:--:-- --:--:--     0
 10 1125k   10  118k    0     0   903k      0  0:00:01 --:--:--  0:00:01  904k
100 1125k  100 1125k    0     0  3616k      0 --:--:-- --:--:-- --:--:-- 3618k

install for i386

* installing *source* package 'flowPloidy' ...
** using staged installation
** R
** inst
** byte-compile and prepare package for lazy loading
** help
*** installing help indices
  converting help for package 'flowPloidy'
    finding HTML links ... done
    DebrisModels                            html  
    FlowHist                                html  
    finding level-2 HTML links ... done

    FlowStandards                           html  
    ModelComponent                          html  
    browseFlowHist                          html  
    fhAccessors                             html  
    fhAnalyze                               html  
    fhDoCV                                  html  
    fhDoCounts                              html  
    fhDoNLS                                 html  
    fhDoRCS                                 html  
    fhModels                                html  
    fhStart                                 html  
    findPeaks                               html  
    flowPloidy                              html  
    gauss                                   html  
    pickInit                                html  
    plot.FlowHist                           html  
    plotFH                                  html  
    resetFlowHist                           html  
    setBins                                 html  
    setGate                                 html  
    tabulateFlowHist                        html  
    updateFlowHist                          html  
    viewFlowChannels                        html  
** building package indices
** installing vignettes
** testing if installed package can be loaded from temporary location
** testing if installed package can be loaded from final location
** testing if installed package keeps a record of temporary installation path

install for x64

* installing *source* package 'flowPloidy' ...
** testing if installed package can be loaded
* MD5 sums
packaged installation of 'flowPloidy' as flowPloidy_1.20.0.zip
* DONE (flowPloidy)
* installing to library 'C:/Users/biocbuild/bbs-3.14-bioc/R/library'
package 'flowPloidy' successfully unpacked and MD5 sums checked