Back to Multiple platform build/check report for BioC 3.14
ABCDE[F]GHIJKLMNOPQRSTUVWXYZ

This page was generated on 2022-01-14 13:05:11 -0500 (Fri, 14 Jan 2022).

HostnameOSArch (*)R versionInstalled pkgs
nebbiolo2Linux (Ubuntu 20.04.4 LTS)x86_644.1.2 (2021-11-01) -- "Bird Hippie" 4327
tokay2Windows Server 2012 R2 Standardx644.1.2 (2021-11-01) -- "Bird Hippie" 4076
machv2macOS 10.14.6 Mojavex86_644.1.2 (2021-11-01) -- "Bird Hippie" 4137
Click on any hostname to see more info about the system (e.g. compilers)      (*) as reported by 'uname -p', except on Windows and Mac OS X

CHECK results for flowPloidy on nebbiolo2


To the developers/maintainers of the flowPloidy package:
- Please allow up to 24 hours (and sometimes 48 hours) for your latest push to git@git.bioconductor.org:packages/flowPloidy.git to
reflect on this report. See How and When does the builder pull? When will my changes propagate? here for more information.
- Make sure to use the following settings in order to reproduce any error or warning you see on this page.

raw results

Package 668/2083HostnameOS / ArchINSTALLBUILDCHECKBUILD BIN
flowPloidy 1.20.0  (landing page)
Tyler Smith
Snapshot Date: 2022-01-13 01:55:04 -0500 (Thu, 13 Jan 2022)
git_url: https://git.bioconductor.org/packages/flowPloidy
git_branch: RELEASE_3_14
git_last_commit: 74d74f3
git_last_commit_date: 2021-10-26 12:30:35 -0500 (Tue, 26 Oct 2021)
nebbiolo2Linux (Ubuntu 20.04.4 LTS) / x86_64  OK    OK    OK  UNNEEDED, same version is already published
tokay2Windows Server 2012 R2 Standard / x64  OK    OK    OK    OK  UNNEEDED, same version is already published
machv2macOS 10.14.6 Mojave / x86_64  OK    OK    OK    OK  UNNEEDED, same version is already published

Summary

Package: flowPloidy
Version: 1.20.0
Command: /home/biocbuild/bbs-3.14-bioc/R/bin/R CMD check --install=check:flowPloidy.install-out.txt --library=/home/biocbuild/bbs-3.14-bioc/R/library --no-vignettes --timings flowPloidy_1.20.0.tar.gz
StartedAt: 2022-01-13 07:36:27 -0500 (Thu, 13 Jan 2022)
EndedAt: 2022-01-13 07:37:43 -0500 (Thu, 13 Jan 2022)
EllapsedTime: 76.6 seconds
RetCode: 0
Status:   OK  
CheckDir: flowPloidy.Rcheck
Warnings: 0

Command output

##############################################################################
##############################################################################
###
### Running command:
###
###   /home/biocbuild/bbs-3.14-bioc/R/bin/R CMD check --install=check:flowPloidy.install-out.txt --library=/home/biocbuild/bbs-3.14-bioc/R/library --no-vignettes --timings flowPloidy_1.20.0.tar.gz
###
##############################################################################
##############################################################################


* using log directory ‘/home/biocbuild/bbs-3.14-bioc/meat/flowPloidy.Rcheck’
* using R version 4.1.2 (2021-11-01)
* using platform: x86_64-pc-linux-gnu (64-bit)
* using session charset: UTF-8
* using option ‘--no-vignettes’
* checking for file ‘flowPloidy/DESCRIPTION’ ... OK
* this is package ‘flowPloidy’ version ‘1.20.0’
* checking package namespace information ... OK
* checking package dependencies ... OK
* checking if this is a source package ... OK
* checking if there is a namespace ... OK
* checking for hidden files and directories ... OK
* checking for portable file names ... OK
* checking for sufficient/correct file permissions ... OK
* checking whether package ‘flowPloidy’ can be installed ... OK
* checking installed package size ... OK
* checking package directory ... OK
* checking ‘build’ directory ... OK
* checking DESCRIPTION meta-information ... OK
* checking top-level files ... OK
* checking for left-over files ... OK
* checking index information ... OK
* checking package subdirectories ... OK
* checking R files for non-ASCII characters ... OK
* checking R files for syntax errors ... OK
* checking whether the package can be loaded ... OK
* checking whether the package can be loaded with stated dependencies ... OK
* checking whether the package can be unloaded cleanly ... OK
* checking whether the namespace can be loaded with stated dependencies ... OK
* checking whether the namespace can be unloaded cleanly ... OK
* checking dependencies in R code ... OK
* checking S3 generic/method consistency ... OK
* checking replacement functions ... OK
* checking foreign function calls ... OK
* checking R code for possible problems ... OK
* checking Rd files ... OK
* checking Rd metadata ... OK
* checking Rd cross-references ... OK
* checking for missing documentation entries ... OK
* checking for code/documentation mismatches ... OK
* checking Rd \usage sections ... OK
* checking Rd contents ... OK
* checking for unstated dependencies in examples ... OK
* checking files in ‘vignettes’ ... OK
* checking examples ... OK
* checking for unstated dependencies in ‘tests’ ... OK
* checking tests ...
  Running ‘testthat.R’
 OK
* checking for unstated dependencies in vignettes ... OK
* checking package vignettes in ‘inst/doc’ ... OK
* checking running R code from vignettes ... SKIPPED
* checking re-building of vignette outputs ... SKIPPED
* checking PDF version of manual ... OK
* DONE

Status: OK


Installation output

flowPloidy.Rcheck/00install.out

##############################################################################
##############################################################################
###
### Running command:
###
###   /home/biocbuild/bbs-3.14-bioc/R/bin/R CMD INSTALL flowPloidy
###
##############################################################################
##############################################################################


* installing to library ‘/home/biocbuild/bbs-3.14-bioc/R/library’
* installing *source* package ‘flowPloidy’ ...
** using staged installation
** R
** inst
** byte-compile and prepare package for lazy loading
** help
*** installing help indices
** building package indices
** installing vignettes
** testing if installed package can be loaded from temporary location
** testing if installed package can be loaded from final location
** testing if installed package keeps a record of temporary installation path
* DONE (flowPloidy)

Tests output

flowPloidy.Rcheck/tests/testthat.Rout


R version 4.1.2 (2021-11-01) -- "Bird Hippie"
Copyright (C) 2021 The R Foundation for Statistical Computing
Platform: x86_64-pc-linux-gnu (64-bit)

R is free software and comes with ABSOLUTELY NO WARRANTY.
You are welcome to redistribute it under certain conditions.
Type 'license()' or 'licence()' for distribution details.

R is a collaborative project with many contributors.
Type 'contributors()' for more information and
'citation()' on how to cite R or R packages in publications.

Type 'demo()' for some demos, 'help()' for on-line help, or
'help.start()' for an HTML browser interface to help.
Type 'q()' to quit R.

> library(testthat)
> library(flowPloidy)
> 
> test_check("flowPloidy")
FlowHist object '188-15.LMD'
channel: FL3.INT.LIN
2 samples
bins: 256
linearity: variable
debris: SC
7 model components: a1, a2, a_s, b1, b_s, SC, AG
12 parameters: a1P, a_mean, a_stddev, a2P, linearity, a_sP, b1P, b_mean, b_stddev, b_sP, SCaP, AP
5 special parameters: xx, SCvals, DBvals, TRvals, QDvals
Model fit

Analysis
========

Counts
------
 a1_count  a2_count a_s_count  b1_count b_s_count 
  1442.99    336.58      0.00   2820.64    405.87 

Peak Sizes
----------
a_mean b_mean 
 99.04 136.12 

CVs
---
a_CV b_CV 
 2.2  2.0 

RCS: 1.589 
FlowHist object '222.LMD'
channel: FL3.INT.LIN
2 samples
bins: 256
linearity: variable
debris: SC
8 model components: a1, a2, a_s, b1, b2, b_s, SC, AG
13 parameters: a1P, a_mean, a_stddev, a2P, linearity, a_sP, b1P, b_mean, b_stddev, b2P, b_sP, SCaP, AP
5 special parameters: xx, SCvals, DBvals, TRvals, QDvals
Model fitting not complete

RCS: NA 
FlowHist object '240+S.LMD'
channel: FL3.INT.LIN
2 samples
bins: 256
linearity: variable
debris: MC
7 model components: a1, a2, a_s, b1, b_s, MC, AG
13 parameters: a1P, a_mean, a_stddev, a2P, linearity, a_sP, b1P, b_mean, b_stddev, b_sP, MCaP, k, AP
5 special parameters: xx, MCvals, DBvals, TRvals, QDvals
Model fit

Analysis
========

Counts
------
 a1_count  a2_count a_s_count  b1_count b_s_count 
   664.23      0.00    195.73   3269.65      0.00 

Peak Sizes
----------
a_mean b_mean 
 77.10 160.79 

CVs
---
a_CV b_CV 
 4.8  7.7 

RCS: 2.22 
FlowHist object '08.328'
channel: FL2.A
2 samples
bins: 256
linearity: variable
debris: SC
0 model components: 
0 parameters: 
0 special parameters: 
Model fitting not complete

RCS: NA 
[ FAIL 0 | WARN 0 | SKIP 0 | PASS 26 ]
> 
> proc.time()
   user  system elapsed 
  3.822   0.177   3.985 

Example timings

flowPloidy.Rcheck/flowPloidy-Ex.timings

nameusersystemelapsed
DebrisModels000
FlowHist1.9000.0441.956
FlowStandards0.10.00.1
ModelComponent0.0010.0000.001
browseFlowHist1.5530.0041.557
fhAccessors0.1010.0040.105
fhAnalyze0.1660.0000.166
findPeaks000
pickInit0.1440.0000.144
plotFH0.1130.0000.113
setBins0.1400.0040.144
tabulateFlowHist0.1720.0040.175
updateFlowHist0.2350.0000.235
viewFlowChannels0.030.000.03