Back to Multiple platform build/check report for BioC 3.14
ABCDE[F]GHIJKLMNOPQRSTUVWXYZ

This page was generated on 2021-12-06 13:05:57 -0500 (Mon, 06 Dec 2021).

BUILD BIN results for flowMeans on machv2

To the developers/maintainers of the flowMeans package:
- Please allow up to 24 hours (and sometimes 48 hours) for your latest push to git@git.bioconductor.org:packages/flowMeans.git to
reflect on this report. See How and When does the builder pull? When will my changes propagate? here for more information.
- Make sure to use the following settings in order to reproduce any error or warning you see on this page.

raw results

Package 665/2083HostnameOS / ArchINSTALLBUILDCHECKBUILD BIN
flowMeans 1.54.0  (landing page)
Nima Aghaeepour
Snapshot Date: 2021-12-05 01:55:05 -0500 (Sun, 05 Dec 2021)
git_url: https://git.bioconductor.org/packages/flowMeans
git_branch: RELEASE_3_14
git_last_commit: 7cdf615
git_last_commit_date: 2021-10-26 11:55:58 -0500 (Tue, 26 Oct 2021)
nebbiolo2Linux (Ubuntu 20.04.3 LTS) / x86_64  OK    OK    OK  UNNEEDED, same version is already published
tokay2Windows Server 2012 R2 Standard / x64  OK    OK    OK    OK  UNNEEDED, same version is already published
machv2macOS 10.14.6 Mojave / x86_64  OK    OK    OK    OK  UNNEEDED, same version is already published

Summary

Package: flowMeans
Version: 1.54.0
Command: rm -rf flowMeans.buildbin-libdir && mkdir flowMeans.buildbin-libdir && /Users/biocbuild/BBS/utils/build-universal.sh flowMeans_1.54.0.tar.gz /Library/Frameworks/R.framework/Resources/bin/R flowMeans.buildbin-libdir
StartedAt: 2021-12-05 22:11:34 -0500 (Sun, 05 Dec 2021)
EndedAt: 2021-12-05 22:12:38 -0500 (Sun, 05 Dec 2021)
EllapsedTime: 63.7 seconds
RetCode: 0
Status:   OK  
PackageFile: flowMeans_1.54.0.tgz
PackageFileSize: 3.492 MiB

Command output

##############################################################################
##############################################################################
###
### Running command:
###
###   rm -rf flowMeans.buildbin-libdir && mkdir flowMeans.buildbin-libdir && /Users/biocbuild/BBS/utils/build-universal.sh flowMeans_1.54.0.tar.gz /Library/Frameworks/R.framework/Resources/bin/R flowMeans.buildbin-libdir
###
##############################################################################
##############################################################################


>>>>>>> 
>>>>>>> INSTALLATION WITH 'R CMD INSTALL --preclean --no-multiarch --library=flowMeans.buildbin-libdir flowMeans_1.54.0.tar.gz'
>>>>>>> 

* installing *source* package ‘flowMeans’ ...
** using staged installation
** R
** data
** inst
** byte-compile and prepare package for lazy loading
** help
*** installing help indices
** building package indices
** installing vignettes
** testing if installed package can be loaded from temporary location
** testing if installed package can be loaded from final location
** testing if installed package keeps a record of temporary installation path
* DONE (flowMeans)