Back to Multiple platform build/check report for BioC 3.14
ABCDE[F]GHIJKLMNOPQRSTUVWXYZ

This page was generated on 2021-12-06 13:04:58 -0500 (Mon, 06 Dec 2021).

BUILD results for flowMatch on nebbiolo2

To the developers/maintainers of the flowMatch package:
- Please allow up to 24 hours (and sometimes 48 hours) for your latest push to git@git.bioconductor.org:packages/flowMatch.git to
reflect on this report. See How and When does the builder pull? When will my changes propagate? here for more information.
- Make sure to use the following settings in order to reproduce any error or warning you see on this page.

raw results

Package 664/2083HostnameOS / ArchINSTALLBUILDCHECKBUILD BIN
flowMatch 1.30.0  (landing page)
Ariful Azad
Snapshot Date: 2021-12-05 01:55:05 -0500 (Sun, 05 Dec 2021)
git_url: https://git.bioconductor.org/packages/flowMatch
git_branch: RELEASE_3_14
git_last_commit: 87a457c
git_last_commit_date: 2021-10-26 12:11:07 -0500 (Tue, 26 Oct 2021)
nebbiolo2Linux (Ubuntu 20.04.3 LTS) / x86_64  OK    OK    OK  UNNEEDED, same version is already published
tokay2Windows Server 2012 R2 Standard / x64  OK    OK    OK    OK  UNNEEDED, same version is already published
machv2macOS 10.14.6 Mojave / x86_64  OK    OK    OK    OK  UNNEEDED, same version is already published

Summary

Package: flowMatch
Version: 1.30.0
Command: /home/biocbuild/bbs-3.14-bioc/R/bin/R CMD build --keep-empty-dirs --no-resave-data flowMatch
StartedAt: 2021-12-05 04:31:05 -0500 (Sun, 05 Dec 2021)
EndedAt: 2021-12-05 04:32:01 -0500 (Sun, 05 Dec 2021)
EllapsedTime: 56.7 seconds
RetCode: 0
Status:   OK  
PackageFile: flowMatch_1.30.0.tar.gz
PackageFileSize: 3.58 MiB

Command output

##############################################################################
##############################################################################
###
### Running command:
###
###   /home/biocbuild/bbs-3.14-bioc/R/bin/R CMD build --keep-empty-dirs --no-resave-data flowMatch
###
##############################################################################
##############################################################################


* checking for file ‘flowMatch/DESCRIPTION’ ... OK
* preparing ‘flowMatch’:
* checking DESCRIPTION meta-information ... OK
* cleaning src
* installing the package to build vignettes
* creating vignettes ... OK
* cleaning src
* checking for LF line-endings in source and make files and shell scripts
* checking for empty or unneeded directories
* building ‘flowMatch_1.30.0.tar.gz’