Back to Multiple platform build/check report for BioC 3.14
ABCDE[F]GHIJKLMNOPQRSTUVWXYZ

This page was generated on 2022-01-19 13:06:35 -0500 (Wed, 19 Jan 2022).

HostnameOSArch (*)R versionInstalled pkgs
nebbiolo2Linux (Ubuntu 20.04.4 LTS)x86_644.1.2 (2021-11-01) -- "Bird Hippie" 4328
tokay2Windows Server 2012 R2 Standardx644.1.2 (2021-11-01) -- "Bird Hippie" 4077
machv2macOS 10.14.6 Mojavex86_644.1.2 (2021-11-01) -- "Bird Hippie" 4138
Click on any hostname to see more info about the system (e.g. compilers)      (*) as reported by 'uname -p', except on Windows and Mac OS X

BUILD BIN results for flowFP on tokay2


To the developers/maintainers of the flowFP package:
- Please allow up to 24 hours (and sometimes 48 hours) for your latest push to git@git.bioconductor.org:packages/flowFP.git to
reflect on this report. See How and When does the builder pull? When will my changes propagate? here for more information.
- Make sure to use the following settings in order to reproduce any error or warning you see on this page.

raw results

Package 661/2083HostnameOS / ArchINSTALLBUILDCHECKBUILD BIN
flowFP 1.52.0  (landing page)
Herb Holyst
Snapshot Date: 2022-01-18 01:55:07 -0500 (Tue, 18 Jan 2022)
git_url: https://git.bioconductor.org/packages/flowFP
git_branch: RELEASE_3_14
git_last_commit: 5e0174a
git_last_commit_date: 2021-10-26 11:54:08 -0500 (Tue, 26 Oct 2021)
nebbiolo2Linux (Ubuntu 20.04.4 LTS) / x86_64  OK    OK    OK  UNNEEDED, same version is already published
tokay2Windows Server 2012 R2 Standard / x64  OK    OK    OK    OK  UNNEEDED, same version is already published
machv2macOS 10.14.6 Mojave / x86_64  OK    OK    OK    OK  UNNEEDED, same version is already published

Summary

Package: flowFP
Version: 1.52.0
Command: rm -rf flowFP.buildbin-libdir && mkdir flowFP.buildbin-libdir && C:\Users\biocbuild\bbs-3.14-bioc\R\bin\R.exe CMD INSTALL --merge-multiarch --build --library=flowFP.buildbin-libdir flowFP_1.52.0.tar.gz
StartedAt: 2022-01-19 05:50:54 -0500 (Wed, 19 Jan 2022)
EndedAt: 2022-01-19 05:51:23 -0500 (Wed, 19 Jan 2022)
EllapsedTime: 28.8 seconds
RetCode: 0
Status:   OK  
PackageFile: flowFP_1.52.0.zip
PackageFileSize: 5.634 MiB

Command output

##############################################################################
##############################################################################
###
### Running command:
###
###   rm -rf flowFP.buildbin-libdir && mkdir flowFP.buildbin-libdir && C:\Users\biocbuild\bbs-3.14-bioc\R\bin\R.exe CMD INSTALL --merge-multiarch --build --library=flowFP.buildbin-libdir flowFP_1.52.0.tar.gz
###
##############################################################################
##############################################################################



install for i386

* installing *source* package 'flowFP' ...
** using staged installation

   **********************************************
   WARNING: this package has a configure script
         It probably needs manual configuration
   **********************************************


** libs
"C:/rtools40/mingw32/bin/"gcc  -I"C:/Users/BIOCBU~1/BBS-3~1.14-/R/include" -DNDEBUG     -I"C:/extsoft/include"     -O2 -Wall  -std=gnu99 -mfpmath=sse -msse2 -mstackrealign  -c flowFP.c -o flowFP.o
"C:/rtools40/mingw32/bin/"gcc  -I"C:/Users/BIOCBU~1/BBS-3~1.14-/R/include" -DNDEBUG     -I"C:/extsoft/include"     -O2 -Wall  -std=gnu99 -mfpmath=sse -msse2 -mstackrealign  -c init.c -o init.o
"C:/rtools40/mingw32/bin/"gcc  -I"C:/Users/BIOCBU~1/BBS-3~1.14-/R/include" -DNDEBUG     -I"C:/extsoft/include"     -O2 -Wall  -std=gnu99 -mfpmath=sse -msse2 -mstackrealign  -c split_utils.c -o split_utils.o
C:/rtools40/mingw32/bin/gcc -shared -s -static-libgcc -o flowFP.dll tmp.def flowFP.o init.o split_utils.o -LC:/extsoft/lib/i386 -LC:/extsoft/lib -LC:/Users/BIOCBU~1/BBS-3~1.14-/R/bin/i386 -lR
installing to C:/Users/biocbuild/bbs-3.14-bioc/meat/flowFP.buildbin-libdir/00LOCK-flowFP/00new/flowFP/libs/i386
** R
** data
** inst
** byte-compile and prepare package for lazy loading
Creating a generic function for 'append' from package 'base' in package 'flowFP'
** help
*** installing help indices
  converting help for package 'flowFP'
    finding HTML links ... done
    append-methods                          html  
    binBoundary-methods                     html  
    counts-methods                          html  
    flowFP-class                            html  
    flowFP-package                          html  
    flowFP                                  html  
    flowFPModel-class                       html  
    flowFPModel                             html  
    flowFPPlex-class                        html  
    flowFPPlex                              html  
    fs1                                     html  
    fs2                                     html  
    hasClasses-methods                      html  
    index-methods                           html  
    is.flowFP                               html  
    is.flowFPModel                          html  
    is.flowFPPlex                           html  
    length-methods                          html  
    nFeatures-methods                       html  
    nInstances-methods                      html  
    nRecursions-methods                     html  
    name-methods                            html  
    parameters-methods                      html  
    plate                                   html  
    plot-methods                            html  
    sampleClasses-methods                   html  
    sampleNames-methods                     html  
    show-methods                            html  
    summary-methods                         html  
    tags-methods                            html  
** building package indices
** installing vignettes
** testing if installed package can be loaded from temporary location
** testing if installed package can be loaded from final location
** testing if installed package keeps a record of temporary installation path

install for x64

* installing *source* package 'flowFP' ...

   **********************************************
   WARNING: this package has a configure script
         It probably needs manual configuration
   **********************************************


** libs
"C:/rtools40/mingw64/bin/"gcc  -I"C:/Users/BIOCBU~1/BBS-3~1.14-/R/include" -DNDEBUG     -I"C:/extsoft/include"     -O2 -Wall  -std=gnu99 -mfpmath=sse -msse2 -mstackrealign  -c flowFP.c -o flowFP.o
"C:/rtools40/mingw64/bin/"gcc  -I"C:/Users/BIOCBU~1/BBS-3~1.14-/R/include" -DNDEBUG     -I"C:/extsoft/include"     -O2 -Wall  -std=gnu99 -mfpmath=sse -msse2 -mstackrealign  -c init.c -o init.o
"C:/rtools40/mingw64/bin/"gcc  -I"C:/Users/BIOCBU~1/BBS-3~1.14-/R/include" -DNDEBUG     -I"C:/extsoft/include"     -O2 -Wall  -std=gnu99 -mfpmath=sse -msse2 -mstackrealign  -c split_utils.c -o split_utils.o
C:/rtools40/mingw64/bin/gcc -shared -s -static-libgcc -o flowFP.dll tmp.def flowFP.o init.o split_utils.o -LC:/extsoft/lib/x64 -LC:/extsoft/lib -LC:/Users/BIOCBU~1/BBS-3~1.14-/R/bin/x64 -lR
installing to C:/Users/biocbuild/bbs-3.14-bioc/meat/flowFP.buildbin-libdir/flowFP/libs/x64
** testing if installed package can be loaded
* MD5 sums
packaged installation of 'flowFP' as flowFP_1.52.0.zip
* DONE (flowFP)