Back to Multiple platform build/check report for BioC 3.14
ABCDE[F]GHIJKLMNOPQRSTUVWXYZ

This page was generated on 2022-01-26 13:05:23 -0500 (Wed, 26 Jan 2022).

HostnameOSArch (*)R versionInstalled pkgs
nebbiolo2Linux (Ubuntu 20.04.4 LTS)x86_644.1.2 (2021-11-01) -- "Bird Hippie" 4329
tokay2Windows Server 2012 R2 Standardx644.1.2 (2021-11-01) -- "Bird Hippie" 4080
machv2macOS 10.14.6 Mojavex86_644.1.2 (2021-11-01) -- "Bird Hippie" 4141
Click on any hostname to see more info about the system (e.g. compilers)      (*) as reported by 'uname -p', except on Windows and Mac OS X

INSTALL results for flowDensity on nebbiolo2


To the developers/maintainers of the flowDensity package:
- Please allow up to 24 hours (and sometimes 48 hours) for your latest push to git@git.bioconductor.org:packages/flowDensity.git to
reflect on this report. See How and When does the builder pull? When will my changes propagate? here for more information.
- Make sure to use the following settings in order to reproduce any error or warning you see on this page.

raw results

Package 660/2083HostnameOS / ArchINSTALLBUILDCHECKBUILD BIN
flowDensity 1.28.0  (landing page)
Mehrnoush Malek
Snapshot Date: 2022-01-25 01:55:07 -0500 (Tue, 25 Jan 2022)
git_url: https://git.bioconductor.org/packages/flowDensity
git_branch: RELEASE_3_14
git_last_commit: 26bbabf
git_last_commit_date: 2021-10-26 12:14:21 -0500 (Tue, 26 Oct 2021)
nebbiolo2Linux (Ubuntu 20.04.4 LTS) / x86_64  OK    OK    WARNINGS  UNNEEDED, same version is already published
tokay2Windows Server 2012 R2 Standard / x64  OK    OK    WARNINGS    OK  UNNEEDED, same version is already published
machv2macOS 10.14.6 Mojave / x86_64  OK    OK    WARNINGS    OK  UNNEEDED, same version is already published

Summary

Package: flowDensity
Version: 1.28.0
Command: /home/biocbuild/bbs-3.14-bioc/R/bin/R CMD INSTALL flowDensity
StartedAt: 2022-01-25 03:25:34 -0500 (Tue, 25 Jan 2022)
EndedAt: 2022-01-25 03:25:51 -0500 (Tue, 25 Jan 2022)
EllapsedTime: 16.8 seconds
RetCode: 0
Status:   OK  

Command output

##############################################################################
##############################################################################
###
### Running command:
###
###   /home/biocbuild/bbs-3.14-bioc/R/bin/R CMD INSTALL flowDensity
###
##############################################################################
##############################################################################


* installing to library ‘/home/biocbuild/bbs-3.14-bioc/R/library’
* installing *source* package ‘flowDensity’ ...
** using staged installation
** R
** inst
** byte-compile and prepare package for lazy loading
Warning: replacing previous import ‘flowCore::plot’ by ‘graphics::plot’ when loading ‘flowDensity’
** help
*** installing help indices
** building package indices
** installing vignettes
   ‘flowDensity.Rmd’ 
** testing if installed package can be loaded from temporary location
Warning: replacing previous import ‘flowCore::plot’ by ‘graphics::plot’ when loading ‘flowDensity’
** testing if installed package can be loaded from final location
Warning: replacing previous import ‘flowCore::plot’ by ‘graphics::plot’ when loading ‘flowDensity’
** testing if installed package keeps a record of temporary installation path
* DONE (flowDensity)