Back to Multiple platform build/check report for BioC 3.14
ABCDE[F]GHIJKLMNOPQRSTUVWXYZ

This page was generated on 2021-12-03 13:05:46 -0500 (Fri, 03 Dec 2021).

CHECK results for flowCore on machv2

To the developers/maintainers of the flowCore package:
- Please allow up to 24 hours (and sometimes 48 hours) for your latest push to git@git.bioconductor.org:packages/flowCore.git to
reflect on this report. See How and When does the builder pull? When will my changes propagate? here for more information.
- Make sure to use the following settings in order to reproduce any error or warning you see on this page.

raw results

Package 657/2083HostnameOS / ArchINSTALLBUILDCHECKBUILD BIN
flowCore 2.6.0  (landing page)
Mike Jiang
Snapshot Date: 2021-12-02 01:55:06 -0500 (Thu, 02 Dec 2021)
git_url: https://git.bioconductor.org/packages/flowCore
git_branch: RELEASE_3_14
git_last_commit: 947b975
git_last_commit_date: 2021-10-26 11:50:30 -0500 (Tue, 26 Oct 2021)
nebbiolo2Linux (Ubuntu 20.04.3 LTS) / x86_64  OK    OK    OK  UNNEEDED, same version is already published
tokay2Windows Server 2012 R2 Standard / x64  OK    OK    OK    OK  UNNEEDED, same version is already published
machv2macOS 10.14.6 Mojave / x86_64  OK    OK    OK    OK  UNNEEDED, same version is already published

Summary

Package: flowCore
Version: 2.6.0
Command: /Library/Frameworks/R.framework/Resources/bin/R CMD check --install=check:flowCore.install-out.txt --library=/Library/Frameworks/R.framework/Resources/library --no-vignettes --timings flowCore_2.6.0.tar.gz
StartedAt: 2021-12-02 14:30:57 -0500 (Thu, 02 Dec 2021)
EndedAt: 2021-12-02 14:34:02 -0500 (Thu, 02 Dec 2021)
EllapsedTime: 184.4 seconds
RetCode: 0
Status:   OK  
CheckDir: flowCore.Rcheck
Warnings: 0

Command output

##############################################################################
##############################################################################
###
### Running command:
###
###   /Library/Frameworks/R.framework/Resources/bin/R CMD check --install=check:flowCore.install-out.txt --library=/Library/Frameworks/R.framework/Resources/library --no-vignettes --timings flowCore_2.6.0.tar.gz
###
##############################################################################
##############################################################################


* using log directory ‘/Users/biocbuild/bbs-3.14-bioc/meat/flowCore.Rcheck’
* using R version 4.1.2 (2021-11-01)
* using platform: x86_64-apple-darwin17.0 (64-bit)
* using session charset: UTF-8
* using option ‘--no-vignettes’
* checking for file ‘flowCore/DESCRIPTION’ ... OK
* this is package ‘flowCore’ version ‘2.6.0’
* package encoding: UTF-8
* checking package namespace information ... OK
* checking package dependencies ... OK
* checking if this is a source package ... OK
* checking if there is a namespace ... OK
* checking for hidden files and directories ... OK
* checking for portable file names ... OK
* checking for sufficient/correct file permissions ... OK
* checking whether package ‘flowCore’ can be installed ... OK
* checking installed package size ... NOTE
  installed size is  9.5Mb
  sub-directories of 1Mb or more:
    R         2.0Mb
    data      5.0Mb
    extdata   1.1Mb
* checking package directory ... OK
* checking ‘build’ directory ... OK
* checking DESCRIPTION meta-information ... OK
* checking top-level files ... OK
* checking for left-over files ... OK
* checking index information ... OK
* checking package subdirectories ... OK
* checking R files for non-ASCII characters ... OK
* checking R files for syntax errors ... OK
* checking whether the package can be loaded ... OK
* checking whether the package can be loaded with stated dependencies ... OK
* checking whether the package can be unloaded cleanly ... OK
* checking whether the namespace can be loaded with stated dependencies ... OK
* checking whether the namespace can be unloaded cleanly ... OK
* checking dependencies in R code ... OK
* checking S3 generic/method consistency ... OK
* checking replacement functions ... OK
* checking foreign function calls ... OK
* checking R code for possible problems ... NOTE
eval,compensatedParameter-missing : <anonymous>: no visible binding for
  global variable ‘mat’
eval,compensatedParameter-missing : <anonymous>: no visible binding for
  global variable ‘msv’
show,flowFrame: no visible global function definition for
  ‘capture.output’
Undefined global functions or variables:
  capture.output mat msv
Consider adding
  importFrom("utils", "capture.output")
to your NAMESPACE file.
* checking Rd files ... OK
* checking Rd metadata ... OK
* checking Rd cross-references ... OK
* checking for missing documentation entries ... OK
* checking for code/documentation mismatches ... OK
* checking Rd \usage sections ... OK
* checking Rd contents ... OK
* checking for unstated dependencies in examples ... OK
* checking contents of ‘data’ directory ... OK
* checking data for non-ASCII characters ... OK
* checking data for ASCII and uncompressed saves ... OK
* checking line endings in C/C++/Fortran sources/headers ... OK
* checking line endings in Makefiles ... OK
* checking compilation flags in Makevars ... OK
* checking for GNU extensions in Makefiles ... OK
* checking for portable use of $(BLAS_LIBS) and $(LAPACK_LIBS) ... OK
* checking use of PKG_*FLAGS in Makefiles ... OK
* checking compiled code ... NOTE
Note: information on .o files is not available
File ‘/Library/Frameworks/R.framework/Versions/4.1/Resources/library/flowCore/libs/flowCore.so’:
  Found ‘_rand’, possibly from ‘rand’ (C)
  Found ‘_srand’, possibly from ‘srand’ (C)

Compiled code should not call entry points which might terminate R nor
write to stdout/stderr instead of to the console, nor use Fortran I/O
nor system RNGs. The detected symbols are linked into the code but
might come from libraries and not actually be called.

See ‘Writing portable packages’ in the ‘Writing R Extensions’ manual.
* checking sizes of PDF files under ‘inst/doc’ ... OK
* checking installed files from ‘inst/doc’ ... OK
* checking files in ‘vignettes’ ... OK
* checking examples ... OK
Examples with CPU (user + system) or elapsed time > 5s
                        user system elapsed
filterResultList-class 6.306  0.230   6.541
flowFrame-class        4.928  0.203   5.252
* checking for unstated dependencies in ‘tests’ ... OK
* checking tests ...
  Running ‘testthat.R’
 OK
* checking for unstated dependencies in vignettes ... OK
* checking package vignettes in ‘inst/doc’ ... OK
* checking running R code from vignettes ... SKIPPED
* checking re-building of vignette outputs ... SKIPPED
* checking PDF version of manual ... OK
* DONE

Status: 3 NOTEs
See
  ‘/Users/biocbuild/bbs-3.14-bioc/meat/flowCore.Rcheck/00check.log’
for details.



Installation output

flowCore.Rcheck/00install.out

##############################################################################
##############################################################################
###
### Running command:
###
###   /Library/Frameworks/R.framework/Resources/bin/R CMD INSTALL flowCore
###
##############################################################################
##############################################################################


* installing to library ‘/Library/Frameworks/R.framework/Versions/4.1/Resources/library’
* installing *source* package ‘flowCore’ ...
** using staged installation
** libs
clang++ -mmacosx-version-min=10.13 -std=gnu++11 -I"/Library/Frameworks/R.framework/Resources/include" -DNDEBUG  -I'/Library/Frameworks/R.framework/Versions/4.1/Resources/library/Rcpp/include' -I'/Library/Frameworks/R.framework/Versions/4.1/Resources/library/RcppArmadillo/include' -I'/Library/Frameworks/R.framework/Versions/4.1/Resources/library/BH/include' -I'/Library/Frameworks/R.framework/Versions/4.1/Resources/library/cytolib/include' -I'/Library/Frameworks/R.framework/Versions/4.1/Resources/library/RProtoBufLib/include' -I/usr/local/include   -fPIC  -Wall -g -O2  -c FastLogicle.cpp -o FastLogicle.o
clang++ -mmacosx-version-min=10.13 -std=gnu++11 -I"/Library/Frameworks/R.framework/Resources/include" -DNDEBUG  -I'/Library/Frameworks/R.framework/Versions/4.1/Resources/library/Rcpp/include' -I'/Library/Frameworks/R.framework/Versions/4.1/Resources/library/RcppArmadillo/include' -I'/Library/Frameworks/R.framework/Versions/4.1/Resources/library/BH/include' -I'/Library/Frameworks/R.framework/Versions/4.1/Resources/library/cytolib/include' -I'/Library/Frameworks/R.framework/Versions/4.1/Resources/library/RProtoBufLib/include' -I/usr/local/include   -fPIC  -Wall -g -O2  -c Hyperlog.cpp -o Hyperlog.o
clang++ -mmacosx-version-min=10.13 -std=gnu++11 -I"/Library/Frameworks/R.framework/Resources/include" -DNDEBUG  -I'/Library/Frameworks/R.framework/Versions/4.1/Resources/library/Rcpp/include' -I'/Library/Frameworks/R.framework/Versions/4.1/Resources/library/RcppArmadillo/include' -I'/Library/Frameworks/R.framework/Versions/4.1/Resources/library/BH/include' -I'/Library/Frameworks/R.framework/Versions/4.1/Resources/library/cytolib/include' -I'/Library/Frameworks/R.framework/Versions/4.1/Resources/library/RProtoBufLib/include' -I/usr/local/include   -fPIC  -Wall -g -O2  -c Logicle.cpp -o Logicle.o
clang++ -mmacosx-version-min=10.13 -std=gnu++11 -I"/Library/Frameworks/R.framework/Resources/include" -DNDEBUG  -I'/Library/Frameworks/R.framework/Versions/4.1/Resources/library/Rcpp/include' -I'/Library/Frameworks/R.framework/Versions/4.1/Resources/library/RcppArmadillo/include' -I'/Library/Frameworks/R.framework/Versions/4.1/Resources/library/BH/include' -I'/Library/Frameworks/R.framework/Versions/4.1/Resources/library/cytolib/include' -I'/Library/Frameworks/R.framework/Versions/4.1/Resources/library/RProtoBufLib/include' -I/usr/local/include   -fPIC  -Wall -g -O2  -c RcppExports.cpp -o RcppExports.o
clang++ -mmacosx-version-min=10.13 -std=gnu++11 -I"/Library/Frameworks/R.framework/Resources/include" -DNDEBUG  -I'/Library/Frameworks/R.framework/Versions/4.1/Resources/library/Rcpp/include' -I'/Library/Frameworks/R.framework/Versions/4.1/Resources/library/RcppArmadillo/include' -I'/Library/Frameworks/R.framework/Versions/4.1/Resources/library/BH/include' -I'/Library/Frameworks/R.framework/Versions/4.1/Resources/library/cytolib/include' -I'/Library/Frameworks/R.framework/Versions/4.1/Resources/library/RProtoBufLib/include' -I/usr/local/include   -fPIC  -Wall -g -O2  -c biexponential.cpp -o biexponential.o
clang++ -mmacosx-version-min=10.13 -std=gnu++11 -I"/Library/Frameworks/R.framework/Resources/include" -DNDEBUG  -I'/Library/Frameworks/R.framework/Versions/4.1/Resources/library/Rcpp/include' -I'/Library/Frameworks/R.framework/Versions/4.1/Resources/library/RcppArmadillo/include' -I'/Library/Frameworks/R.framework/Versions/4.1/Resources/library/BH/include' -I'/Library/Frameworks/R.framework/Versions/4.1/Resources/library/cytolib/include' -I'/Library/Frameworks/R.framework/Versions/4.1/Resources/library/RProtoBufLib/include' -I/usr/local/include   -fPIC  -Wall -g -O2  -c convertRawBytes.cpp -o convertRawBytes.o
clang++ -mmacosx-version-min=10.13 -std=gnu++11 -I"/Library/Frameworks/R.framework/Resources/include" -DNDEBUG  -I'/Library/Frameworks/R.framework/Versions/4.1/Resources/library/Rcpp/include' -I'/Library/Frameworks/R.framework/Versions/4.1/Resources/library/RcppArmadillo/include' -I'/Library/Frameworks/R.framework/Versions/4.1/Resources/library/BH/include' -I'/Library/Frameworks/R.framework/Versions/4.1/Resources/library/cytolib/include' -I'/Library/Frameworks/R.framework/Versions/4.1/Resources/library/RProtoBufLib/include' -I/usr/local/include   -fPIC  -Wall -g -O2  -c fcsTextParse.cpp -o fcsTextParse.o
clang++ -mmacosx-version-min=10.13 -std=gnu++11 -I"/Library/Frameworks/R.framework/Resources/include" -DNDEBUG  -I'/Library/Frameworks/R.framework/Versions/4.1/Resources/library/Rcpp/include' -I'/Library/Frameworks/R.framework/Versions/4.1/Resources/library/RcppArmadillo/include' -I'/Library/Frameworks/R.framework/Versions/4.1/Resources/library/BH/include' -I'/Library/Frameworks/R.framework/Versions/4.1/Resources/library/cytolib/include' -I'/Library/Frameworks/R.framework/Versions/4.1/Resources/library/RProtoBufLib/include' -I/usr/local/include   -fPIC  -Wall -g -O2  -c hyperlogTransform.cpp -o hyperlogTransform.o
clang++ -mmacosx-version-min=10.13 -std=gnu++11 -I"/Library/Frameworks/R.framework/Resources/include" -DNDEBUG  -I'/Library/Frameworks/R.framework/Versions/4.1/Resources/library/Rcpp/include' -I'/Library/Frameworks/R.framework/Versions/4.1/Resources/library/RcppArmadillo/include' -I'/Library/Frameworks/R.framework/Versions/4.1/Resources/library/BH/include' -I'/Library/Frameworks/R.framework/Versions/4.1/Resources/library/cytolib/include' -I'/Library/Frameworks/R.framework/Versions/4.1/Resources/library/RProtoBufLib/include' -I/usr/local/include   -fPIC  -Wall -g -O2  -c inPolygon.cpp -o inPolygon.o
clang++ -mmacosx-version-min=10.13 -std=gnu++11 -I"/Library/Frameworks/R.framework/Resources/include" -DNDEBUG  -I'/Library/Frameworks/R.framework/Versions/4.1/Resources/library/Rcpp/include' -I'/Library/Frameworks/R.framework/Versions/4.1/Resources/library/RcppArmadillo/include' -I'/Library/Frameworks/R.framework/Versions/4.1/Resources/library/BH/include' -I'/Library/Frameworks/R.framework/Versions/4.1/Resources/library/cytolib/include' -I'/Library/Frameworks/R.framework/Versions/4.1/Resources/library/RProtoBufLib/include' -I/usr/local/include   -fPIC  -Wall -g -O2  -c inPolytope.cpp -o inPolytope.o
clang++ -mmacosx-version-min=10.13 -std=gnu++11 -I"/Library/Frameworks/R.framework/Resources/include" -DNDEBUG  -I'/Library/Frameworks/R.framework/Versions/4.1/Resources/library/Rcpp/include' -I'/Library/Frameworks/R.framework/Versions/4.1/Resources/library/RcppArmadillo/include' -I'/Library/Frameworks/R.framework/Versions/4.1/Resources/library/BH/include' -I'/Library/Frameworks/R.framework/Versions/4.1/Resources/library/cytolib/include' -I'/Library/Frameworks/R.framework/Versions/4.1/Resources/library/RProtoBufLib/include' -I/usr/local/include   -fPIC  -Wall -g -O2  -c logicleTransform.cpp -o logicleTransform.o
clang++ -mmacosx-version-min=10.13 -std=gnu++11 -I"/Library/Frameworks/R.framework/Resources/include" -DNDEBUG  -I'/Library/Frameworks/R.framework/Versions/4.1/Resources/library/Rcpp/include' -I'/Library/Frameworks/R.framework/Versions/4.1/Resources/library/RcppArmadillo/include' -I'/Library/Frameworks/R.framework/Versions/4.1/Resources/library/BH/include' -I'/Library/Frameworks/R.framework/Versions/4.1/Resources/library/cytolib/include' -I'/Library/Frameworks/R.framework/Versions/4.1/Resources/library/RProtoBufLib/include' -I/usr/local/include   -fPIC  -Wall -g -O2  -c pairVectorRcppWrap.cpp -o pairVectorRcppWrap.o
clang++ -mmacosx-version-min=10.13 -std=gnu++11 -I"/Library/Frameworks/R.framework/Resources/include" -DNDEBUG  -I'/Library/Frameworks/R.framework/Versions/4.1/Resources/library/Rcpp/include' -I'/Library/Frameworks/R.framework/Versions/4.1/Resources/library/RcppArmadillo/include' -I'/Library/Frameworks/R.framework/Versions/4.1/Resources/library/BH/include' -I'/Library/Frameworks/R.framework/Versions/4.1/Resources/library/cytolib/include' -I'/Library/Frameworks/R.framework/Versions/4.1/Resources/library/RProtoBufLib/include' -I/usr/local/include   -fPIC  -Wall -g -O2  -c poly_centroid.cpp -o poly_centroid.o
clang++ -mmacosx-version-min=10.13 -std=gnu++11 -I"/Library/Frameworks/R.framework/Resources/include" -DNDEBUG  -I'/Library/Frameworks/R.framework/Versions/4.1/Resources/library/Rcpp/include' -I'/Library/Frameworks/R.framework/Versions/4.1/Resources/library/RcppArmadillo/include' -I'/Library/Frameworks/R.framework/Versions/4.1/Resources/library/BH/include' -I'/Library/Frameworks/R.framework/Versions/4.1/Resources/library/cytolib/include' -I'/Library/Frameworks/R.framework/Versions/4.1/Resources/library/RProtoBufLib/include' -I/usr/local/include   -fPIC  -Wall -g -O2  -c sortBytes.cpp -o sortBytes.o
clang++ -mmacosx-version-min=10.13 -std=gnu++11 -I"/Library/Frameworks/R.framework/Resources/include" -DNDEBUG  -I'/Library/Frameworks/R.framework/Versions/4.1/Resources/library/Rcpp/include' -I'/Library/Frameworks/R.framework/Versions/4.1/Resources/library/RcppArmadillo/include' -I'/Library/Frameworks/R.framework/Versions/4.1/Resources/library/BH/include' -I'/Library/Frameworks/R.framework/Versions/4.1/Resources/library/cytolib/include' -I'/Library/Frameworks/R.framework/Versions/4.1/Resources/library/RProtoBufLib/include' -I/usr/local/include   -fPIC  -Wall -g -O2  -c uint2double.cpp -o uint2double.o
clang++ -mmacosx-version-min=10.13 -std=gnu++11 -I"/Library/Frameworks/R.framework/Resources/include" -DNDEBUG  -I'/Library/Frameworks/R.framework/Versions/4.1/Resources/library/Rcpp/include' -I'/Library/Frameworks/R.framework/Versions/4.1/Resources/library/RcppArmadillo/include' -I'/Library/Frameworks/R.framework/Versions/4.1/Resources/library/BH/include' -I'/Library/Frameworks/R.framework/Versions/4.1/Resources/library/cytolib/include' -I'/Library/Frameworks/R.framework/Versions/4.1/Resources/library/RProtoBufLib/include' -I/usr/local/include   -fPIC  -Wall -g -O2  -c zeroin.cpp -o zeroin.o
clang++ -mmacosx-version-min=10.13 -std=gnu++11 -dynamiclib -Wl,-headerpad_max_install_names -undefined dynamic_lookup -single_module -multiply_defined suppress -L/Library/Frameworks/R.framework/Resources/lib -L/usr/local/lib -o flowCore.so FastLogicle.o Hyperlog.o Logicle.o RcppExports.o biexponential.o convertRawBytes.o fcsTextParse.o hyperlogTransform.o inPolygon.o inPolytope.o logicleTransform.o pairVectorRcppWrap.o poly_centroid.o sortBytes.o uint2double.o zeroin.o /Library/Frameworks/R.framework/Versions/4.1/Resources/library/cytolib/lib/libcytolib.a -F/Library/Frameworks/R.framework/.. -framework R -Wl,-framework -Wl,CoreFoundation
if [ `uname -s` = 'Darwin' ]; then install_name_tool -change /usr/local/clang4/lib/libc++.1.dylib /usr/lib/libc++.1.dylib flowCore.so; fi
installing to /Library/Frameworks/R.framework/Versions/4.1/Resources/library/00LOCK-flowCore/00new/flowCore/libs
** R
** data
** inst
** byte-compile and prepare package for lazy loading
** help
*** installing help indices
** building package indices
** installing vignettes
   ‘HowTo-flowCore.Rnw’ using ‘UTF-8’ 
** testing if installed package can be loaded from temporary location
** checking absolute paths in shared objects and dynamic libraries
** testing if installed package can be loaded from final location
** testing if installed package keeps a record of temporary installation path
* DONE (flowCore)

Tests output

flowCore.Rcheck/tests/testthat.Rout


R version 4.1.2 (2021-11-01) -- "Bird Hippie"
Copyright (C) 2021 The R Foundation for Statistical Computing
Platform: x86_64-apple-darwin17.0 (64-bit)

R is free software and comes with ABSOLUTELY NO WARRANTY.
You are welcome to redistribute it under certain conditions.
Type 'license()' or 'licence()' for distribution details.

R is a collaborative project with many contributors.
Type 'contributors()' for more information and
'citation()' on how to cite R or R packages in publications.

Type 'demo()' for some demos, 'help()' for on-line help, or
'help.start()' for an HTML browser interface to help.
Type 'q()' to quit R.

> library(testthat)
> library(flowCore)
> library(flowStats)
> 
> 
> test_check("flowCore")
Loading required package: BiocGenerics

Attaching package: 'BiocGenerics'

The following object is masked from 'package:flowStats':

    normalize

The following object is masked from 'package:flowCore':

    normalize

The following objects are masked from 'package:stats':

    IQR, mad, sd, var, xtabs

The following objects are masked from 'package:base':

    Filter, Find, Map, Position, Reduce, anyDuplicated, append,
    as.data.frame, basename, cbind, colnames, dirname, do.call,
    duplicated, eval, evalq, get, grep, grepl, intersect, is.unsorted,
    lapply, mapply, match, mget, order, paste, pmax, pmax.int, pmin,
    pmin.int, rank, rbind, rownames, sapply, setdiff, sort, table,
    tapply, union, unique, unsplit, which.max, which.min

Welcome to Bioconductor

    Vignettes contain introductory material; view with
    'browseVignettes()'. To cite Bioconductor, see
    'citation("Biobase")', and for packages 'citation("pkgname")'.

══ Skipped tests ═══════════════════════════════════════════════════════════════
• dir.exists(dataPath) is not TRUE (1)
• file.exists(filename) is not TRUE (2)

[ FAIL 0 | WARN 10 | SKIP 3 | PASS 334 ]
> 
> #devtools::test("~/rglab/workspace/flowCore")
> 
> proc.time()
   user  system elapsed 
 26.168   1.465  27.659 

Example timings

flowCore.Rcheck/flowCore-Ex.timings

nameusersystemelapsed
EHtrans-class0.0800.0070.087
FCSTransTransform1.0460.0651.111
Subset-methods0.3650.0160.382
arcsinhTransform0.0950.0010.096
asinht-class0.0410.0020.043
asinhtGml2-class0.0440.0010.046
biexponentialTransform3.9700.0704.044
boundaryFilter-class0.1380.0030.142
characterOrNumeric-class0.0020.0000.002
characterOrParameters-class0.0010.0000.001
characterOrTransformation-class0.0010.0000.002
coerce0.0760.0070.082
collapse_desc1.0130.0451.059
compensatedParameter-class0.1930.0060.201
compensation-class0.3910.0510.442
decompensate0.0670.0040.071
dg1polynomial-class0.0300.0010.032
each_col0.0360.0030.039
ellipsoidGate-class0.0970.0050.102
exponential-class0.0360.0010.037
expressionFilter-class0.1360.0040.141
filter-methods1.0320.0271.059
filter-on-methods0.1480.0070.155
filterList-class0.0070.0000.009
filterResult-class0.0010.0000.002
filterResultList-class6.3060.2306.541
filterSummary-class0.1040.0100.115
filterSummaryList-class0.9930.0381.032
flowFrame-class4.9280.2035.252
flowSet-class3.1410.1303.277
fr_append_cols0.8040.0150.821
fsApply0.1540.0130.167
getIndexSort0.0300.0010.031
hyperlog-class1.6730.0301.706
hyperlogtGml2-class0.0260.0010.027
identifier-methods0.0240.0010.025
inverseLogicleTransform0.8240.0140.842
invsplitscale-class0.0280.0010.030
keyword-methods0.7780.0310.809
kmeansFilter-class0.1290.0030.133
linearTransform0.0290.0020.032
lintGml2-class0.0290.0070.036
lnTransform1.5560.0411.601
logTransform0.0420.0000.043
logarithm-class0.0240.0000.024
logicalFilterResult-class0.0010.0000.001
logicleTransform0.8320.0110.845
logicletGml2-class0.0510.0040.055
logtGml2-class0.0320.0010.032
manyFilterResult-class0.0010.0010.002
markernames0.8360.0150.854
multipleFilterResult-class0.0010.0010.002
parameters-methods0.0280.0020.029
polygonGate-class0.0910.0080.100
quadGate-class0.2300.0040.235
quadratic-class0.0350.0020.036
quadraticTransform0.0410.0010.041
ratio-class0.0370.0010.039
ratiotGml2-class0.0340.0020.035
read.FCS0.1170.0050.123
read.FCSheader0.0090.0050.014
read.flowSet0.1430.0030.147
rectangleGate-class0.1500.0110.160
rotate_gate000
sampleFilter-class0.0690.0020.071
scaleTransform0.0400.0010.041
scale_gate0.0010.0000.000
shift_gate000
singleParameterTransform-class0.0000.0010.001
sinht-class0.0290.0010.030
split-methods1.6470.0431.692
splitScaleTransform1.2830.0261.312
splitscale-class0.0320.0010.033
squareroot-class0.0300.0010.030
timeFilter-class2.1460.0492.196
transform-class0.0010.0010.001
transform1.2880.0281.317
transformFilter-class0.1630.0020.164
transformList-class0.8060.0200.826
transformMap-class0.0010.0010.001
transform_gate000
truncateTransform0.0330.0000.034
unitytransform-class0.0260.0000.026
write.FCS0.0610.0030.064
write.flowSet0.9900.0261.017