Back to Multiple platform build/check report for BioC 3.14
ABCDE[F]GHIJKLMNOPQRSTUVWXYZ

This page was generated on 2021-12-01 17:18:17 -0500 (Wed, 01 Dec 2021).

BUILD BIN results for flowCore on machv2

To the developers/maintainers of the flowCore package:
- Please allow up to 24 hours (and sometimes 48 hours) for your latest push to git@git.bioconductor.org:packages/flowCore.git to
reflect on this report. See How and When does the builder pull? When will my changes propagate? here for more information.
- Make sure to use the following settings in order to reproduce any error or warning you see on this page.

raw results

Package 657/2083HostnameOS / ArchINSTALLBUILDCHECKBUILD BIN
flowCore 2.6.0  (landing page)
Mike Jiang
Snapshot Date: 2021-11-30 04:15:05 -0500 (Tue, 30 Nov 2021)
git_url: https://git.bioconductor.org/packages/flowCore
git_branch: RELEASE_3_14
git_last_commit: 947b975
git_last_commit_date: 2021-10-26 11:50:30 -0500 (Tue, 26 Oct 2021)
nebbiolo2Linux (Ubuntu 20.04.3 LTS) / x86_64  OK    OK    OK  UNNEEDED, same version is already published
tokay2Windows Server 2012 R2 Standard / x64  OK    OK    OK    OK  UNNEEDED, same version is already published
machv2macOS 10.14.6 Mojave / x86_64  OK    OK    OK    OK  UNNEEDED, same version is already published

Summary

Package: flowCore
Version: 2.6.0
Command: rm -rf flowCore.buildbin-libdir && mkdir flowCore.buildbin-libdir && /Users/biocbuild/BBS/utils/build-universal.sh flowCore_2.6.0.tar.gz /Library/Frameworks/R.framework/Resources/bin/R flowCore.buildbin-libdir
StartedAt: 2021-12-01 00:08:31 -0500 (Wed, 01 Dec 2021)
EndedAt: 2021-12-01 00:10:55 -0500 (Wed, 01 Dec 2021)
EllapsedTime: 144.5 seconds
RetCode: 0
Status:   OK  
PackageFile: flowCore_2.6.0.tgz
PackageFileSize: 7.726 MiB

Command output

##############################################################################
##############################################################################
###
### Running command:
###
###   rm -rf flowCore.buildbin-libdir && mkdir flowCore.buildbin-libdir && /Users/biocbuild/BBS/utils/build-universal.sh flowCore_2.6.0.tar.gz /Library/Frameworks/R.framework/Resources/bin/R flowCore.buildbin-libdir
###
##############################################################################
##############################################################################


>>>>>>> 
>>>>>>> INSTALLATION WITH 'R CMD INSTALL --preclean --no-multiarch --library=flowCore.buildbin-libdir flowCore_2.6.0.tar.gz'
>>>>>>> 

* installing *source* package ‘flowCore’ ...
** using staged installation
** libs
clang++ -mmacosx-version-min=10.13 -std=gnu++11 -I"/Library/Frameworks/R.framework/Resources/include" -DNDEBUG  -I'/Library/Frameworks/R.framework/Versions/4.1/Resources/library/Rcpp/include' -I'/Library/Frameworks/R.framework/Versions/4.1/Resources/library/RcppArmadillo/include' -I'/Library/Frameworks/R.framework/Versions/4.1/Resources/library/BH/include' -I'/Library/Frameworks/R.framework/Versions/4.1/Resources/library/cytolib/include' -I'/Library/Frameworks/R.framework/Versions/4.1/Resources/library/RProtoBufLib/include' -I/usr/local/include   -fPIC  -Wall -g -O2  -c FastLogicle.cpp -o FastLogicle.o
clang++ -mmacosx-version-min=10.13 -std=gnu++11 -I"/Library/Frameworks/R.framework/Resources/include" -DNDEBUG  -I'/Library/Frameworks/R.framework/Versions/4.1/Resources/library/Rcpp/include' -I'/Library/Frameworks/R.framework/Versions/4.1/Resources/library/RcppArmadillo/include' -I'/Library/Frameworks/R.framework/Versions/4.1/Resources/library/BH/include' -I'/Library/Frameworks/R.framework/Versions/4.1/Resources/library/cytolib/include' -I'/Library/Frameworks/R.framework/Versions/4.1/Resources/library/RProtoBufLib/include' -I/usr/local/include   -fPIC  -Wall -g -O2  -c Hyperlog.cpp -o Hyperlog.o
clang++ -mmacosx-version-min=10.13 -std=gnu++11 -I"/Library/Frameworks/R.framework/Resources/include" -DNDEBUG  -I'/Library/Frameworks/R.framework/Versions/4.1/Resources/library/Rcpp/include' -I'/Library/Frameworks/R.framework/Versions/4.1/Resources/library/RcppArmadillo/include' -I'/Library/Frameworks/R.framework/Versions/4.1/Resources/library/BH/include' -I'/Library/Frameworks/R.framework/Versions/4.1/Resources/library/cytolib/include' -I'/Library/Frameworks/R.framework/Versions/4.1/Resources/library/RProtoBufLib/include' -I/usr/local/include   -fPIC  -Wall -g -O2  -c Logicle.cpp -o Logicle.o
clang++ -mmacosx-version-min=10.13 -std=gnu++11 -I"/Library/Frameworks/R.framework/Resources/include" -DNDEBUG  -I'/Library/Frameworks/R.framework/Versions/4.1/Resources/library/Rcpp/include' -I'/Library/Frameworks/R.framework/Versions/4.1/Resources/library/RcppArmadillo/include' -I'/Library/Frameworks/R.framework/Versions/4.1/Resources/library/BH/include' -I'/Library/Frameworks/R.framework/Versions/4.1/Resources/library/cytolib/include' -I'/Library/Frameworks/R.framework/Versions/4.1/Resources/library/RProtoBufLib/include' -I/usr/local/include   -fPIC  -Wall -g -O2  -c RcppExports.cpp -o RcppExports.o
clang++ -mmacosx-version-min=10.13 -std=gnu++11 -I"/Library/Frameworks/R.framework/Resources/include" -DNDEBUG  -I'/Library/Frameworks/R.framework/Versions/4.1/Resources/library/Rcpp/include' -I'/Library/Frameworks/R.framework/Versions/4.1/Resources/library/RcppArmadillo/include' -I'/Library/Frameworks/R.framework/Versions/4.1/Resources/library/BH/include' -I'/Library/Frameworks/R.framework/Versions/4.1/Resources/library/cytolib/include' -I'/Library/Frameworks/R.framework/Versions/4.1/Resources/library/RProtoBufLib/include' -I/usr/local/include   -fPIC  -Wall -g -O2  -c biexponential.cpp -o biexponential.o
clang++ -mmacosx-version-min=10.13 -std=gnu++11 -I"/Library/Frameworks/R.framework/Resources/include" -DNDEBUG  -I'/Library/Frameworks/R.framework/Versions/4.1/Resources/library/Rcpp/include' -I'/Library/Frameworks/R.framework/Versions/4.1/Resources/library/RcppArmadillo/include' -I'/Library/Frameworks/R.framework/Versions/4.1/Resources/library/BH/include' -I'/Library/Frameworks/R.framework/Versions/4.1/Resources/library/cytolib/include' -I'/Library/Frameworks/R.framework/Versions/4.1/Resources/library/RProtoBufLib/include' -I/usr/local/include   -fPIC  -Wall -g -O2  -c convertRawBytes.cpp -o convertRawBytes.o
clang++ -mmacosx-version-min=10.13 -std=gnu++11 -I"/Library/Frameworks/R.framework/Resources/include" -DNDEBUG  -I'/Library/Frameworks/R.framework/Versions/4.1/Resources/library/Rcpp/include' -I'/Library/Frameworks/R.framework/Versions/4.1/Resources/library/RcppArmadillo/include' -I'/Library/Frameworks/R.framework/Versions/4.1/Resources/library/BH/include' -I'/Library/Frameworks/R.framework/Versions/4.1/Resources/library/cytolib/include' -I'/Library/Frameworks/R.framework/Versions/4.1/Resources/library/RProtoBufLib/include' -I/usr/local/include   -fPIC  -Wall -g -O2  -c fcsTextParse.cpp -o fcsTextParse.o
clang++ -mmacosx-version-min=10.13 -std=gnu++11 -I"/Library/Frameworks/R.framework/Resources/include" -DNDEBUG  -I'/Library/Frameworks/R.framework/Versions/4.1/Resources/library/Rcpp/include' -I'/Library/Frameworks/R.framework/Versions/4.1/Resources/library/RcppArmadillo/include' -I'/Library/Frameworks/R.framework/Versions/4.1/Resources/library/BH/include' -I'/Library/Frameworks/R.framework/Versions/4.1/Resources/library/cytolib/include' -I'/Library/Frameworks/R.framework/Versions/4.1/Resources/library/RProtoBufLib/include' -I/usr/local/include   -fPIC  -Wall -g -O2  -c hyperlogTransform.cpp -o hyperlogTransform.o
clang++ -mmacosx-version-min=10.13 -std=gnu++11 -I"/Library/Frameworks/R.framework/Resources/include" -DNDEBUG  -I'/Library/Frameworks/R.framework/Versions/4.1/Resources/library/Rcpp/include' -I'/Library/Frameworks/R.framework/Versions/4.1/Resources/library/RcppArmadillo/include' -I'/Library/Frameworks/R.framework/Versions/4.1/Resources/library/BH/include' -I'/Library/Frameworks/R.framework/Versions/4.1/Resources/library/cytolib/include' -I'/Library/Frameworks/R.framework/Versions/4.1/Resources/library/RProtoBufLib/include' -I/usr/local/include   -fPIC  -Wall -g -O2  -c inPolygon.cpp -o inPolygon.o
clang++ -mmacosx-version-min=10.13 -std=gnu++11 -I"/Library/Frameworks/R.framework/Resources/include" -DNDEBUG  -I'/Library/Frameworks/R.framework/Versions/4.1/Resources/library/Rcpp/include' -I'/Library/Frameworks/R.framework/Versions/4.1/Resources/library/RcppArmadillo/include' -I'/Library/Frameworks/R.framework/Versions/4.1/Resources/library/BH/include' -I'/Library/Frameworks/R.framework/Versions/4.1/Resources/library/cytolib/include' -I'/Library/Frameworks/R.framework/Versions/4.1/Resources/library/RProtoBufLib/include' -I/usr/local/include   -fPIC  -Wall -g -O2  -c inPolytope.cpp -o inPolytope.o
clang++ -mmacosx-version-min=10.13 -std=gnu++11 -I"/Library/Frameworks/R.framework/Resources/include" -DNDEBUG  -I'/Library/Frameworks/R.framework/Versions/4.1/Resources/library/Rcpp/include' -I'/Library/Frameworks/R.framework/Versions/4.1/Resources/library/RcppArmadillo/include' -I'/Library/Frameworks/R.framework/Versions/4.1/Resources/library/BH/include' -I'/Library/Frameworks/R.framework/Versions/4.1/Resources/library/cytolib/include' -I'/Library/Frameworks/R.framework/Versions/4.1/Resources/library/RProtoBufLib/include' -I/usr/local/include   -fPIC  -Wall -g -O2  -c logicleTransform.cpp -o logicleTransform.o
clang++ -mmacosx-version-min=10.13 -std=gnu++11 -I"/Library/Frameworks/R.framework/Resources/include" -DNDEBUG  -I'/Library/Frameworks/R.framework/Versions/4.1/Resources/library/Rcpp/include' -I'/Library/Frameworks/R.framework/Versions/4.1/Resources/library/RcppArmadillo/include' -I'/Library/Frameworks/R.framework/Versions/4.1/Resources/library/BH/include' -I'/Library/Frameworks/R.framework/Versions/4.1/Resources/library/cytolib/include' -I'/Library/Frameworks/R.framework/Versions/4.1/Resources/library/RProtoBufLib/include' -I/usr/local/include   -fPIC  -Wall -g -O2  -c pairVectorRcppWrap.cpp -o pairVectorRcppWrap.o
clang++ -mmacosx-version-min=10.13 -std=gnu++11 -I"/Library/Frameworks/R.framework/Resources/include" -DNDEBUG  -I'/Library/Frameworks/R.framework/Versions/4.1/Resources/library/Rcpp/include' -I'/Library/Frameworks/R.framework/Versions/4.1/Resources/library/RcppArmadillo/include' -I'/Library/Frameworks/R.framework/Versions/4.1/Resources/library/BH/include' -I'/Library/Frameworks/R.framework/Versions/4.1/Resources/library/cytolib/include' -I'/Library/Frameworks/R.framework/Versions/4.1/Resources/library/RProtoBufLib/include' -I/usr/local/include   -fPIC  -Wall -g -O2  -c poly_centroid.cpp -o poly_centroid.o
clang++ -mmacosx-version-min=10.13 -std=gnu++11 -I"/Library/Frameworks/R.framework/Resources/include" -DNDEBUG  -I'/Library/Frameworks/R.framework/Versions/4.1/Resources/library/Rcpp/include' -I'/Library/Frameworks/R.framework/Versions/4.1/Resources/library/RcppArmadillo/include' -I'/Library/Frameworks/R.framework/Versions/4.1/Resources/library/BH/include' -I'/Library/Frameworks/R.framework/Versions/4.1/Resources/library/cytolib/include' -I'/Library/Frameworks/R.framework/Versions/4.1/Resources/library/RProtoBufLib/include' -I/usr/local/include   -fPIC  -Wall -g -O2  -c sortBytes.cpp -o sortBytes.o
clang++ -mmacosx-version-min=10.13 -std=gnu++11 -I"/Library/Frameworks/R.framework/Resources/include" -DNDEBUG  -I'/Library/Frameworks/R.framework/Versions/4.1/Resources/library/Rcpp/include' -I'/Library/Frameworks/R.framework/Versions/4.1/Resources/library/RcppArmadillo/include' -I'/Library/Frameworks/R.framework/Versions/4.1/Resources/library/BH/include' -I'/Library/Frameworks/R.framework/Versions/4.1/Resources/library/cytolib/include' -I'/Library/Frameworks/R.framework/Versions/4.1/Resources/library/RProtoBufLib/include' -I/usr/local/include   -fPIC  -Wall -g -O2  -c uint2double.cpp -o uint2double.o
clang++ -mmacosx-version-min=10.13 -std=gnu++11 -I"/Library/Frameworks/R.framework/Resources/include" -DNDEBUG  -I'/Library/Frameworks/R.framework/Versions/4.1/Resources/library/Rcpp/include' -I'/Library/Frameworks/R.framework/Versions/4.1/Resources/library/RcppArmadillo/include' -I'/Library/Frameworks/R.framework/Versions/4.1/Resources/library/BH/include' -I'/Library/Frameworks/R.framework/Versions/4.1/Resources/library/cytolib/include' -I'/Library/Frameworks/R.framework/Versions/4.1/Resources/library/RProtoBufLib/include' -I/usr/local/include   -fPIC  -Wall -g -O2  -c zeroin.cpp -o zeroin.o
clang++ -mmacosx-version-min=10.13 -std=gnu++11 -dynamiclib -Wl,-headerpad_max_install_names -undefined dynamic_lookup -single_module -multiply_defined suppress -L/Library/Frameworks/R.framework/Resources/lib -L/usr/local/lib -o flowCore.so FastLogicle.o Hyperlog.o Logicle.o RcppExports.o biexponential.o convertRawBytes.o fcsTextParse.o hyperlogTransform.o inPolygon.o inPolytope.o logicleTransform.o pairVectorRcppWrap.o poly_centroid.o sortBytes.o uint2double.o zeroin.o /Library/Frameworks/R.framework/Versions/4.1/Resources/library/cytolib/lib/libcytolib.a -F/Library/Frameworks/R.framework/.. -framework R -Wl,-framework -Wl,CoreFoundation
if [ `uname -s` = 'Darwin' ]; then install_name_tool -change /usr/local/clang4/lib/libc++.1.dylib /usr/lib/libc++.1.dylib flowCore.so; fi
installing to /Users/biocbuild/bbs-3.14-bioc/meat/flowCore.buildbin-libdir/00LOCK-flowCore/00new/flowCore/libs
** R
** data
** inst
** byte-compile and prepare package for lazy loading
** help
*** installing help indices
** building package indices
** installing vignettes
** testing if installed package can be loaded from temporary location
** checking absolute paths in shared objects and dynamic libraries
** testing if installed package can be loaded from final location
** testing if installed package keeps a record of temporary installation path
* DONE (flowCore)


>>>>>>> 
>>>>>>> FIXING LINKS FOR flowCore.buildbin-libdir/flowCore/libs/flowCore.so
>>>>>>> 

install_name_tool -change "/usr/local/lib/libgcc_s.1.dylib" "/Library/Frameworks/R.framework/Versions/4.1/Resources/lib/libgcc_s.1.dylib" "flowCore.buildbin-libdir/flowCore/libs/flowCore.so"
install_name_tool -change "/usr/local/lib/libgfortran.5.dylib" "/Library/Frameworks/R.framework/Versions/4.1/Resources/lib/libgfortran.5.dylib" "flowCore.buildbin-libdir/flowCore/libs/flowCore.so"
install_name_tool -change "/usr/local/lib/libquadmath.0.dylib" "/Library/Frameworks/R.framework/Versions/4.1/Resources/lib/libquadmath.0.dylib" "flowCore.buildbin-libdir/flowCore/libs/flowCore.so"