Back to Multiple platform build/check report for BioC 3.14
ABCDE[F]GHIJKLMNOPQRSTUVWXYZ

This page was generated on 2021-11-26 15:04:22 -0500 (Fri, 26 Nov 2021).

All results for package flowCore

To the developers/maintainers of the flowCore package:
- Please allow up to 24 hours (and sometimes 48 hours) for your latest push to git@git.bioconductor.org:packages/flowCore.git to
reflect on this report. See How and When does the builder pull? When will my changes propagate? here for more information.
- Make sure to use the following settings in order to reproduce any error or warning you see on this page.

raw results

Package 657/2083HostnameOS / ArchINSTALLBUILDCHECKBUILD BIN
flowCore 2.6.0  (landing page)
Mike Jiang
Snapshot Date: 2021-11-25 04:15:05 -0500 (Thu, 25 Nov 2021)
git_url: https://git.bioconductor.org/packages/flowCore
git_branch: RELEASE_3_14
git_last_commit: 947b975
git_last_commit_date: 2021-10-26 11:50:30 -0500 (Tue, 26 Oct 2021)
nebbiolo2Linux (Ubuntu 20.04.3 LTS) / x86_64  OK    OK    OK  UNNEEDED, same version is already published
tokay2Windows Server 2012 R2 Standard / x64  OK    OK    OK    OK  UNNEEDED, same version is already published
machv2macOS 10.14.6 Mojave / x86_64  OK    OK    OK    OK  UNNEEDED, same version is already published

Results for Bioconductor software packages that depend directly on package flowCore

QUICK STATSOS / ArchINSTALLBUILDCHECKBUILD BIN
nebbiolo2Linux (Ubuntu 20.04.3 LTS) / x86_64
0044
0044
00935
tokay2Windows Server 2012 R2 Standard / x64
0044
0044
01835
0044
machv2macOS 10.14.6 Mojave / x86_64
0044
0044
011033
0044
Package 1/44HostnameOS / ArchINSTALLBUILDCHECKBUILD BIN
CATALYST 1.18.0  (landing page)
Helena L. Crowell
git_last_commit: aa3b9c4
git_last_commit_date: 2021-10-26 12:34:36 -0500
nebbiolo2Linux (Ubuntu 20.04.3 LTS) / x86_64  OK    OK    OK  UNNEEDED, same version is already published
tokay2Windows Server 2012 R2 Standard / x64  OK    OK    OK    OK  UNNEEDED, same version is already published
machv2macOS 10.14.6 Mojave / x86_64  OK    OK    OK    OK  UNNEEDED, same version is already published
Package 2/44HostnameOS / ArchINSTALLBUILDCHECKBUILD BIN
cmapR 1.6.0  (landing page)
Ted Natoli
git_last_commit: a9d9f50
git_last_commit_date: 2021-10-26 12:58:05 -0500
nebbiolo2Linux (Ubuntu 20.04.3 LTS) / x86_64  OK    OK    OK  UNNEEDED, same version is already published
tokay2Windows Server 2012 R2 Standard / x64  OK    OK    OK    OK  UNNEEDED, same version is already published
machv2macOS 10.14.6 Mojave / x86_64  OK    OK    OK    OK  UNNEEDED, same version is already published
Package 3/44HostnameOS / ArchINSTALLBUILDCHECKBUILD BIN
CONFESS 1.22.0  (landing page)
Diana LOW
git_last_commit: f55571a
git_last_commit_date: 2021-10-26 12:26:56 -0500
nebbiolo2Linux (Ubuntu 20.04.3 LTS) / x86_64  OK    OK    WARNINGS  UNNEEDED, same version is already published
tokay2Windows Server 2012 R2 Standard / x64  OK    OK    WARNINGS    OK  UNNEEDED, same version is already published
machv2macOS 10.14.6 Mojave / x86_64  OK    OK    WARNINGS    OK  UNNEEDED, same version is already published
Package 4/44HostnameOS / ArchINSTALLBUILDCHECKBUILD BIN
cyanoFilter 1.2.0  (landing page)
Oluwafemi Olusoji
git_last_commit: f126547
git_last_commit_date: 2021-10-26 13:08:29 -0500
nebbiolo2Linux (Ubuntu 20.04.3 LTS) / x86_64  OK    OK    OK  UNNEEDED, same version is already published
tokay2Windows Server 2012 R2 Standard / x64  OK    OK    OK    OK  UNNEEDED, same version is already published
machv2macOS 10.14.6 Mojave / x86_64  OK    OK    OK    OK  UNNEEDED, same version is already published
Package 5/44HostnameOS / ArchINSTALLBUILDCHECKBUILD BIN
cydar 1.18.0  (landing page)
Aaron Lun
git_last_commit: 8dd093c
git_last_commit_date: 2021-10-26 12:34:03 -0500
nebbiolo2Linux (Ubuntu 20.04.3 LTS) / x86_64  OK    OK    OK  UNNEEDED, same version is already published
tokay2Windows Server 2012 R2 Standard / x64  OK    OK    OK    OK  UNNEEDED, same version is already published
machv2macOS 10.14.6 Mojave / x86_64  OK    OK    ERROR    OK  
Package 6/44HostnameOS / ArchINSTALLBUILDCHECKBUILD BIN
CytoDx 1.14.0  (landing page)
Zicheng Hu
git_last_commit: a0336e4
git_last_commit_date: 2021-10-26 12:43:52 -0500
nebbiolo2Linux (Ubuntu 20.04.3 LTS) / x86_64  OK    OK    OK  UNNEEDED, same version is already published
tokay2Windows Server 2012 R2 Standard / x64  OK    OK    OK    OK  UNNEEDED, same version is already published
machv2macOS 10.14.6 Mojave / x86_64  OK    OK    OK    OK  UNNEEDED, same version is already published
Package 7/44HostnameOS / ArchINSTALLBUILDCHECKBUILD BIN
CytoML 2.6.0  (landing page)
Mike Jiang
git_last_commit: a3a698e
git_last_commit_date: 2021-10-26 12:28:49 -0500
nebbiolo2Linux (Ubuntu 20.04.3 LTS) / x86_64  OK    OK    WARNINGS  UNNEEDED, same version is already published
tokay2Windows Server 2012 R2 Standard / x64  OK    OK    WARNINGS    OK  UNNEEDED, same version is already published
machv2macOS 10.14.6 Mojave / x86_64  OK    OK    WARNINGS    OK  UNNEEDED, same version is already published
Package 8/44HostnameOS / ArchINSTALLBUILDCHECKBUILD BIN
CytoTree 1.4.0  (landing page)
Yuting Dai
git_last_commit: c190c92
git_last_commit_date: 2021-10-26 13:00:49 -0500
nebbiolo2Linux (Ubuntu 20.04.3 LTS) / x86_64  OK    OK    OK  NO, package depends on 'destiny' which is not available
tokay2Windows Server 2012 R2 Standard / x64  OK    OK    OK    OK  UNNEEDED, same version is already published
machv2macOS 10.14.6 Mojave / x86_64  OK    OK    OK    OK  NO, package depends on 'destiny' which is not available
Package 9/44HostnameOS / ArchINSTALLBUILDCHECKBUILD BIN
ddPCRclust 1.14.0  (landing page)
Benedikt G. Brink
git_last_commit: ca0d23f
git_last_commit_date: 2021-10-26 12:42:09 -0500
nebbiolo2Linux (Ubuntu 20.04.3 LTS) / x86_64  OK    OK    OK  UNNEEDED, same version is already published
tokay2Windows Server 2012 R2 Standard / x64  OK    OK    OK    OK  UNNEEDED, same version is already published
machv2macOS 10.14.6 Mojave / x86_64  OK    OK    OK    OK  UNNEEDED, same version is already published
Package 10/44HostnameOS / ArchINSTALLBUILDCHECKBUILD BIN
diffcyt 1.14.0  (landing page)
Lukas M. Weber
git_last_commit: 18cad99
git_last_commit_date: 2021-10-26 12:43:31 -0500
nebbiolo2Linux (Ubuntu 20.04.3 LTS) / x86_64  OK    OK    OK  UNNEEDED, same version is already published
tokay2Windows Server 2012 R2 Standard / x64  OK    OK    OK    OK  UNNEEDED, same version is already published
machv2macOS 10.14.6 Mojave / x86_64  OK    OK    OK    OK  UNNEEDED, same version is already published
Package 11/44HostnameOS / ArchINSTALLBUILDCHECKBUILD BIN
flowAI 1.24.0  (landing page)
Gianni Monaco
git_last_commit: 7805860
git_last_commit_date: 2021-10-26 12:24:54 -0500
nebbiolo2Linux (Ubuntu 20.04.3 LTS) / x86_64  OK    OK    OK  UNNEEDED, same version is already published
tokay2Windows Server 2012 R2 Standard / x64  OK    OK    OK    OK  UNNEEDED, same version is already published
machv2macOS 10.14.6 Mojave / x86_64  OK    OK    OK    OK  UNNEEDED, same version is already published
Package 12/44HostnameOS / ArchINSTALLBUILDCHECKBUILD BIN
flowBeads 1.32.0  (landing page)
Nikolas Pontikos
git_last_commit: bfcebe6
git_last_commit_date: 2021-10-26 12:08:21 -0500
nebbiolo2Linux (Ubuntu 20.04.3 LTS) / x86_64  OK    OK    WARNINGS  UNNEEDED, same version is already published
tokay2Windows Server 2012 R2 Standard / x64  OK    OK    WARNINGS    OK  UNNEEDED, same version is already published
machv2macOS 10.14.6 Mojave / x86_64  OK    OK    WARNINGS    OK  UNNEEDED, same version is already published
Package 13/44HostnameOS / ArchINSTALLBUILDCHECKBUILD BIN
flowBin 1.30.0  (landing page)
Kieran O'Neill
git_last_commit: 0aebfe5
git_last_commit_date: 2021-10-26 12:11:19 -0500
nebbiolo2Linux (Ubuntu 20.04.3 LTS) / x86_64  OK    OK    OK  UNNEEDED, same version is already published
tokay2Windows Server 2012 R2 Standard / x64  OK    OK    OK    OK  UNNEEDED, same version is already published
machv2macOS 10.14.6 Mojave / x86_64  OK    OK    OK    OK  UNNEEDED, same version is already published
Package 14/44HostnameOS / ArchINSTALLBUILDCHECKBUILD BIN
flowCHIC 1.28.0  (landing page)
Author: Joachim Schumann
git_last_commit: 03c4f45
git_last_commit_date: 2021-10-26 12:16:56 -0500
nebbiolo2Linux (Ubuntu 20.04.3 LTS) / x86_64  OK    OK    OK  UNNEEDED, same version is already published
tokay2Windows Server 2012 R2 Standard / x64  OK    OK    OK    OK  UNNEEDED, same version is already published
machv2macOS 10.14.6 Mojave / x86_64  OK    OK    OK    OK  UNNEEDED, same version is already published
Package 15/44HostnameOS / ArchINSTALLBUILDCHECKBUILD BIN
flowClean 1.32.0  (landing page)
Kipper Fletez-Brant
git_last_commit: e9d397d
git_last_commit_date: 2021-10-26 12:13:53 -0500
nebbiolo2Linux (Ubuntu 20.04.3 LTS) / x86_64  OK    OK    WARNINGS  UNNEEDED, same version is already published
tokay2Windows Server 2012 R2 Standard / x64  OK    OK    WARNINGS    OK  UNNEEDED, same version is already published
machv2macOS 10.14.6 Mojave / x86_64  OK    OK    WARNINGS    OK  UNNEEDED, same version is already published
Package 16/44HostnameOS / ArchINSTALLBUILDCHECKBUILD BIN
flowClust 3.32.0  (landing page)
Greg Finak , Mike Jiang
git_last_commit: 2978117
git_last_commit_date: 2021-10-26 11:52:08 -0500
nebbiolo2Linux (Ubuntu 20.04.3 LTS) / x86_64  OK    OK    OK  UNNEEDED, same version is already published
tokay2Windows Server 2012 R2 Standard / x64  OK    OK    OK    OK  UNNEEDED, same version is already published
machv2macOS 10.14.6 Mojave / x86_64  OK    OK    WARNINGS    OK  UNNEEDED, same version is already published
Package 17/44HostnameOS / ArchINSTALLBUILDCHECKBUILD BIN
flowCut 1.4.0  (landing page)
Justin Meskas
git_last_commit: c75895b
git_last_commit_date: 2021-10-26 13:00:03 -0500
nebbiolo2Linux (Ubuntu 20.04.3 LTS) / x86_64  OK    OK    OK  UNNEEDED, same version is already published
tokay2Windows Server 2012 R2 Standard / x64  OK    OK    OK    OK  UNNEEDED, same version is already published
machv2macOS 10.14.6 Mojave / x86_64  OK    OK    OK    OK  UNNEEDED, same version is already published
Package 18/44HostnameOS / ArchINSTALLBUILDCHECKBUILD BIN
flowDensity 1.28.0  (landing page)
Mehrnoush Malek
git_last_commit: 26bbabf
git_last_commit_date: 2021-10-26 12:14:21 -0500
nebbiolo2Linux (Ubuntu 20.04.3 LTS) / x86_64  OK    OK    WARNINGS  UNNEEDED, same version is already published
tokay2Windows Server 2012 R2 Standard / x64  OK    OK    WARNINGS    OK  UNNEEDED, same version is already published
machv2macOS 10.14.6 Mojave / x86_64  OK    OK    WARNINGS    OK  UNNEEDED, same version is already published
Package 19/44HostnameOS / ArchINSTALLBUILDCHECKBUILD BIN
flowFP 1.52.0  (landing page)
Herb Holyst
git_last_commit: 5e0174a
git_last_commit_date: 2021-10-26 11:54:08 -0500
nebbiolo2Linux (Ubuntu 20.04.3 LTS) / x86_64  OK    OK    OK  UNNEEDED, same version is already published
tokay2Windows Server 2012 R2 Standard / x64  OK    OK    OK    OK  UNNEEDED, same version is already published
machv2macOS 10.14.6 Mojave / x86_64  OK    OK    OK    OK  UNNEEDED, same version is already published
Package 20/44HostnameOS / ArchINSTALLBUILDCHECKBUILD BIN
flowMatch 1.30.0  (landing page)
Ariful Azad
git_last_commit: 87a457c
git_last_commit_date: 2021-10-26 12:11:07 -0500
nebbiolo2Linux (Ubuntu 20.04.3 LTS) / x86_64  OK    OK    OK  UNNEEDED, same version is already published
tokay2Windows Server 2012 R2 Standard / x64  OK    OK    OK    OK  UNNEEDED, same version is already published
machv2macOS 10.14.6 Mojave / x86_64  OK    OK    OK    OK  UNNEEDED, same version is already published
Package 21/44HostnameOS / ArchINSTALLBUILDCHECKBUILD BIN
flowMeans 1.54.0  (landing page)
Nima Aghaeepour
git_last_commit: 7cdf615
git_last_commit_date: 2021-10-26 11:55:58 -0500
nebbiolo2Linux (Ubuntu 20.04.3 LTS) / x86_64  OK    OK    OK  UNNEEDED, same version is already published
tokay2Windows Server 2012 R2 Standard / x64  OK    OK    OK    OK  UNNEEDED, same version is already published
machv2macOS 10.14.6 Mojave / x86_64  OK    OK    OK    OK  UNNEEDED, same version is already published
Package 22/44HostnameOS / ArchINSTALLBUILDCHECKBUILD BIN
flowMerge 2.42.0  (landing page)
Greg Finak
git_last_commit: 9eaf3cf
git_last_commit_date: 2021-10-26 11:54:06 -0500
nebbiolo2Linux (Ubuntu 20.04.3 LTS) / x86_64  OK    OK    OK  UNNEEDED, same version is already published
tokay2Windows Server 2012 R2 Standard / x64  OK    OK    OK    OK  UNNEEDED, same version is already published
machv2macOS 10.14.6 Mojave / x86_64  OK    OK    OK    OK  UNNEEDED, same version is already published
Package 23/44HostnameOS / ArchINSTALLBUILDCHECKBUILD BIN
flowPloidy 1.20.0  (landing page)
Tyler Smith
git_last_commit: 74d74f3
git_last_commit_date: 2021-10-26 12:30:35 -0500
nebbiolo2Linux (Ubuntu 20.04.3 LTS) / x86_64  OK    OK    OK  UNNEEDED, same version is already published
tokay2Windows Server 2012 R2 Standard / x64  OK    OK    OK    OK  UNNEEDED, same version is already published
machv2macOS 10.14.6 Mojave / x86_64  OK    OK    OK    OK  UNNEEDED, same version is already published
Package 24/44HostnameOS / ArchINSTALLBUILDCHECKBUILD BIN
FlowSOM 2.2.0  (landing page)
Sofie Van Gassen
git_last_commit: 44e9c9b
git_last_commit_date: 2021-10-26 12:18:07 -0500
nebbiolo2Linux (Ubuntu 20.04.3 LTS) / x86_64  OK    OK    OK  UNNEEDED, same version is already published
tokay2Windows Server 2012 R2 Standard / x64  OK    OK    OK    OK  UNNEEDED, same version is already published
machv2macOS 10.14.6 Mojave / x86_64  OK    OK    OK    OK  UNNEEDED, same version is already published
Package 25/44HostnameOS / ArchINSTALLBUILDCHECKBUILD BIN
flowSpecs 1.8.0  (landing page)
Jakob Theorell
git_last_commit: bdf4b32
git_last_commit_date: 2021-10-26 12:54:23 -0500
nebbiolo2Linux (Ubuntu 20.04.3 LTS) / x86_64  OK    OK    OK  UNNEEDED, same version is already published
tokay2Windows Server 2012 R2 Standard / x64  OK    OK    OK    OK  UNNEEDED, same version is already published
machv2macOS 10.14.6 Mojave / x86_64  OK    OK    OK    OK  UNNEEDED, same version is already published
Package 26/44HostnameOS / ArchINSTALLBUILDCHECKBUILD BIN
flowStats 4.6.0  (landing page)
Greg Finak , Mike Jiang , Jake Wagner
git_last_commit: afc7826
git_last_commit_date: 2021-10-26 11:53:51 -0500
nebbiolo2Linux (Ubuntu 20.04.3 LTS) / x86_64  OK    OK    OK  UNNEEDED, same version is already published
tokay2Windows Server 2012 R2 Standard / x64  OK    OK    OK    OK  UNNEEDED, same version is already published
machv2macOS 10.14.6 Mojave / x86_64  OK    OK    OK    OK  UNNEEDED, same version is already published
Package 27/44HostnameOS / ArchINSTALLBUILDCHECKBUILD BIN
flowTime 1.18.0  (landing page)
R. Clay Wright
git_last_commit: ea5611b
git_last_commit_date: 2021-11-04 09:52:00 -0500
nebbiolo2Linux (Ubuntu 20.04.3 LTS) / x86_64  OK    OK    OK  UNNEEDED, same version is already published
tokay2Windows Server 2012 R2 Standard / x64  OK    OK    OK    OK  UNNEEDED, same version is already published
machv2macOS 10.14.6 Mojave / x86_64  OK    OK    OK    OK  UNNEEDED, same version is already published
Package 28/44HostnameOS / ArchINSTALLBUILDCHECKBUILD BIN
flowTrans 1.46.0  (landing page)
Greg Finak
git_last_commit: 34530f9
git_last_commit_date: 2021-10-26 11:56:10 -0500
nebbiolo2Linux (Ubuntu 20.04.3 LTS) / x86_64  OK    OK    OK  UNNEEDED, same version is already published
tokay2Windows Server 2012 R2 Standard / x64  OK    OK    OK    OK  UNNEEDED, same version is already published
machv2macOS 10.14.6 Mojave / x86_64  OK    OK    OK    OK  UNNEEDED, same version is already published
Package 29/44HostnameOS / ArchINSTALLBUILDCHECKBUILD BIN
flowUtils 1.58.0  (landing page)
Josef Spidlen
git_last_commit: 87aa66e
git_last_commit_date: 2021-10-26 11:50:32 -0500
nebbiolo2Linux (Ubuntu 20.04.3 LTS) / x86_64  OK    OK    WARNINGS  UNNEEDED, same version is already published
tokay2Windows Server 2012 R2 Standard / x64  OK    OK    WARNINGS    OK  UNNEEDED, same version is already published
machv2macOS 10.14.6 Mojave / x86_64  OK    OK    WARNINGS    OK  UNNEEDED, same version is already published
Package 30/44HostnameOS / ArchINSTALLBUILDCHECKBUILD BIN
flowViz 1.58.0  (landing page)
Mike Jiang , Jake Wagner
git_last_commit: c9fba2a
git_last_commit_date: 2021-10-26 11:50:34 -0500
nebbiolo2Linux (Ubuntu 20.04.3 LTS) / x86_64  OK    OK    OK  UNNEEDED, same version is already published
tokay2Windows Server 2012 R2 Standard / x64  OK    OK    OK    OK  UNNEEDED, same version is already published
machv2macOS 10.14.6 Mojave / x86_64  OK    OK    OK    OK  UNNEEDED, same version is already published
Package 31/44HostnameOS / ArchINSTALLBUILDCHECKBUILD BIN
flowVS 1.26.0  (landing page)
Ariful Azad
git_last_commit: 3e78d21
git_last_commit_date: 2021-10-26 13:09:01 -0500
nebbiolo2Linux (Ubuntu 20.04.3 LTS) / x86_64  OK    OK    OK  UNNEEDED, same version is already published
tokay2Windows Server 2012 R2 Standard / x64  OK    OK    OK    OK  UNNEEDED, same version is already published
machv2macOS 10.14.6 Mojave / x86_64  OK    OK    OK    OK  UNNEEDED, same version is already published
Package 32/44HostnameOS / ArchINSTALLBUILDCHECKBUILD BIN
flowWorkspace 4.6.0  (landing page)
Greg Finak , Mike Jiang
git_last_commit: 60bc06d
git_last_commit_date: 2021-10-26 11:59:12 -0500
nebbiolo2Linux (Ubuntu 20.04.3 LTS) / x86_64  OK    OK    WARNINGS  UNNEEDED, same version is already published
tokay2Windows Server 2012 R2 Standard / x64  OK    OK    WARNINGS    OK  UNNEEDED, same version is already published
machv2macOS 10.14.6 Mojave / x86_64  OK    OK    WARNINGS    OK  UNNEEDED, same version is already published
Package 33/44HostnameOS / ArchINSTALLBUILDCHECKBUILD BIN
GateFinder 1.14.0  (landing page)
Nima Aghaeepour
git_last_commit: 829cba8
git_last_commit_date: 2021-10-26 12:43:09 -0500
nebbiolo2Linux (Ubuntu 20.04.3 LTS) / x86_64  OK    OK    OK  UNNEEDED, same version is already published
tokay2Windows Server 2012 R2 Standard / x64  OK    OK    OK    OK  UNNEEDED, same version is already published
machv2macOS 10.14.6 Mojave / x86_64  OK    OK    OK    OK  UNNEEDED, same version is already published
Package 34/44HostnameOS / ArchINSTALLBUILDCHECKBUILD BIN
ggcyto 1.22.0  (landing page)
Mike Jiang ,Jake Wagner
git_last_commit: b36d93a
git_last_commit_date: 2021-10-26 12:24:41 -0500
nebbiolo2Linux (Ubuntu 20.04.3 LTS) / x86_64  OK    OK    OK  UNNEEDED, same version is already published
tokay2Windows Server 2012 R2 Standard / x64  OK    OK    OK    OK  UNNEEDED, same version is already published
machv2macOS 10.14.6 Mojave / x86_64  OK    OK    OK    OK  UNNEEDED, same version is already published
Package 35/44HostnameOS / ArchINSTALLBUILDCHECKBUILD BIN
ImmuneSpaceR 1.22.0  (landing page)
ImmuneSpace Package Maintainer
git_last_commit: 54aead9
git_last_commit_date: 2021-10-26 12:27:50 -0500
nebbiolo2Linux (Ubuntu 20.04.3 LTS) / x86_64  OK    OK    OK  UNNEEDED, same version is already published
tokay2Windows Server 2012 R2 Standard / x64  OK    OK    OK    OK  UNNEEDED, same version is already published
machv2macOS 10.14.6 Mojave / x86_64  OK    OK    OK    OK  UNNEEDED, same version is already published
Package 36/44HostnameOS / ArchINSTALLBUILDCHECKBUILD BIN
immunoClust 1.26.0  (landing page)
Till Soerensen
git_last_commit: fe68208
git_last_commit_date: 2021-10-26 12:19:10 -0500
nebbiolo2Linux (Ubuntu 20.04.3 LTS) / x86_64  OK    OK    OK  UNNEEDED, same version is already published
tokay2Windows Server 2012 R2 Standard / x64  OK    OK    OK    OK  UNNEEDED, same version is already published
machv2macOS 10.14.6 Mojave / x86_64  OK    OK    OK    OK  UNNEEDED, same version is already published
Package 37/44HostnameOS / ArchINSTALLBUILDCHECKBUILD BIN
infinityFlow 1.4.0  (landing page)
Etienne Becht
git_last_commit: 68a3242
git_last_commit_date: 2021-10-26 13:01:12 -0500
nebbiolo2Linux (Ubuntu 20.04.3 LTS) / x86_64  OK    OK    OK  UNNEEDED, same version is already published
tokay2Windows Server 2012 R2 Standard / x64  OK    OK    OK    OK  UNNEEDED, same version is already published
machv2macOS 10.14.6 Mojave / x86_64  OK    OK    OK    OK  UNNEEDED, same version is already published
Package 38/44HostnameOS / ArchINSTALLBUILDCHECKBUILD BIN
MetaCyto 1.16.0  (landing page)
Zicheng Hu
git_last_commit: 7e80a3f
git_last_commit_date: 2021-10-26 12:39:42 -0500
nebbiolo2Linux (Ubuntu 20.04.3 LTS) / x86_64  OK    OK    OK  UNNEEDED, same version is already published
tokay2Windows Server 2012 R2 Standard / x64  OK    OK    OK    OK  UNNEEDED, same version is already published
machv2macOS 10.14.6 Mojave / x86_64  OK    OK    OK    OK  UNNEEDED, same version is already published
Package 39/44HostnameOS / ArchINSTALLBUILDCHECKBUILD BIN
ncdfFlow 2.40.0  (landing page)
Mike Jiang , Jake Wagner
git_last_commit: 631576d
git_last_commit_date: 2021-10-26 12:01:16 -0500
nebbiolo2Linux (Ubuntu 20.04.3 LTS) / x86_64  OK    OK    WARNINGS  UNNEEDED, same version is already published
tokay2Windows Server 2012 R2 Standard / x64  OK    OK    WARNINGS    OK  UNNEEDED, same version is already published
machv2macOS 10.14.6 Mojave / x86_64  OK    OK    WARNINGS    OK  UNNEEDED, same version is already published
Package 40/44HostnameOS / ArchINSTALLBUILDCHECKBUILD BIN
oneSENSE 1.16.0  (landing page)
Yong Kee Tan
git_last_commit: 9a0de26
git_last_commit_date: 2021-10-26 12:36:37 -0500
nebbiolo2Linux (Ubuntu 20.04.3 LTS) / x86_64  OK    OK    WARNINGS  UNNEEDED, same version is already published
tokay2Windows Server 2012 R2 Standard / x64  OK    OK    ERROR    OK  
machv2macOS 10.14.6 Mojave / x86_64  OK    OK    WARNINGS    OK  UNNEEDED, same version is already published
Package 41/44HostnameOS / ArchINSTALLBUILDCHECKBUILD BIN
openCyto 2.6.0  (landing page)
Mike Jiang ,Jake Wagner
git_last_commit: f3e02cd
git_last_commit_date: 2021-10-26 12:10:31 -0500
nebbiolo2Linux (Ubuntu 20.04.3 LTS) / x86_64  OK    OK    OK  UNNEEDED, same version is already published
tokay2Windows Server 2012 R2 Standard / x64  OK    OK    OK    OK  UNNEEDED, same version is already published
machv2macOS 10.14.6 Mojave / x86_64  OK    OK    OK    OK  UNNEEDED, same version is already published
Package 42/44HostnameOS / ArchINSTALLBUILDCHECKBUILD BIN
PeacoQC 1.4.0  (landing page)
Annelies Emmaneel
git_last_commit: c117e80
git_last_commit_date: 2021-10-26 13:00:26 -0500
nebbiolo2Linux (Ubuntu 20.04.3 LTS) / x86_64  OK    OK    OK  UNNEEDED, same version is already published
tokay2Windows Server 2012 R2 Standard / x64  OK    OK    OK    OK  UNNEEDED, same version is already published
machv2macOS 10.14.6 Mojave / x86_64  OK    OK    OK    OK  UNNEEDED, same version is already published
Package 43/44HostnameOS / ArchINSTALLBUILDCHECKBUILD BIN
scDataviz 1.4.0  (landing page)
Kevin Blighe
git_last_commit: ef96ca1
git_last_commit_date: 2021-10-26 13:01:09 -0500
nebbiolo2Linux (Ubuntu 20.04.3 LTS) / x86_64  OK    OK    OK  UNNEEDED, same version is already published
tokay2Windows Server 2012 R2 Standard / x64  OK    OK    OK    OK  UNNEEDED, same version is already published
machv2macOS 10.14.6 Mojave / x86_64  OK    OK    OK    OK  UNNEEDED, same version is already published
Package 44/44HostnameOS / ArchINSTALLBUILDCHECKBUILD BIN
Sconify 1.14.0  (landing page)
Tyler J Burns
git_last_commit: 63a1bff
git_last_commit_date: 2021-10-26 12:42:59 -0500
nebbiolo2Linux (Ubuntu 20.04.3 LTS) / x86_64  OK    OK    OK  UNNEEDED, same version is already published
tokay2Windows Server 2012 R2 Standard / x64  OK    OK    OK    OK  UNNEEDED, same version is already published
machv2macOS 10.14.6 Mojave / x86_64  OK    OK    OK    OK  UNNEEDED, same version is already published