Back to Multiple platform build/check report for BioC 3.14
ABCDE[F]GHIJKLMNOPQRSTUVWXYZ

This page was generated on 2022-01-19 13:06:35 -0500 (Wed, 19 Jan 2022).

HostnameOSArch (*)R versionInstalled pkgs
nebbiolo2Linux (Ubuntu 20.04.4 LTS)x86_644.1.2 (2021-11-01) -- "Bird Hippie" 4328
tokay2Windows Server 2012 R2 Standardx644.1.2 (2021-11-01) -- "Bird Hippie" 4077
machv2macOS 10.14.6 Mojavex86_644.1.2 (2021-11-01) -- "Bird Hippie" 4138
Click on any hostname to see more info about the system (e.g. compilers)      (*) as reported by 'uname -p', except on Windows and Mac OS X

BUILD BIN results for flowBin on tokay2


To the developers/maintainers of the flowBin package:
- Please allow up to 24 hours (and sometimes 48 hours) for your latest push to git@git.bioconductor.org:packages/flowBin.git to
reflect on this report. See How and When does the builder pull? When will my changes propagate? here for more information.
- Make sure to use the following settings in order to reproduce any error or warning you see on this page.

raw results

Package 651/2083HostnameOS / ArchINSTALLBUILDCHECKBUILD BIN
flowBin 1.30.0  (landing page)
Kieran O'Neill
Snapshot Date: 2022-01-18 01:55:07 -0500 (Tue, 18 Jan 2022)
git_url: https://git.bioconductor.org/packages/flowBin
git_branch: RELEASE_3_14
git_last_commit: 0aebfe5
git_last_commit_date: 2021-10-26 12:11:19 -0500 (Tue, 26 Oct 2021)
nebbiolo2Linux (Ubuntu 20.04.4 LTS) / x86_64  OK    OK    OK  UNNEEDED, same version is already published
tokay2Windows Server 2012 R2 Standard / x64  OK    OK    OK    OK  UNNEEDED, same version is already published
machv2macOS 10.14.6 Mojave / x86_64  OK    OK    OK    OK  UNNEEDED, same version is already published

Summary

Package: flowBin
Version: 1.30.0
Command: rm -rf flowBin.buildbin-libdir && mkdir flowBin.buildbin-libdir && C:\Users\biocbuild\bbs-3.14-bioc\R\bin\R.exe CMD INSTALL --merge-multiarch --build --library=flowBin.buildbin-libdir flowBin_1.30.0.tar.gz
StartedAt: 2022-01-19 05:50:25 -0500 (Wed, 19 Jan 2022)
EndedAt: 2022-01-19 05:50:45 -0500 (Wed, 19 Jan 2022)
EllapsedTime: 20.8 seconds
RetCode: 0
Status:   OK  
PackageFile: flowBin_1.30.0.zip
PackageFileSize: 805.1 KiB

Command output

##############################################################################
##############################################################################
###
### Running command:
###
###   rm -rf flowBin.buildbin-libdir && mkdir flowBin.buildbin-libdir && C:\Users\biocbuild\bbs-3.14-bioc\R\bin\R.exe CMD INSTALL --merge-multiarch --build --library=flowBin.buildbin-libdir flowBin_1.30.0.tar.gz
###
##############################################################################
##############################################################################



install for i386

* installing *source* package 'flowBin' ...
** using staged installation
** R
** data
** inst
** byte-compile and prepare package for lazy loading
** help
*** installing help indices
  converting help for package 'flowBin'
    finding HTML links ... done
    BinnedFlowSample                        html  
    FlowSample                              html  
    amlsample                               html  
    checkQNorm                              html  
    eventsInBins                            html  
    flowBin                                 html  
    flowFPBin                               html  
    getBinExpr                              html  
    kMeansBin                               html  
    mapBinsKNN                              html  
    quantileNormalise                       html  
    removeSparseBins                        html  
    show-methods                            html  
** building package indices
** installing vignettes
** testing if installed package can be loaded from temporary location
** testing if installed package can be loaded from final location
** testing if installed package keeps a record of temporary installation path

install for x64

* installing *source* package 'flowBin' ...
** testing if installed package can be loaded
* MD5 sums
packaged installation of 'flowBin' as flowBin_1.30.0.zip
* DONE (flowBin)