Back to Multiple platform build/check report for BioC 3.14
ABCDE[F]GHIJKLMNOPQRSTUVWXYZ

This page was generated on 2022-01-19 13:05:23 -0500 (Wed, 19 Jan 2022).

HostnameOSArch (*)R versionInstalled pkgs
nebbiolo2Linux (Ubuntu 20.04.4 LTS)x86_644.1.2 (2021-11-01) -- "Bird Hippie" 4328
tokay2Windows Server 2012 R2 Standardx644.1.2 (2021-11-01) -- "Bird Hippie" 4077
machv2macOS 10.14.6 Mojavex86_644.1.2 (2021-11-01) -- "Bird Hippie" 4138
Click on any hostname to see more info about the system (e.g. compilers)      (*) as reported by 'uname -p', except on Windows and Mac OS X

CHECK results for flowBin on nebbiolo2


To the developers/maintainers of the flowBin package:
- Please allow up to 24 hours (and sometimes 48 hours) for your latest push to git@git.bioconductor.org:packages/flowBin.git to
reflect on this report. See How and When does the builder pull? When will my changes propagate? here for more information.
- Make sure to use the following settings in order to reproduce any error or warning you see on this page.

raw results

Package 651/2083HostnameOS / ArchINSTALLBUILDCHECKBUILD BIN
flowBin 1.30.0  (landing page)
Kieran O'Neill
Snapshot Date: 2022-01-18 01:55:07 -0500 (Tue, 18 Jan 2022)
git_url: https://git.bioconductor.org/packages/flowBin
git_branch: RELEASE_3_14
git_last_commit: 0aebfe5
git_last_commit_date: 2021-10-26 12:11:19 -0500 (Tue, 26 Oct 2021)
nebbiolo2Linux (Ubuntu 20.04.4 LTS) / x86_64  OK    OK    OK  UNNEEDED, same version is already published
tokay2Windows Server 2012 R2 Standard / x64  OK    OK    OK    OK  UNNEEDED, same version is already published
machv2macOS 10.14.6 Mojave / x86_64  OK    OK    OK    OK  UNNEEDED, same version is already published

Summary

Package: flowBin
Version: 1.30.0
Command: /home/biocbuild/bbs-3.14-bioc/R/bin/R CMD check --install=check:flowBin.install-out.txt --library=/home/biocbuild/bbs-3.14-bioc/R/library --no-vignettes --timings flowBin_1.30.0.tar.gz
StartedAt: 2022-01-18 07:29:47 -0500 (Tue, 18 Jan 2022)
EndedAt: 2022-01-18 07:31:11 -0500 (Tue, 18 Jan 2022)
EllapsedTime: 83.9 seconds
RetCode: 0
Status:   OK  
CheckDir: flowBin.Rcheck
Warnings: 0

Command output

##############################################################################
##############################################################################
###
### Running command:
###
###   /home/biocbuild/bbs-3.14-bioc/R/bin/R CMD check --install=check:flowBin.install-out.txt --library=/home/biocbuild/bbs-3.14-bioc/R/library --no-vignettes --timings flowBin_1.30.0.tar.gz
###
##############################################################################
##############################################################################


* using log directory ‘/home/biocbuild/bbs-3.14-bioc/meat/flowBin.Rcheck’
* using R version 4.1.2 (2021-11-01)
* using platform: x86_64-pc-linux-gnu (64-bit)
* using session charset: UTF-8
* using option ‘--no-vignettes’
* checking for file ‘flowBin/DESCRIPTION’ ... OK
* checking extension type ... Package
* this is package ‘flowBin’ version ‘1.30.0’
* checking package namespace information ... OK
* checking package dependencies ... OK
* checking if this is a source package ... OK
* checking if there is a namespace ... OK
* checking for hidden files and directories ... OK
* checking for portable file names ... OK
* checking for sufficient/correct file permissions ... OK
* checking whether package ‘flowBin’ can be installed ... OK
* checking installed package size ... OK
* checking package directory ... OK
* checking ‘build’ directory ... OK
* checking DESCRIPTION meta-information ... OK
* checking top-level files ... OK
* checking for left-over files ... OK
* checking index information ... OK
* checking package subdirectories ... OK
* checking R files for non-ASCII characters ... OK
* checking R files for syntax errors ... OK
* checking whether the package can be loaded ... OK
* checking whether the package can be loaded with stated dependencies ... OK
* checking whether the package can be unloaded cleanly ... OK
* checking whether the namespace can be loaded with stated dependencies ... OK
* checking whether the namespace can be unloaded cleanly ... OK
* checking dependencies in R code ... NOTE
Package in Depends field not imported from: ‘flowCore’
  These packages need to be imported from (in the NAMESPACE file)
  for when this namespace is loaded but not attached.
* checking S3 generic/method consistency ... OK
* checking replacement functions ... OK
* checking foreign function calls ... OK
* checking R code for possible problems ... NOTE
.getBinExpr.def : getBinFrame: no visible global function definition
  for ‘exprs<-’
.getBinExpr.def : getBinFrame: no visible global function definition
  for ‘exprs’
.getBinExpr.def : scaleData: no visible global function definition for
  ‘pData’
.getBinExpr.def : getOnePopExpr : extractOneTube : <anonymous>: no
  visible global function definition for ‘exprs’
.getBinExpr.def : getOnePopExpr : extractOneTube: no visible global
  function definition for ‘pData’
.getBinExpr.def : getOneBinMeds : <anonymous>: no visible global
  function definition for ‘median’
.getBinExpr.def : getOneBinMeds : <anonymous>: no visible global
  function definition for ‘exprs’
.getBinExpr.def : getOneBinMeds: no visible global function definition
  for ‘pData’
checkQNorm.func: no visible global function definition for ‘flowSet’
checkQNorm.func: no visible global function definition for ‘par’
checkQNorm.func: no visible binding for global variable ‘sd’
flowFPBin.def: no visible global function definition for ‘flowSet’
kMeansBin.def: no visible global function definition for ‘exprs’
kMeansBin.def: no visible global function definition for ‘pData’
kMeansBin.def: no visible global function definition for ‘kmeans’
mapBinsKNN.def : mapClustersKNN: no visible global function definition
  for ‘exprs’
mapBinsKNN.def: no visible global function definition for
  ‘capture.output’
mapBinsKNN.def: no visible global function definition for ‘parLapply’
medianFI: no visible global function definition for ‘median’
medianFIDist: no visible global function definition for ‘median’
proportionPositive: no visible global function definition for
  ‘quantile’
qnorm.func : normCol : <anonymous>: no visible global function
  definition for ‘exprs’
qnorm.func : normCol : getCol: no visible global function definition
  for ‘exprs’
qnorm.func : normCol : getCol: no visible global function definition
  for ‘runif’
qnorm.func : normCol : setCol: no visible global function definition
  for ‘exprs’
qnorm.func : normCol : setCol: no visible global function definition
  for ‘exprs<-’
checkQNorm,FlowSample-FlowSample: no visible global function definition
  for ‘flowSet’
checkQNorm,FlowSample-FlowSample: no visible global function definition
  for ‘par’
checkQNorm,FlowSample-FlowSample: no visible binding for global
  variable ‘sd’
flowFPBin,FlowSample: no visible global function definition for
  ‘flowSet’
getBinExpr,BinnedFlowSample : getBinFrame: no visible global function
  definition for ‘exprs<-’
getBinExpr,BinnedFlowSample : getBinFrame: no visible global function
  definition for ‘exprs’
getBinExpr,BinnedFlowSample : scaleData: no visible global function
  definition for ‘pData’
getBinExpr,BinnedFlowSample : getOnePopExpr : extractOneTube :
  <anonymous>: no visible global function definition for ‘exprs’
getBinExpr,BinnedFlowSample : getOnePopExpr : extractOneTube: no
  visible global function definition for ‘pData’
getBinExpr,BinnedFlowSample : getOneBinMeds : <anonymous>: no visible
  global function definition for ‘median’
getBinExpr,BinnedFlowSample : getOneBinMeds : <anonymous>: no visible
  global function definition for ‘exprs’
getBinExpr,BinnedFlowSample : getOneBinMeds: no visible global function
  definition for ‘pData’
kMeansBin,FlowSample: no visible global function definition for ‘exprs’
kMeansBin,FlowSample: no visible global function definition for ‘pData’
kMeansBin,FlowSample: no visible global function definition for
  ‘kmeans’
mapBinsKNN,FlowSample : mapClustersKNN: no visible global function
  definition for ‘exprs’
mapBinsKNN,FlowSample: no visible global function definition for
  ‘capture.output’
mapBinsKNN,FlowSample: no visible global function definition for
  ‘parLapply’
quantileNormalise,FlowSample : normCol : <anonymous>: no visible global
  function definition for ‘exprs’
quantileNormalise,FlowSample : normCol : getCol: no visible global
  function definition for ‘exprs’
quantileNormalise,FlowSample : normCol : getCol: no visible global
  function definition for ‘runif’
quantileNormalise,FlowSample : normCol : setCol: no visible global
  function definition for ‘exprs’
quantileNormalise,FlowSample : normCol : setCol: no visible global
  function definition for ‘exprs<-’
show,FlowSample: no visible global function definition for ‘str’
Undefined global functions or variables:
  capture.output exprs exprs<- flowSet kmeans median pData par
  parLapply quantile runif sd str
Consider adding
  importFrom("graphics", "par")
  importFrom("stats", "kmeans", "median", "quantile", "runif", "sd")
  importFrom("utils", "capture.output", "str")
to your NAMESPACE file.
* checking Rd files ... OK
* checking Rd metadata ... OK
* checking Rd cross-references ... OK
* checking for missing documentation entries ... OK
* checking for code/documentation mismatches ... OK
* checking Rd \usage sections ... OK
* checking Rd contents ... OK
* checking for unstated dependencies in examples ... OK
* checking contents of ‘data’ directory ... OK
* checking data for non-ASCII characters ... OK
* checking data for ASCII and uncompressed saves ... OK
* checking files in ‘vignettes’ ... OK
* checking examples ... OK
Examples with CPU (user + system) or elapsed time > 5s
            user system elapsed
flowBin    6.173  0.072   6.245
getBinExpr 6.164  0.063   6.228
* checking for unstated dependencies in vignettes ... OK
* checking package vignettes in ‘inst/doc’ ... OK
* checking running R code from vignettes ... SKIPPED
* checking re-building of vignette outputs ... SKIPPED
* checking PDF version of manual ... OK
* DONE

Status: 2 NOTEs
See
  ‘/home/biocbuild/bbs-3.14-bioc/meat/flowBin.Rcheck/00check.log’
for details.



Installation output

flowBin.Rcheck/00install.out

##############################################################################
##############################################################################
###
### Running command:
###
###   /home/biocbuild/bbs-3.14-bioc/R/bin/R CMD INSTALL flowBin
###
##############################################################################
##############################################################################


* installing to library ‘/home/biocbuild/bbs-3.14-bioc/R/library’
* installing *source* package ‘flowBin’ ...
** using staged installation
** R
** data
** inst
** byte-compile and prepare package for lazy loading
** help
*** installing help indices
** building package indices
** installing vignettes
** testing if installed package can be loaded from temporary location
** testing if installed package can be loaded from final location
** testing if installed package keeps a record of temporary installation path
* DONE (flowBin)

Tests output


Example timings

flowBin.Rcheck/flowBin-Ex.timings

nameusersystemelapsed
checkQNorm0.6510.1800.831
flowBin6.1730.0726.245
flowFPBin0.4730.0010.473
getBinExpr6.1640.0636.228
kMeansBin0.3360.0120.349
mapBinsKNN0.1790.0080.188
quantileNormalise0.3840.0040.388