Back to Multiple platform build/check report for BioC 3.14
ABCDE[F]GHIJKLMNOPQRSTUVWXYZ

This page was generated on 2021-12-03 13:05:46 -0500 (Fri, 03 Dec 2021).

BUILD BIN results for flowBeads on machv2

To the developers/maintainers of the flowBeads package:
- Please allow up to 24 hours (and sometimes 48 hours) for your latest push to git@git.bioconductor.org:packages/flowBeads.git to
reflect on this report. See How and When does the builder pull? When will my changes propagate? here for more information.
- Make sure to use the following settings in order to reproduce any error or warning you see on this page.

raw results

Package 650/2083HostnameOS / ArchINSTALLBUILDCHECKBUILD BIN
flowBeads 1.32.0  (landing page)
Nikolas Pontikos
Snapshot Date: 2021-12-02 01:55:06 -0500 (Thu, 02 Dec 2021)
git_url: https://git.bioconductor.org/packages/flowBeads
git_branch: RELEASE_3_14
git_last_commit: bfcebe6
git_last_commit_date: 2021-10-26 12:08:21 -0500 (Tue, 26 Oct 2021)
nebbiolo2Linux (Ubuntu 20.04.3 LTS) / x86_64  OK    OK    WARNINGS  UNNEEDED, same version is already published
tokay2Windows Server 2012 R2 Standard / x64  OK    OK    WARNINGS    OK  UNNEEDED, same version is already published
machv2macOS 10.14.6 Mojave / x86_64  OK    OK    WARNINGS    OK  UNNEEDED, same version is already published

Summary

Package: flowBeads
Version: 1.32.0
Command: rm -rf flowBeads.buildbin-libdir && mkdir flowBeads.buildbin-libdir && /Users/biocbuild/BBS/utils/build-universal.sh flowBeads_1.32.0.tar.gz /Library/Frameworks/R.framework/Resources/bin/R flowBeads.buildbin-libdir
StartedAt: 2021-12-02 22:04:44 -0500 (Thu, 02 Dec 2021)
EndedAt: 2021-12-02 22:06:00 -0500 (Thu, 02 Dec 2021)
EllapsedTime: 76.4 seconds
RetCode: 0
Status:   OK  
PackageFile: flowBeads_1.32.0.tgz
PackageFileSize: 1.138 MiB

Command output

##############################################################################
##############################################################################
###
### Running command:
###
###   rm -rf flowBeads.buildbin-libdir && mkdir flowBeads.buildbin-libdir && /Users/biocbuild/BBS/utils/build-universal.sh flowBeads_1.32.0.tar.gz /Library/Frameworks/R.framework/Resources/bin/R flowBeads.buildbin-libdir
###
##############################################################################
##############################################################################


>>>>>>> 
>>>>>>> INSTALLATION WITH 'R CMD INSTALL --preclean --no-multiarch --library=flowBeads.buildbin-libdir flowBeads_1.32.0.tar.gz'
>>>>>>> 

* installing *source* package ‘flowBeads’ ...
** using staged installation
** R
** data
** inst
** byte-compile and prepare package for lazy loading
** help
*** installing help indices
** building package indices
** installing vignettes
** testing if installed package can be loaded from temporary location
** testing if installed package can be loaded from final location
** testing if installed package keeps a record of temporary installation path
* DONE (flowBeads)