Back to Multiple platform build/check report for BioC 3.14
ABCDE[F]GHIJKLMNOPQRSTUVWXYZ

This page was generated on 2022-01-17 13:06:15 -0500 (Mon, 17 Jan 2022).

HostnameOSArch (*)R versionInstalled pkgs
nebbiolo2Linux (Ubuntu 20.04.4 LTS)x86_644.1.2 (2021-11-01) -- "Bird Hippie" 4328
tokay2Windows Server 2012 R2 Standardx644.1.2 (2021-11-01) -- "Bird Hippie" 4077
machv2macOS 10.14.6 Mojavex86_644.1.2 (2021-11-01) -- "Bird Hippie" 4138
Click on any hostname to see more info about the system (e.g. compilers)      (*) as reported by 'uname -p', except on Windows and Mac OS X

CHECK results for flowAI on tokay2


To the developers/maintainers of the flowAI package:
- Please allow up to 24 hours (and sometimes 48 hours) for your latest push to git@git.bioconductor.org:packages/flowAI.git to
reflect on this report. See How and When does the builder pull? When will my changes propagate? here for more information.
- Make sure to use the following settings in order to reproduce any error or warning you see on this page.

raw results

Package 649/2083HostnameOS / ArchINSTALLBUILDCHECKBUILD BIN
flowAI 1.24.0  (landing page)
Gianni Monaco
Snapshot Date: 2022-01-16 01:55:05 -0500 (Sun, 16 Jan 2022)
git_url: https://git.bioconductor.org/packages/flowAI
git_branch: RELEASE_3_14
git_last_commit: 7805860
git_last_commit_date: 2021-10-26 12:24:54 -0500 (Tue, 26 Oct 2021)
nebbiolo2Linux (Ubuntu 20.04.4 LTS) / x86_64  OK    OK    OK  UNNEEDED, same version is already published
tokay2Windows Server 2012 R2 Standard / x64  OK    OK    OK    OK  UNNEEDED, same version is already published
machv2macOS 10.14.6 Mojave / x86_64  OK    OK    OK    OK  UNNEEDED, same version is already published

Summary

Package: flowAI
Version: 1.24.0
Command: C:\Users\biocbuild\bbs-3.14-bioc\R\bin\R.exe CMD check --force-multiarch --install=check:flowAI.install-out.txt --library=C:\Users\biocbuild\bbs-3.14-bioc\R\library --no-vignettes --timings flowAI_1.24.0.tar.gz
StartedAt: 2022-01-16 20:40:37 -0500 (Sun, 16 Jan 2022)
EndedAt: 2022-01-16 20:42:21 -0500 (Sun, 16 Jan 2022)
EllapsedTime: 103.8 seconds
RetCode: 0
Status:   OK  
CheckDir: flowAI.Rcheck
Warnings: 0

Command output

##############################################################################
##############################################################################
###
### Running command:
###
###   C:\Users\biocbuild\bbs-3.14-bioc\R\bin\R.exe CMD check --force-multiarch --install=check:flowAI.install-out.txt --library=C:\Users\biocbuild\bbs-3.14-bioc\R\library --no-vignettes --timings flowAI_1.24.0.tar.gz
###
##############################################################################
##############################################################################


* using log directory 'C:/Users/biocbuild/bbs-3.14-bioc/meat/flowAI.Rcheck'
* using R version 4.1.2 (2021-11-01)
* using platform: x86_64-w64-mingw32 (64-bit)
* using session charset: ISO8859-1
* using option '--no-vignettes'
* checking for file 'flowAI/DESCRIPTION' ... OK
* checking extension type ... Package
* this is package 'flowAI' version '1.24.0'
* package encoding: UTF-8
* checking package namespace information ... OK
* checking package dependencies ... OK
* checking if this is a source package ... OK
* checking if there is a namespace ... OK
* checking for hidden files and directories ... OK
* checking for portable file names ... OK
* checking whether package 'flowAI' can be installed ... OK
* checking installed package size ... OK
* checking package directory ... OK
* checking 'build' directory ... OK
* checking DESCRIPTION meta-information ... OK
* checking top-level files ... OK
* checking for left-over files ... OK
* checking index information ... OK
* checking package subdirectories ... OK
* checking R files for non-ASCII characters ... OK
* checking R files for syntax errors ... OK
* loading checks for arch 'i386'
** checking whether the package can be loaded ... OK
** checking whether the package can be loaded with stated dependencies ... OK
** checking whether the package can be unloaded cleanly ... OK
** checking whether the namespace can be loaded with stated dependencies ... OK
** checking whether the namespace can be unloaded cleanly ... OK
* loading checks for arch 'x64'
** checking whether the package can be loaded ... OK
** checking whether the package can be loaded with stated dependencies ... OK
** checking whether the package can be unloaded cleanly ... OK
** checking whether the namespace can be loaded with stated dependencies ... OK
** checking whether the namespace can be unloaded cleanly ... OK
* checking dependencies in R code ... OK
* checking S3 generic/method consistency ... OK
* checking replacement functions ... OK
* checking foreign function calls ... OK
* checking R code for possible problems ... NOTE
anomaly_detection: no visible binding for global variable 'IQR'
Undefined global functions or variables:
  IQR
Consider adding
  importFrom("stats", "IQR")
to your NAMESPACE file.
* checking Rd files ... OK
* checking Rd metadata ... OK
* checking Rd cross-references ... OK
* checking for missing documentation entries ... OK
* checking for code/documentation mismatches ... OK
* checking Rd \usage sections ... OK
* checking Rd contents ... OK
* checking for unstated dependencies in examples ... OK
* checking contents of 'data' directory ... OK
* checking data for non-ASCII characters ... OK
* checking LazyData ... OK
* checking data for ASCII and uncompressed saves ... OK
* checking files in 'vignettes' ... OK
* checking examples ...
** running examples for arch 'i386' ... OK
** running examples for arch 'x64' ... OK
* checking for unstated dependencies in vignettes ... OK
* checking package vignettes in 'inst/doc' ... OK
* checking running R code from vignettes ... SKIPPED
* checking re-building of vignette outputs ... SKIPPED
* checking PDF version of manual ... OK
* DONE

Status: 1 NOTE
See
  'C:/Users/biocbuild/bbs-3.14-bioc/meat/flowAI.Rcheck/00check.log'
for details.



Installation output

flowAI.Rcheck/00install.out

##############################################################################
##############################################################################
###
### Running command:
###
###   C:\cygwin\bin\curl.exe -O http://155.52.207.166/BBS/3.14/bioc/src/contrib/flowAI_1.24.0.tar.gz && rm -rf flowAI.buildbin-libdir && mkdir flowAI.buildbin-libdir && C:\Users\biocbuild\bbs-3.14-bioc\R\bin\R.exe CMD INSTALL --merge-multiarch --build --library=flowAI.buildbin-libdir flowAI_1.24.0.tar.gz && C:\Users\biocbuild\bbs-3.14-bioc\R\bin\R.exe CMD INSTALL flowAI_1.24.0.zip && rm flowAI_1.24.0.tar.gz flowAI_1.24.0.zip
###
##############################################################################
##############################################################################


  % Total    % Received % Xferd  Average Speed   Time    Time     Time  Current
                                 Dload  Upload   Total   Spent    Left  Speed

  0     0    0     0    0     0      0      0 --:--:-- --:--:-- --:--:--     0
  0     0    0     0    0     0      0      0 --:--:--  0:00:01 --:--:--     0
  0     0    0     0    0     0      0      0 --:--:--  0:00:02 --:--:--     0
  0 3409k    0  5185    0     0   1849      0  0:31:28  0:00:02  0:31:26  1849
 23 3409k   23  815k    0     0   203k      0  0:00:16  0:00:04  0:00:12  203k
 23 3409k   23  815k    0     0   162k      0  0:00:21  0:00:05  0:00:16  162k
 23 3409k   23  815k    0     0   134k      0  0:00:25  0:00:06  0:00:19  168k
 23 3409k   23  815k    0     0   115k      0  0:00:29  0:00:07  0:00:22  168k
 23 3409k   23  815k    0     0   100k      0  0:00:33  0:00:08  0:00:25  153k
 23 3409k   23  815k    0     0  91799      0  0:00:38  0:00:09  0:00:29     0
 30 3409k   30 1026k    0     0   107k      0  0:00:31  0:00:09  0:00:22 47753
100 3409k  100 3409k    0     0   345k      0  0:00:09  0:00:09 --:--:--  679k

install for i386

* installing *source* package 'flowAI' ...
** using staged installation
** R
** data
*** moving datasets to lazyload DB
** inst
** byte-compile and prepare package for lazy loading
** help
*** installing help indices
  converting help for package 'flowAI'
    finding HTML links ... done
    Bcells                                  html  
    flow_auto_qc                            html  
    flow_iQC                                html  
** building package indices
** installing vignettes
** testing if installed package can be loaded from temporary location
** testing if installed package can be loaded from final location
** testing if installed package keeps a record of temporary installation path

install for x64

* installing *source* package 'flowAI' ...
** testing if installed package can be loaded
* MD5 sums
packaged installation of 'flowAI' as flowAI_1.24.0.zip
* DONE (flowAI)
* installing to library 'C:/Users/biocbuild/bbs-3.14-bioc/R/library'
package 'flowAI' successfully unpacked and MD5 sums checked

Tests output


Example timings

flowAI.Rcheck/examples_i386/flowAI-Ex.timings

nameusersystemelapsed
flow_auto_qc1.730.141.88
flow_iQC000

flowAI.Rcheck/examples_x64/flowAI-Ex.timings

nameusersystemelapsed
flow_auto_qc1.900.212.11
flow_iQC000